- using R Under development (unstable) (2023-01-29 r83721 ucrt)
- using platform: x86_64-w64-mingw32 (64-bit)
- R was compiled by
gcc.exe (GCC) 12.2.0
GNU Fortran (GCC) 12.2.0
- running under: Windows Server 2022 x64 (build 20348)
- using session charset: UTF-8
- checking for file 'zoo/DESCRIPTION' ... OK
- this is package 'zoo' version '1.8-11'
- checking package namespace information ... OK
- checking package dependencies ... OK
- checking if this is a source package ... OK
- checking if there is a namespace ... OK
- checking for hidden files and directories ... OK
- checking for portable file names ... OK
- checking whether package 'zoo' can be installed ... OK
- used C compiler: 'gcc.exe (GCC) 12.2.0'
- checking installed package size ... OK
- checking package directory ... OK
- checking 'build' directory ... OK
- checking DESCRIPTION meta-information ... OK
- checking top-level files ... OK
- checking for left-over files ... OK
- checking index information ... OK
- checking package subdirectories ... OK
- checking R files for non-ASCII characters ... OK
- checking R files for syntax errors ... OK
- checking whether the package can be loaded ... [1s] OK
- checking whether the package can be loaded with stated dependencies ... [0s] OK
- checking whether the package can be unloaded cleanly ... [0s] OK
- checking whether the namespace can be loaded with stated dependencies ... [0s] OK
- checking whether the namespace can be unloaded cleanly ... [1s] OK
- checking loading without being on the library search path ... [1s] OK
- checking use of S3 registration ... OK
- checking dependencies in R code ... OK
- checking S3 generic/method consistency ... OK
- checking replacement functions ... OK
- checking foreign function calls ... OK
- checking R code for possible problems ... [17s] OK
- checking Rd files ... [4s] OK
- checking Rd metadata ... OK
- checking Rd cross-references ... OK
- checking for missing documentation entries ... OK
- checking for code/documentation mismatches ... OK
- checking Rd \usage sections ... OK
- checking Rd contents ... OK
- checking for unstated dependencies in examples ... OK
- checking line endings in C/C++/Fortran sources/headers ... OK
- checking line endings in Makefiles ... OK
- checking compilation flags in Makevars ... OK
- checking for GNU extensions in Makefiles ... OK
- checking for portable use of $(BLAS_LIBS) and $(LAPACK_LIBS) ... OK
- checking use of PKG_*FLAGS in Makefiles ... OK
- checking pragmas in C/C++ headers and code ... OK
- checking compiled code ... OK
- checking sizes of PDF files under 'inst/doc' ... OK
- checking installed files from 'inst/doc' ... OK
- checking files in 'vignettes' ... OK
- checking examples ... [10s] OK
- checking differences from 'zoo-Ex.Rout' to 'zoo-Ex.Rout.save' ... OK
174c174
< 1970-01-01 1970-01-01 00:10:00 1970-01-01 00:20:00 1970-01-01 00:30:00
---
> 1970-01-01 00:00:00 1970-01-01 00:10:00 1970-01-01 00:20:00 1970-01-01 00:30:00
540d539
< Warning: `qplot()` was deprecated in ggplot2 3.4.0.
1721c1720
< 2013-11-24 12:41:21 2013-12-25 12:41:22.25 2013-12-26 12:41:22.75
---
> 2013-11-24 12:41:21 2013-12-25 12:41:22 2013-12-26 12:41:22
1724c1723
< 2013-11-24 12:41:21 2013-12-25 12:41:22.25 2013-12-26 12:41:22.75
---
> 2013-11-24 12:41:21 2013-12-25 12:41:22 2013-12-26 12:41:22
1727c1726
< 2013-11-24 12:41:21 2013-12-25 12:41:22.25 2013-12-26 12:41:22.75
---
> 2013-11-24 12:41:21 2013-12-25 12:41:22 2013-12-26 12:41:22
2430c2429
< 1999-12-31 23:00:00 2000-01-01
---
> 1999-12-31 23:00:00 2000-01-01 00:00:00
2433c2432
< 1999-12-31 23:00:00 2000-01-01 2000-01-01 00:00:00.1
---
> 1999-12-31 23:00:00 2000-01-01 00:00:00 2000-01-01 00:00:00
- checking for unstated dependencies in 'tests' ... OK
- checking tests ... [9s] OK
Running 'as.Date.R' [2s]
Comparing 'as.Date.Rout' to 'as.Date.Rout.save' ... OK
Running 'bugfixes.R' [1s]
Comparing 'bugfixes.Rout' to 'bugfixes.Rout.save' ... OK
Running 'na.fill.R' [1s]
Comparing 'na.fill.Rout' to 'na.fill.Rout.save' ... OK
Running 'na.locf.R' [1s]
Comparing 'na.locf.Rout' to 'na.locf.Rout.save' ... OK
Running 'vignette-zoo-quickref.R' [1s]
Comparing 'vignette-zoo-quickref.Rout' to 'vignette-zoo-quickref.Rout.save' ... OK
Running 'vignette-zoo.R' [2s]
Comparing 'vignette-zoo.Rout' to 'vignette-zoo.Rout.save' ... OK
- checking for unstated dependencies in vignettes ... OK
- checking package vignettes in 'inst/doc' ... OK
- checking re-building of vignette outputs ... [117s] OK
- checking PDF version of manual ... [29s] OK
- checking HTML version of manual ... [9s] OK
- DONE
Status: OK