- using R Under development (unstable) (2025-10-31 r88977 ucrt)
- using platform: x86_64-w64-mingw32
- R was compiled by
gcc.exe (GCC) 14.3.0
GNU Fortran (GCC) 14.3.0
- running under: Windows Server 2022 x64 (build 20348)
- using session charset: UTF-8
- checking for file 'ursa/DESCRIPTION' ... OK
- checking extension type ... Package
- this is package 'ursa' version '3.11.4'
- checking package namespace information ... OK
- checking package dependencies ... OK
- checking if this is a source package ... OK
- checking if there is a namespace ... OK
- checking for hidden files and directories ... OK
- checking for portable file names ... OK
- checking whether package 'ursa' can be installed ... OK
See the install log for details.
- used C compiler: 'gcc.exe (GCC) 14.3.0'
- checking installed package size ... OK
- checking package directory ... OK
- checking DESCRIPTION meta-information ... OK
- checking top-level files ... OK
- checking for left-over files ... OK
- checking index information ... OK
- checking package subdirectories ... OK
- checking code files for non-ASCII characters ... OK
- checking R files for syntax errors ... OK
- checking whether the package can be loaded ... [0s] OK
- checking whether the package can be loaded with stated dependencies ... [0s] OK
- checking whether the package can be unloaded cleanly ... [0s] OK
- checking whether the namespace can be loaded with stated dependencies ... [0s] OK
- checking whether the namespace can be unloaded cleanly ... [0s] OK
- checking loading without being on the library search path ... [0s] OK
- checking whether startup messages can be suppressed ... [0s] OK
- checking use of S3 registration ... OK
- checking dependencies in R code ... OK
- checking S3 generic/method consistency ... OK
- checking replacement functions ... OK
- checking foreign function calls ... OK
- checking R code for possible problems ... [66s] OK
- checking Rd files ... [3s] NOTE
checkRd: (-1) identify.Rd:32-49: Only 4 columns allowed in this table (row 1 has 3)
checkRd: (-1) identify.Rd:32-49: Only 4 columns allowed in this table (row 4 has 1)
checkRd: (-1) ursa_as.Rd:27-45: Only 3 columns allowed in this table (row 1 has 2)
checkRd: (-1) ursa_as.Rd:27-45: Only 3 columns allowed in this table (row 2 has 2)
checkRd: (-1) ursa_as.Rd:27-45: Only 3 columns allowed in this table (row 3 has 2)
checkRd: (-1) ursa_as.Rd:27-45: Only 3 columns allowed in this table (row 4 has 2)
checkRd: (-1) ursa_as.Rd:27-45: Only 3 columns allowed in this table (row 5 has 2)
checkRd: (-1) ursa_as.Rd:27-45: Only 3 columns allowed in this table (row 6 has 2)
checkRd: (-1) ursa_as.Rd:27-45: Only 3 columns allowed in this table (row 7 has 2)
checkRd: (-1) ursa_as.Rd:27-45: Only 3 columns allowed in this table (row 8 has 2)
checkRd: (-1) ursa_as.Rd:27-45: Only 3 columns allowed in this table (row 9 has 2)
checkRd: (-1) ursa_as.Rd:27-45: Only 3 columns allowed in this table (row 10 has 2)
checkRd: (-1) ursa_as.Rd:27-45: Only 3 columns allowed in this table (row 11 has 2)
checkRd: (-1) ursa_as.Rd:27-45: Only 3 columns allowed in this table (row 12 has 2)
checkRd: (-1) ursa_as.Rd:27-45: Only 3 columns allowed in this table (row 13 has 2)
checkRd: (-1) ursa_as.Rd:27-45: Only 3 columns allowed in this table (row 14 has 2)
checkRd: (-1) ursa_as.Rd:27-45: Only 3 columns allowed in this table (row 15 has 2)
checkRd: (-1) ursa_as.Rd:27-45: Only 3 columns allowed in this table (row 16 has 2)
checkRd: (-1) ursa_as.Rd:27-45: Only 3 columns allowed in this table (row 17 has 2)
- checking Rd metadata ... OK
- checking Rd cross-references ... OK
- checking for missing documentation entries ... OK
- checking for code/documentation mismatches ... OK
- checking Rd \usage sections ... OK
- checking Rd contents ... OK
- checking for unstated dependencies in examples ... OK
- checking line endings in C/C++/Fortran sources/headers ... OK
- checking pragmas in C/C++ headers and code ... OK
- checking compiled code ... OK
- checking examples ... [214s] OK
- checking PDF version of manual ... [28s] OK
- checking HTML version of manual ... [25s] OK
- DONE
Status: 1 NOTE