- using R Under development (unstable) (2024-04-23 r86473 ucrt)
- using platform: x86_64-w64-mingw32
- R was compiled by
gcc.exe (GCC) 13.2.0
GNU Fortran (GCC) 13.2.0
- running under: Windows Server 2022 x64 (build 20348)
- using session charset: UTF-8
- checking for file 'svs/DESCRIPTION' ... OK
- this is package 'svs' version '3.0.0'
- package encoding: UTF-8
- checking package namespace information ... OK
- checking package dependencies ... OK
- checking if this is a source package ... OK
- checking if there is a namespace ... OK
- checking for hidden files and directories ... OK
- checking for portable file names ... OK
- checking whether package 'svs' can be installed ... OK
See the install log for details.
- checking installed package size ... OK
- checking package directory ... OK
- checking DESCRIPTION meta-information ... OK
- checking top-level files ... OK
- checking for left-over files ... OK
- checking index information ... OK
- checking package subdirectories ... OK
- checking code files for non-ASCII characters ... OK
- checking R files for syntax errors ... OK
- checking whether the package can be loaded ... [2s] OK
- checking whether the package can be loaded with stated dependencies ... [1s] OK
- checking whether the package can be unloaded cleanly ... [2s] OK
- checking whether the namespace can be loaded with stated dependencies ... [1s] OK
- checking whether the namespace can be unloaded cleanly ... [2s] OK
- checking loading without being on the library search path ... [1s] OK
- checking use of S3 registration ... OK
- checking dependencies in R code ... OK
- checking S3 generic/method consistency ... OK
- checking replacement functions ... OK
- checking foreign function calls ... OK
- checking R code for possible problems ... [6s] OK
- checking Rd files ... [1s] NOTE
checkRd: (-1) InvT_Eng.txt.Rd:10: Lost braces in \itemize; meant \describe ?
checkRd: (-1) InvT_Eng.txt.Rd:11: Lost braces in \itemize; meant \describe ?
checkRd: (-1) InvT_Fra.txt.Rd:10: Lost braces in \itemize; meant \describe ?
checkRd: (-1) InvT_Fra.txt.Rd:11: Lost braces in \itemize; meant \describe ?
checkRd: (-1) SndT_Eng.txt.Rd:10: Lost braces in \itemize; meant \describe ?
checkRd: (-1) SndT_Eng.txt.Rd:11: Lost braces in \itemize; meant \describe ?
checkRd: (-1) SndT_Fra.txt.Rd:10: Lost braces in \itemize; meant \describe ?
checkRd: (-1) SndT_Fra.txt.Rd:11: Lost braces in \itemize; meant \describe ?
checkRd: (-1) svs-package.Rd:18: Lost braces in \itemize; meant \describe ?
checkRd: (-1) svs-package.Rd:19: Lost braces in \itemize; meant \describe ?
checkRd: (-1) svs-package.Rd:20: Lost braces in \itemize; meant \describe ?
checkRd: (-1) svs-package.Rd:21: Lost braces in \itemize; meant \describe ?
checkRd: (-1) svs-package.Rd:22: Lost braces in \itemize; meant \describe ?
checkRd: (-1) svs-package.Rd:23: Lost braces in \itemize; meant \describe ?
checkRd: (-1) svs-package.Rd:24: Lost braces in \itemize; meant \describe ?
checkRd: (-1) svs-package.Rd:28: Lost braces in \itemize; meant \describe ?
checkRd: (-1) svs-package.Rd:29: Lost braces in \itemize; meant \describe ?
checkRd: (-1) svs-package.Rd:30: Lost braces in \itemize; meant \describe ?
checkRd: (-1) svs-package.Rd:31: Lost braces in \itemize; meant \describe ?
checkRd: (-1) svs-package.Rd:32: Lost braces in \itemize; meant \describe ?
checkRd: (-1) svs-package.Rd:33: Lost braces in \itemize; meant \describe ?
checkRd: (-1) svs-package.Rd:34: Lost braces in \itemize; meant \describe ?
checkRd: (-1) svs-package.Rd:35: Lost braces in \itemize; meant \describe ?
checkRd: (-1) svs-package.Rd:36: Lost braces in \itemize; meant \describe ?
checkRd: (-1) svs-package.Rd:37: Lost braces in \itemize; meant \describe ?
checkRd: (-1) svs-package.Rd:44: Lost braces in \itemize; meant \describe ?
checkRd: (-1) svs-package.Rd:45: Lost braces in \itemize; meant \describe ?
checkRd: (-1) svs-package.Rd:46: Lost braces in \itemize; meant \describe ?
checkRd: (-1) svs-package.Rd:47: Lost braces in \itemize; meant \describe ?
checkRd: (-1) svs-package.Rd:52: Lost braces in \itemize; meant \describe ?
checkRd: (-1) svs-package.Rd:53: Lost braces in \itemize; meant \describe ?
checkRd: (-1) svs-package.Rd:58: Lost braces in \itemize; meant \describe ?
checkRd: (-1) svs-package.Rd:59: Lost braces in \itemize; meant \describe ?
checkRd: (-1) svs-package.Rd:64: Lost braces in \itemize; meant \describe ?
checkRd: (-1) svs-package.Rd:69: Lost braces in \itemize; meant \describe ?
checkRd: (-1) svs-package.Rd:70: Lost braces in \itemize; meant \describe ?
checkRd: (-1) svs-package.Rd:71: Lost braces in \itemize; meant \describe ?
checkRd: (-1) svs-package.Rd:72: Lost braces in \itemize; meant \describe ?
checkRd: (-1) svs-package.Rd:73: Lost braces in \itemize; meant \describe ?
checkRd: (-1) svs-package.Rd:74: Lost braces in \itemize; meant \describe ?
checkRd: (-1) svs-package.Rd:75: Lost braces in \itemize; meant \describe ?
checkRd: (-1) weighting_functions.Rd:55: Lost braces in \itemize; meant \describe ?
checkRd: (-1) weighting_functions.Rd:56: Lost braces in \itemize; meant \describe ?
checkRd: (-1) weighting_functions.Rd:57: Lost braces in \itemize; meant \describe ?
checkRd: (-1) weighting_functions.Rd:58: Lost braces in \itemize; meant \describe ?
checkRd: (-1) weighting_functions.Rd:64: Lost braces in \itemize; meant \describe ?
checkRd: (-1) weighting_functions.Rd:65: Lost braces in \itemize; meant \describe ?
checkRd: (-1) weighting_functions.Rd:66: Lost braces in \itemize; meant \describe ?
checkRd: (-1) weighting_functions.Rd:67: Lost braces in \itemize; meant \describe ?
checkRd: (-1) weighting_functions.Rd:68: Lost braces in \itemize; meant \describe ?
checkRd: (-1) weighting_functions.Rd:69: Lost braces in \itemize; meant \describe ?
checkRd: (-1) weighting_functions.Rd:70: Lost braces in \itemize; meant \describe ?
- checking Rd metadata ... OK
- checking Rd cross-references ... OK
- checking for missing documentation entries ... OK
- checking for code/documentation mismatches ... OK
- checking Rd \usage sections ... OK
- checking Rd contents ... OK
- checking for unstated dependencies in examples ... OK
- checking LazyData ... NOTE
'LazyData' is specified without a 'data' directory
- checking examples ... [11s] OK
- checking PDF version of manual ... [29s] OK
- checking HTML version of manual ... [6s] OK
- DONE
Status: 2 NOTEs