- using R Under development (unstable) (2023-11-26 r85638 ucrt)
- using platform: x86_64-w64-mingw32
- R was compiled by
gcc.exe (GCC) 12.3.0
GNU Fortran (GCC) 12.3.0
- running under: Windows Server 2022 x64 (build 20348)
- using session charset: UTF-8
- checking for file 'sportyR/DESCRIPTION' ... OK
- this is package 'sportyR' version '2.2.1'
- package encoding: UTF-8
- checking package namespace information ... OK
- checking package dependencies ... OK
- checking if this is a source package ... OK
- checking if there is a namespace ... OK
- checking for hidden files and directories ... OK
- checking for portable file names ... OK
- checking whether package 'sportyR' can be installed ... OK
See the install log for details.
- checking installed package size ... OK
- checking package directory ... OK
- checking 'build' directory ... OK
- checking DESCRIPTION meta-information ... OK
- checking top-level files ... OK
- checking for left-over files ... OK
- checking index information ... OK
- checking package subdirectories ... OK
- checking R files for non-ASCII characters ... OK
- checking R files for syntax errors ... OK
- checking whether the package can be loaded ... [0s] OK
- checking whether the package can be loaded with stated dependencies ... [0s] OK
- checking whether the package can be unloaded cleanly ... [1s] OK
- checking whether the namespace can be loaded with stated dependencies ... [0s] OK
- checking whether the namespace can be unloaded cleanly ... [1s] OK
- checking loading without being on the library search path ... [1s] OK
- checking use of S3 registration ... OK
- checking dependencies in R code ... OK
- checking S3 generic/method consistency ... OK
- checking replacement functions ... OK
- checking foreign function calls ... OK
- checking R code for possible problems ... [14s] OK
- checking Rd files ... [2s] OK
- checking Rd metadata ... OK
- checking Rd cross-references ... OK
- checking for missing documentation entries ... OK
- checking for code/documentation mismatches ... OK
- checking Rd \usage sections ... NOTE
Documented arguments not in \usage in Rd file 'basketball_center_circle_fill.Rd':
'linethickness'
Documented arguments not in \usage in Rd file 'basketball_free_throw_circle_dash.Rd':
'end_angleThe'
Documented arguments not in \usage in Rd file 'basketball_painted_area.Rd':
'free_throw_lane_boundary_line_thickness'
Documented arguments not in \usage in Rd file 'curling_features_set_colors.Rd':
'sheet' 'ring_1' 'ring_2' 'ring_3'
Documented arguments not in \usage in Rd file 'football_field_border.Rd':
'boundary_thickness'
Documented arguments not in \usage in Rd file 'football_field_border_outline.Rd':
'boundary_thickness'
Documented arguments not in \usage in Rd file 'hockey_features_set_colors.Rd':
'boards_color' 'center_line_color' 'blue_line_color'
'goal_line_color' 'goalkeepers_restricted_area_color'
'goal_crease_outline_color' 'goal_crease_fill_color'
'referee_crease_color' 'center_faceoff_spot_color'
'faceoff_spot_outer_ring_color' 'faceoff_spot_fill_color'
'center_faceoff_circle_color' 'non_center_faceoff_circle_color'
'faceoff_line_color' 'goal_color' 'goal_fill_color'
Documented arguments not in \usage in Rd file 'lacrosse_off_field_officials_box.Rd':
'feature_thickness'
Documented arguments not in \usage in Rd file 'lacrosse_penalty_box_outline.Rd':
'feature_thickness'
Functions with \usage entries need to have the appropriate \alias
entries, and all their arguments documented.
The \usage entries must correspond to syntactically valid R code.
See chapter 'Writing R documentation files' in the 'Writing R
Extensions' manual.
- checking Rd contents ... OK
- checking for unstated dependencies in examples ... OK
- checking R/sysdata.rda ... OK
- checking installed files from 'inst/doc' ... OK
- checking files in 'vignettes' ... OK
- checking examples ... [1s] OK
- checking for unstated dependencies in 'tests' ... OK
- checking tests ... [32s] OK
Running 'testthat.R' [32s]
- checking for unstated dependencies in vignettes ... OK
- checking package vignettes in 'inst/doc' ... OK
- checking re-building of vignette outputs ... [35s] OK
- checking PDF version of manual ... [26s] OK
- checking HTML version of manual ... [29s] OK
- DONE
Status: 1 NOTE