• using R version 4.3.0 alpha (2023-03-26 r84066 ucrt)
  • using platform: x86_64-w64-mingw32 (64-bit)
  • R was compiled by
        gcc.exe (GCC) 12.2.0
        GNU Fortran (GCC) 12.2.0
  • running under: Windows Server 2022 x64 (build 20348)
  • using session charset: UTF-8
  • checking for file 'rcdd/DESCRIPTION' ... OK
  • this is package 'rcdd' version '1.5'
  • checking package namespace information ... OK
  • checking package dependencies ... OK
  • checking if this is a source package ... OK
  • checking if there is a namespace ... OK
  • checking for hidden files and directories ... OK
  • checking for portable file names ... OK
  • checking whether package 'rcdd' can be installed ... OK
  • used C compiler: 'gcc.exe (GCC) 12.2.0'
  • checking installed package size ... OK
  • checking package directory ... OK
  • checking 'build' directory ... OK
  • checking DESCRIPTION meta-information ... OK
  • checking top-level files ... OK
  • checking for left-over files ... OK
  • checking index information ... OK
  • checking package subdirectories ... OK
  • checking R files for non-ASCII characters ... OK
  • checking R files for syntax errors ... OK
  • checking whether the package can be loaded ... [0s] OK
  • checking whether the package can be loaded with stated dependencies ... [0s] OK
  • checking whether the package can be unloaded cleanly ... [0s] OK
  • checking whether the namespace can be loaded with stated dependencies ... [0s] OK
  • checking whether the namespace can be unloaded cleanly ... [0s] OK
  • checking loading without being on the library search path ... [0s] OK
  • checking startup messages can be suppressed ... [0s] OK
  • checking use of S3 registration ... OK
  • checking dependencies in R code ... OK
  • checking S3 generic/method consistency ... OK
  • checking replacement functions ...