• using R version 4.3.0 alpha (2023-03-26 r84066 ucrt)
  • using platform: x86_64-w64-mingw32 (64-bit)
  • R was compiled by
        gcc.exe (GCC) 12.2.0
        GNU Fortran (GCC) 12.2.0
  • running under: Windows Server 2022 x64 (build 20348)
  • using session charset: UTF-8
  • checking for file 'manymodelr/DESCRIPTION' ... OK
  • this is package 'manymodelr' version '0.3.7'
  • package encoding: UTF-8
  • checking package namespace information ... OK
  • checking package dependencies ... OK
  • checking if this is a source package ... OK
  • checking if there is a namespace ... OK
  • checking for hidden files and directories ... OK
  • checking for portable file names ... OK
  • checking whether package 'manymodelr' can be installed ... OK
  • checking installed package size ... OK
  • checking package directory ... OK
  • checking 'build' directory ... OK
  • checking DESCRIPTION meta-information ... OK
  • checking top-level files ... OK
  • checking for left-over files ... OK
  • checking index information ... OK
  • checking package subdirectories ... OK
  • checking R files for non-ASCII characters ... OK
  • checking R files for syntax errors ... OK
  • checking whether the package can be loaded ... [6s] OK
  • checking whether the package can be loaded with stated dependencies ... [5s] OK
  • checking whether the package can be unloaded cleanly ... [6s] OK
  • checking whether the namespace can be loaded with stated dependencies ... [5s] OK
  • checking whether the namespace can be unloaded cleanly ... [6s] OK
  • checking loading without being on the library search path ... [6s] OK
  • checking startup messages can be suppressed ... [7s] OK
  • checking use of S3 registration ... OK
  • checking dependencies in R code ... OK
  • checking S3 generic/method consistency ... OK
  • checking replacement functions ... OK
  • checking foreign function calls ... OK
  • checking R code for possible problems ... [13s] OK
  • checking Rd files ... [1s] OK
  • checking Rd metadata ... OK
  • checking Rd cross-references ... OK
  • checking for missing documentation entries ... OK
  • checking for code/documentation mismatches ... OK
  • checking Rd \usage sections ... OK
  • checking Rd contents ... OK
  • checking for unstated dependencies in examples ... OK
  • checking contents of 'data' directory ... OK
  • checking data for non-ASCII characters ... [0s] OK
  • checking LazyData ... OK
  • checking data for ASCII and uncompressed saves ... OK
  • checking installed files from 'inst/doc' ... OK
  • checking files in 'vignettes' ... OK
  • checking examples ... [17s] OK
  • checking for unstated dependencies in 'tests' ... OK
  • checking tests ... [13s] OK
      Running 'testthat.R' [13s]
  • checking for unstated dependencies in vignettes ... OK
  • checking package vignettes in 'inst/doc' ... OK
  • checking re-building of vignette outputs ...