- using R Under development (unstable) (2025-10-31 r88977 ucrt)
 
- using platform: x86_64-w64-mingw32
 
- R was compiled by
    gcc.exe (GCC) 14.3.0
    GNU Fortran (GCC) 14.3.0
 
- running under: Windows Server 2022 x64 (build 20348)
 
- using session charset: UTF-8
 
- checking for file 'anMC/DESCRIPTION' ... OK
 
- checking extension type ... Package
 
- this is package 'anMC' version '0.2.5'
 
- package encoding: UTF-8
 
- checking package namespace information ... OK
 
- checking package dependencies ... OK
 
- checking if this is a source package ... OK
 
- checking if there is a namespace ... OK
 
- checking for hidden files and directories ... OK
 
- checking for portable file names ... OK
 
- checking whether package 'anMC' can be installed ... OK
See the install log for details.
 
- used C++ compiler: 'g++.exe (GCC) 14.3.0'
 
- checking installed package size ... OK
 
- checking package directory ... OK
 
- checking DESCRIPTION meta-information ... OK
 
- checking top-level files ... OK
 
- checking for left-over files ... OK
 
- checking index information ... OK
 
- checking package subdirectories ... OK
 
- checking code files for non-ASCII characters ... OK
 
- checking R files for syntax errors ... OK
 
- checking whether the package can be loaded ... [0s] OK
 
- checking whether the package can be loaded with stated dependencies ... [0s] OK
 
- checking whether the package can be unloaded cleanly ... [1s] OK
 
- checking whether the namespace can be loaded with stated dependencies ... [0s] OK
 
- checking whether the namespace can be unloaded cleanly ... [1s] OK
 
- checking loading without being on the library search path ... [1s] OK
 
- checking use of S3 registration ... OK
 
- checking dependencies in R code ... OK
 
- checking S3 generic/method consistency ... OK
 
- checking replacement functions ... OK
 
- checking foreign function calls ... OK
 
- checking R code for possible problems ... [4s] OK
 
- checking Rd files ... [1s] NOTE
checkRd: (-1) ProbaMax.Rd:32: Lost braces; missing escapes or markup?
    32 | \item{E}{discretization design for the field. If \code{NULL}, a simplex-lattice design {n,n} is used, with \code{n=length(mu)}. In this case the choice of method=4,5 are not advised.}
       |                                                                                        ^
checkRd: (-1) ProbaMax.Rd:71: Lost braces in \itemize; \value handles \item{}{} directly
checkRd: (-1) ProbaMax.Rd:72: Lost braces in \itemize; \value handles \item{}{} directly
checkRd: (-1) ProbaMax.Rd:73: Lost braces in \itemize; \value handles \item{}{} directly
checkRd: (-1) ProbaMax.Rd:77: Lost braces in \itemize; \value handles \item{}{} directly
checkRd: (-1) ProbaMax.Rd:78: Lost braces in \itemize; \value handles \item{}{} directly
checkRd: (-1) ProbaMax.Rd:79: Lost braces in \itemize; \value handles \item{}{} directly
checkRd: (-1) ProbaMax.Rd:80: Lost braces in \itemize; \value handles \item{}{} directly
checkRd: (-1) ProbaMin.Rd:32: Lost braces; missing escapes or markup?
    32 | \item{E}{discretization design for the field. If \code{NULL}, a simplex-lattice design {n,n} is used, with \code{n=length(mu)}. In this case the choice of method=4,5 are not advised.}
       |                                                                                        ^
checkRd: (-1) ProbaMin.Rd:71: Lost braces in \itemize; \value handles \item{}{} directly
checkRd: (-1) ProbaMin.Rd:72: Lost braces in \itemize; \value handles \item{}{} directly
checkRd: (-1) ProbaMin.Rd:73: Lost braces in \itemize; \value handles \item{}{} directly
checkRd: (-1) ProbaMin.Rd:77: Lost braces in \itemize; \value handles \item{}{} directly
checkRd: (-1) ProbaMin.Rd:78: Lost braces in \itemize; \value handles \item{}{} directly
checkRd: (-1) ProbaMin.Rd:79: Lost braces in \itemize; \value handles \item{}{} directly
checkRd: (-1) ProbaMin.Rd:80: Lost braces in \itemize; \value handles \item{}{} directly
checkRd: (-1) selectQdims.Rd:57: Lost braces in \itemize; \value handles \item{}{} directly
checkRd: (-1) selectQdims.Rd:58: Lost braces in \itemize; \value handles \item{}{} directly
checkRd: (-1) selectQdims.Rd:59: Lost braces in \itemize; \value handles \item{}{} directly
checkRd: (-1) selectQdims.Rd:60: Lost braces in \itemize; \value handles \item{}{} directly
checkRd: (-1) selectQdims.Rd:61: Lost braces in \itemize; \value handles \item{}{} directly
 
- checking Rd metadata ... OK
 
- checking Rd cross-references ... OK
 
- checking for missing documentation entries ... OK
 
- checking for code/documentation mismatches ... OK
 
- checking Rd \usage sections ... OK
 
- checking Rd contents ... OK
 
- checking for unstated dependencies in examples ... OK
 
- checking line endings in C/C++/Fortran sources/headers ... OK
 
- checking line endings in Makefiles ... OK
 
- checking compilation flags in Makevars ... OK
 
- checking for GNU extensions in Makefiles ... OK
 
- checking for portable use of $(BLAS_LIBS) and $(LAPACK_LIBS) ... OK
 
- checking use of PKG_*FLAGS in Makefiles ... OK
 
- checking pragmas in C/C++ headers and code ... OK
 
- checking compiled code ... OK
 
- checking examples ... [2s] OK
 
- checking PDF version of manual ... [20s] OK
 
- checking HTML version of manual ... [3s] OK
 
- DONE
 
Status: 1 NOTE