- using R Under development (unstable) (2025-10-31 r88977 ucrt)
 
- using platform: x86_64-w64-mingw32
 
- R was compiled by
    gcc.exe (GCC) 14.3.0
    GNU Fortran (GCC) 14.3.0
 
- running under: Windows Server 2022 x64 (build 20348)
 
- using session charset: UTF-8
 
- checking for file 'SQUAREM/DESCRIPTION' ... OK
 
- this is package 'SQUAREM' version '2021.1'
 
- checking package namespace information ... OK
 
- checking package dependencies ... OK
 
- checking if this is a source package ... OK
 
- checking if there is a namespace ... OK
 
- checking for hidden files and directories ... OK
 
- checking for portable file names ... OK
 
- checking whether package 'SQUAREM' can be installed ... OK
See the install log for details.
 
- checking installed package size ... OK
 
- checking package directory ... OK
 
- checking 'build' directory ... OK
 
- checking DESCRIPTION meta-information ... OK
 
- checking top-level files ... OK
 
- checking for left-over files ... OK
 
- checking index information ... OK
 
- checking package subdirectories ... OK
 
- checking code files for non-ASCII characters ... OK
 
- checking R files for syntax errors ... OK
 
- checking whether the package can be loaded ... [0s] OK
 
- checking whether the package can be loaded with stated dependencies ... [0s] OK
 
- checking whether the package can be unloaded cleanly ... [0s] OK
 
- checking whether the namespace can be loaded with stated dependencies ... [0s] OK
 
- checking whether the namespace can be unloaded cleanly ... [0s] OK
 
- checking loading without being on the library search path ... [0s] OK
 
- checking use of S3 registration ... OK
 
- checking dependencies in R code ... OK
 
- checking S3 generic/method consistency ... OK
 
- checking replacement functions ... OK
 
- checking foreign function calls ... OK
 
- checking R code for possible problems ... [3s] OK
 
- checking Rd files ... [1s] NOTE
checkRd: (-1) fpiter.Rd:55-58: Lost braces
    55 |     \code{tol}{ - a small, positive scalar that determines when iterations 
       |               ^
checkRd: (-1) fpiter.Rd:60-61: Lost braces
    60 |     \code{maxiter}{ - an integer denoting the maximum limit on the number of 
       |                   ^
checkRd: (-1) fpiter.Rd:63-65: Lost braces
    63 |     \code{trace}{ - a logical variable denoting whether some of the intermediate 
       |                 ^
checkRd: (-1) fpiter.Rd:67-70: Lost braces
    67 |     \code{intermed}}{ - a logical variable denoting whether the intermediate 
       |                     ^
checkRd: (-1) squarem.Rd:134: Lost braces
   134 |       along with the corresponding log-likelihood value.  When the code{objfn} is not specified it will return the fixed-point residual instead of the objective function values. 
       |                                                                        ^
 
- checking Rd metadata ... OK
 
- checking Rd cross-references ... OK
 
- checking for missing documentation entries ... OK
 
- checking for code/documentation mismatches ... OK
 
- checking Rd \usage sections ... OK
 
- checking Rd contents ... OK
 
- checking for unstated dependencies in examples ... OK
 
- checking sizes of PDF files under 'inst/doc' ... OK
 
- checking installed files from 'inst/doc' ... OK
 
- checking files in 'vignettes' ... OK
 
- checking examples ... [1s] OK
 
- checking for unstated dependencies in 'tests' ... OK
 
- checking tests ... [1s] OK
  Running 'Hasselblad1969.R' [0s]
 
- checking for unstated dependencies in vignettes ... OK
 
- checking package vignettes ... OK
 
- checking re-building of vignette outputs ... [11s] OK
 
- checking PDF version of manual ... [18s] OK
 
- checking HTML version of manual ... [1s] OK
 
- DONE
 
Status: 1 NOTE