- using R Under development (unstable) (2025-10-31 r88977 ucrt)
 
- using platform: x86_64-w64-mingw32
 
- R was compiled by
    gcc.exe (GCC) 14.3.0
    GNU Fortran (GCC) 14.3.0
 
- running under: Windows Server 2022 x64 (build 20348)
 
- using session charset: UTF-8
 
- checking for file 'RHMS/DESCRIPTION' ... OK
 
- checking extension type ... Package
 
- this is package 'RHMS' version '1.7'
 
- checking package namespace information ... OK
 
- checking package dependencies ... OK
 
- checking if this is a source package ... OK
 
- checking if there is a namespace ... OK
 
- checking for hidden files and directories ... OK
 
- checking for portable file names ... OK
 
- checking whether package 'RHMS' can be installed ... OK
See the install log for details.
 
- checking installed package size ... OK
 
- checking package directory ... OK
 
- checking DESCRIPTION meta-information ... OK
 
- checking top-level files ... OK
 
- checking for left-over files ... OK
 
- checking index information ... OK
 
- checking package subdirectories ... OK
 
- checking code files for non-ASCII characters ... OK
 
- checking R files for syntax errors ... OK
 
- checking whether the package can be loaded ... [2s] OK
 
- checking whether the package can be loaded with stated dependencies ... [2s] OK
 
- checking whether the package can be unloaded cleanly ... [2s] OK
 
- checking whether the namespace can be loaded with stated dependencies ... [2s] OK
 
- checking whether the namespace can be unloaded cleanly ... [2s] OK
 
- checking loading without being on the library search path ... [2s] OK
 
- checking use of S3 registration ... OK
 
- checking dependencies in R code ... OK
 
- checking S3 generic/method consistency ... OK
 
- checking replacement functions ... OK
 
- checking foreign function calls ... OK
 
- checking R code for possible problems ... [11s] OK
 
- checking Rd files ... [1s] NOTE
checkRd: (-1) reachRouting.Rd:15: Lost braces
    15 |   \item{inflow}{a vector of runoff (cms) presenting a runoff event generated by excess rainfall computed by \code{loss} methods or an object inherited from any of the following classes :{\code{transform} ; \code{reachRouting} ; \code{reservoirRouting}}.}
       |                                                                                                                                                                                           ^
checkRd: (-1) reachRouting.base.Rd:14: Lost braces
    14 |   \item{inflow}{a vector of runoff (cms) or an object inherited from any of the following classes :{\code{transform} ; \code{reachRouting} ; \code{reservoirRouting}}.}
       |                                                                                                    ^
checkRd: (-1) reachRouting.default.Rd:21: Lost braces
    21 |   \item{inflow}{a vector of runoff (cms) or an object inherited from any of the following classes :{\code{transform} ; \code{reachRouting} ; \code{reservoirRouting}}.}
       |                                                                                                    ^
checkRd: (-1) reservoirRouting.Rd:13: Lost braces
    13 |   \item{inflow}{a vector of in (cms) presenting a runoff event generated by excess rainfall computed by \code{loss} methods or an object inherited from any of the following classes :{\code{transform} ; \code{reachRouting} ; \code{reservoirRouting}}.}
       |                                                                                                                                                                                       ^
checkRd: (-1) reservoirRouting.base.Rd:13: Lost braces
    13 |   \item{inflow}{a vector of in (cms) presenting a runoff event generated by excess rainfall computed by \code{loss} methods or an object inherited from any of the following classes :{\code{transform} ; \code{reachRouting} ; \code{reservoirRouting}}.}
       |                                                                                                                                                                                       ^
checkRd: (-1) reservoirRouting.default.Rd:18: Lost braces
    18 |   \item{inflow}{a vector of in (cms) presenting a runoff event generated by excess rainfall computed by \code{loss} methods or an object inherited from any of the following classes :{\code{transform} ; \code{reachRouting} ; \code{reservoirRouting}}.}
       |                                                                                                                                                                                       ^
 
- checking Rd metadata ... OK
 
- checking Rd cross-references ... OK
 
- checking for missing documentation entries ... OK
 
- checking for code/documentation mismatches ... OK
 
- checking Rd \usage sections ... OK
 
- checking Rd contents ... OK
 
- checking for unstated dependencies in examples ... OK
 
- checking contents of 'data' directory ... OK
 
- checking data for non-ASCII characters ... [0s] OK
 
- checking data for ASCII and uncompressed saves ... OK
 
- checking examples ... [6s] OK
 
- checking PDF version of manual ... [21s] OK
 
- checking HTML version of manual ... [8s] OK
 
- DONE
 
Status: 1 NOTE