- using R Under development (unstable) (2023-12-01 r85656 ucrt)
- using platform: x86_64-w64-mingw32
- R was compiled by
gcc.exe (GCC) 12.3.0
GNU Fortran (GCC) 12.3.0
- running under: Windows Server 2022 x64 (build 20348)
- using session charset: UTF-8
- checking for file 'R.rsp/DESCRIPTION' ... OK
- this is package 'R.rsp' version '0.45.0'
- checking package namespace information ... OK
- checking package dependencies ... OK
- checking if this is a source package ... OK
- checking if there is a namespace ... OK
- checking for hidden files and directories ... OK
- checking for portable file names ... OK
- checking whether package 'R.rsp' can be installed ... OK
See the install log for details.
- checking installed package size ... OK
- checking package directory ... OK
- checking 'build' directory ... OK
- checking DESCRIPTION meta-information ... OK
- checking top-level files ... OK
- checking for left-over files ... OK
- checking index information ... OK
- checking package subdirectories ... OK
- checking R files for non-ASCII characters ... OK
- checking R files for syntax errors ... OK
- checking whether the package can be loaded ... [1s] OK
- checking whether the package can be loaded with stated dependencies ... [1s] OK
- checking whether the package can be unloaded cleanly ... [1s] OK
- checking whether the namespace can be loaded with stated dependencies ... [0s] OK
- checking whether the namespace can be unloaded cleanly ... [1s] OK
- checking loading without being on the library search path ... [1s] OK
- checking whether startup messages can be suppressed ... [1s] OK
- checking use of S3 registration ... OK
- checking dependencies in R code ... OK
- checking S3 generic/method consistency ... OK
- checking replacement functions ... OK
- checking foreign function calls ... OK
- checking R code for possible problems ... [14s] OK
- checking Rd files ... [3s] OK
- checking Rd metadata ... OK
- checking Rd cross-references ... OK
- checking for missing documentation entries ... OK
- checking for code/documentation mismatches ... OK
- checking Rd \usage sections ... NOTE
Documented arguments not in \usage in Rd file '000-LB-.RspDocument.Rd':
'...'
Documented arguments not in \usage in Rd file 'RspEvalDirective.Rd':
'attributes'
Documented arguments not in \usage in Rd file 'RspExpression.Rd':
'object'
Documented arguments not in \usage in Rd file 'RspIncludeDirective.Rd':
'attributes'
Documented arguments not in \usage in Rd file 'buildNonSweaveVignette.Rd':
'pathname'
Documented arguments not in \usage in Rd file 'buildNonSweaveVignettes.Rd':
'path' 'pattern'
Documented arguments not in \usage in Rd file 'exprToCode.RspSourceCodeFactory.Rd':
'expr'
Documented arguments not in \usage in Rd file 'getContent.RspText.Rd':
'unescaped'
Documented arguments not in \usage in Rd file 'toSourceCode.RspSourceCodeFactory.Rd':
'expr'
Documented arguments not in \usage in Rd file 'trim.RspDocument.Rd':
'envir'
Documented arguments not in \usage in Rd file 'writeResponse.RspResponse.Rd':
'collapse' 'sep'
Functions with \usage entries need to have the appropriate \alias
entries, and all their arguments documented.
The \usage entries must correspond to syntactically valid R code.
See chapter 'Writing R documentation files' in the 'Writing R
Extensions' manual.
- checking Rd contents ... OK
- checking for unstated dependencies in examples ... OK
- checking sizes of PDF files under 'inst/doc' ... OK
- checking installed files from 'inst/doc' ... OK
- checking files in 'vignettes' ... OK
- checking examples ... [234s] OK
- checking for unstated dependencies in 'tests' ... OK
- checking tests ... [186s] OK
Running '000.session_information.R' [0s]
Running 'LoremIpsum.R' [57s]
Running 'RspConstruct.R' [1s]
Running 'RspProduct.R' [0s]
Running 'RspString.R' [1s]
Running 'capabilities.R' [24s]
Running 'compileAsciiDoc.R' [1s]
Running 'compileAsciiDocNoweb.R' [1s]
Running 'compileKnitr.R' [0s]
Running 'compileLaTeX.R' [1s]
Running 'compileMarkdown.R' [1s]
Running 'compileRnw.R' [1s]
Running 'compileRsp.R' [4s]
Running 'compileSweave.R' [1s]
Running 'deparse.R' [1s]
Running 'environments,functions.R' [1s]
Running 'include,recursive.R' [3s]
Running 'multi,selfcontained.R' [76s]
Running 'rargs.R' [1s]
Running 'rcat.R' [1s]
Running 'rclean.R' [0s]
Running 'rcode.R' [1s]
Running 'rcompile.R' [1s]
Running 'rfile.R' [1s]
Running 'rsource.R' [2s]
Running 'rsp_tests.R' [5s]
Running 'rsp_tests_online.R' [0s]
Running 'rstring.R' [1s]
Running 'wstring.R' [0s]
- checking for unstated dependencies in vignettes ... OK
- checking package vignettes in 'inst/doc' ... OK
- checking re-building of vignette outputs ... [60s] OK
- checking PDF version of manual ... [30s] OK
- checking HTML version of manual ... [30s] OK
- DONE
Status: 1 NOTE