- using R Under development (unstable) (2021-02-13 r80000)
- using platform: x86_64-w64-mingw32 (64-bit)
- using session charset: ISO8859-1
- checking for file 'pmcgd/DESCRIPTION' ... OK
- checking extension type ... Package
- this is package 'pmcgd' version '1.1'
- checking package namespace information ... OK
- checking package dependencies ... OK
- checking if this is a source package ... OK
- checking if there is a namespace ... OK
- checking for hidden files and directories ... OK
- checking for portable file names ... OK
- checking whether package 'pmcgd' can be installed ... OK
- checking installed package size ... OK
- checking package directory ... OK
- checking DESCRIPTION meta-information ... NOTE
Malformed Description field: should contain one or more complete sentences.
- checking top-level files ... OK
- checking for left-over files ... OK
- checking index information ... OK
- checking package subdirectories ... OK
- checking R files for non-ASCII characters ... OK
- checking R files for syntax errors ... OK
- checking whether the package can be loaded ... OK
- checking whether the package can be loaded with stated dependencies ... OK
- checking whether the package can be unloaded cleanly ... OK
- checking whether the namespace can be loaded with stated dependencies ... OK
- checking whether the namespace can be unloaded cleanly ... OK
- checking loading without being on the library search path ... OK
- checking use of S3 registration ... OK
- checking dependencies in R code ... OK
- checking S3 generic/method consistency ... OK
- checking replacement functions ... OK
- checking foreign function calls ... OK
- checking R code for possible problems ... [8s] NOTE
.MCM: no visible global function definition for 'runif'
.MCM: no visible global function definition for 'rmultinom'
.MCM: no visible global function definition for 'mahalanobis'
.MCM: no visible global function definition for 'optimize'
.MCM : f: no visible global function definition for 'mahalanobis'
.MCM: no visible global function definition for 'alarm'
.igpark: no visible global function definition for 'kmeans'
.loglik: no visible global function definition for 'mahalanobis'
.plot.gpcm: no visible global function definition for 'lines'
.plot.gpcm: no visible global function definition for 'legend'
.rwgpar: no visible global function definition for 'rexp'
.weights: no visible global function definition for 'mahalanobis'
Undefined global functions or variables:
alarm kmeans legend lines mahalanobis optimize rexp rmultinom runif
Consider adding
importFrom("graphics", "legend", "lines")
importFrom("stats", "kmeans", "mahalanobis", "optimize", "rexp",
"rmultinom", "runif")
importFrom("utils", "alarm")
to your NAMESPACE file.
- checking Rd files ... [1s] OK
- checking Rd metadata ... OK
- checking Rd cross-references ... OK
- checking for missing documentation entries ... OK
- checking for code/documentation mismatches ... OK
- checking Rd \usage sections ... OK
- checking Rd contents ... OK
- checking for unstated dependencies in examples ... OK
- checking examples ... [2s] OK
- checking PDF version of manual ... OK
- DONE
Status: 2 NOTEs