- using R Under development (unstable) (2021-01-13 r79826)
- using platform: x86_64-w64-mingw32 (64-bit)
- using session charset: ISO8859-1
- checking for file 'peperr/DESCRIPTION' ... OK
- checking extension type ... Package
- this is package 'peperr' version '1.1-7.1'
- checking package namespace information ... OK
- checking package dependencies ... OK
- checking if this is a source package ... OK
- checking if there is a namespace ... OK
- checking for hidden files and directories ... OK
- checking for portable file names ... OK
- checking whether package 'peperr' can be installed ... OK
- checking installed package size ... OK
- checking package directory ... OK
- checking DESCRIPTION meta-information ... OK
- checking top-level files ... OK
- checking for left-over files ... OK
- checking index information ... OK
- checking package subdirectories ... OK
- checking R files for non-ASCII characters ... OK
- checking R files for syntax errors ... OK
- loading checks for arch 'i386'
- checking whether the package can be loaded ... OK
- checking whether the package can be loaded with stated dependencies ... OK
- checking whether the package can be unloaded cleanly ... OK
- checking whether the namespace can be loaded with stated dependencies ... OK
- checking whether the namespace can be unloaded cleanly ... OK
- checking loading without being on the library search path ... OK
- checking use of S3 registration ... OK
- loading checks for arch 'x64'
- checking whether the package can be loaded ... OK
- checking whether the package can be loaded with stated dependencies ... OK
- checking whether the package can be unloaded cleanly ... OK
- checking whether the namespace can be loaded with stated dependencies ... OK
- checking whether the namespace can be unloaded cleanly ... OK
- checking loading without being on the library search path ... OK
- checking use of S3 registration ... OK
- checking dependencies in R code ... NOTE
'library' or 'require' calls in package code:
'CoxBoost' 'codetools' 'locfit' 'penalized'
Please use :: or requireNamespace() instead.
See section 'Suggested packages' in the 'Writing R Extensions' manual.
- checking S3 generic/method consistency ... OK
- checking replacement functions ... OK
- checking foreign function calls ... OK
- checking R code for possible problems ... [11s] NOTE
complexity.LASSO: no visible global function definition for 'profL1'
complexity.ipec.CoxBoost: no visible global function definition for
'CoxBoost'
complexity.ipec.CoxBoost: no visible global function definition for
'locfit'
complexity.mincv.CoxBoost: no visible global function definition for
'cv.CoxBoost'
complexity.ripec.CoxBoost: no visible global function definition for
'CoxBoost'
complexity.ripec.CoxBoost: no visible global function definition for
'locfit'
extract: no visible global function definition for 'findGlobals'
fit.CoxBoost: no visible global function definition for 'CoxBoost'
fit.LASSO: no visible global function definition for 'penalized'
Undefined global functions or variables:
CoxBoost cv.CoxBoost findGlobals locfit penalized profL1
- checking Rd files ... [1s] OK
- checking Rd metadata ... OK
- checking Rd cross-references ... OK
- checking for missing documentation entries ... OK
- checking for code/documentation mismatches ... OK
- checking Rd \usage sections ... OK
- checking Rd contents ... OK
- checking for unstated dependencies in examples ... OK
- checking line endings in C/C++/Fortran sources/headers ... OK
- checking pragmas in C/C++ headers and code ... OK
- checking compiled code ... OK
- checking examples ...
- running examples for arch 'i386' ... [3s] OK
- running examples for arch 'x64' ... [4s] OK
- checking PDF version of manual ... OK
- DONE
Status: 2 NOTEs