• using R Under development (unstable) (2021-04-11 r80157)
  • using platform: x86_64-w64-mingw32 (64-bit)
  • using session charset: ISO8859-1
  • checking for file 'multiwayvcov/DESCRIPTION' ... OK
  • checking extension type ... Package
  • this is package 'multiwayvcov' version '1.2.3'
  • package encoding: UTF-8
  • checking package namespace information ... OK
  • checking package dependencies ... OK
  • checking if this is a source package ... OK
  • checking if there is a namespace ... OK
  • checking for hidden files and directories ... OK
  • checking for portable file names ... OK
  • checking whether package 'multiwayvcov' can be installed ...