- using R Under development (unstable) (2021-01-13 r79826)
- using platform: x86_64-w64-mingw32 (64-bit)
- using session charset: ISO8859-1
- checking for file 'gstat/DESCRIPTION' ... OK
- this is package 'gstat' version '2.0-6'
- package encoding: UTF-8
- checking package namespace information ... OK
- checking package dependencies ... OK
- checking if this is a source package ... OK
- checking if there is a namespace ... OK
- checking for hidden files and directories ... OK
- checking for portable file names ... OK
- checking whether package 'gstat' can be installed ... OK
- checking installed package size ... OK
- checking package directory ... OK
- checking 'build' directory ... OK
- checking DESCRIPTION meta-information ... OK
- checking top-level files ... OK
- checking for left-over files ... OK
- checking index information ... OK
- checking package subdirectories ... OK
- checking R files for non-ASCII characters ... OK
- checking R files for syntax errors ... OK
- loading checks for arch 'i386'
- checking whether the package can be loaded ... OK
- checking whether the package can be loaded with stated dependencies ... OK
- checking whether the package can be unloaded cleanly ... OK
- checking whether the namespace can be loaded with stated dependencies ... OK
- checking whether the namespace can be unloaded cleanly ... OK
- checking loading without being on the library search path ... OK
- checking use of S3 registration ... OK
- loading checks for arch 'x64'
- checking whether the package can be loaded ... OK
- checking whether the package can be loaded with stated dependencies ... OK
- checking whether the package can be unloaded cleanly ... OK
- checking whether the namespace can be loaded with stated dependencies ... OK
- checking whether the namespace can be unloaded cleanly ... OK
- checking loading without being on the library search path ... OK
- checking use of S3 registration ... OK
- checking dependencies in R code ... OK
- checking S3 generic/method consistency ... OK
- checking replacement functions ... OK
- checking foreign function calls ... OK
- checking R code for possible problems ... [20s] OK
- checking Rd files ... [1s] OK
- checking Rd metadata ... OK
- checking Rd cross-references ... OK
- checking for missing documentation entries ... OK
- checking for code/documentation mismatches ... OK
- checking Rd \usage sections ... OK
- checking Rd contents ... OK
- checking for unstated dependencies in examples ... OK
- checking contents of 'data' directory ... OK
- checking data for non-ASCII characters ... OK
- checking data for ASCII and uncompressed saves ... OK
- checking line endings in shell scripts ... OK
- checking line endings in C/C++/Fortran sources/headers ... OK
- checking line endings in Makefiles ... OK
- checking compilation flags in Makevars ... OK
- checking for GNU extensions in Makefiles ... OK
- checking for portable use of $(BLAS_LIBS) and $(LAPACK_LIBS) ... OK
- checking use of PKG_*FLAGS in Makefiles ... OK
- checking pragmas in C/C++ headers and code ... OK
- checking compiled code ... OK
- checking sizes of PDF files under 'inst/doc' ... OK
- checking installed files from 'inst/doc' ... OK
- checking files in 'vignettes' ... OK
- checking examples ...
- running examples for arch 'i386' ... [21s] OK
- running examples for arch 'x64' ... [21s] OK
- checking for unstated dependencies in 'tests' ... OK
- checking tests ...
- running tests for arch 'i386' ... [48s] OK
Running 'allier.R' [1s]
Comparing 'allier.Rout' to 'allier.Rout.save' ... OK
Running 'blockkr.R' [1s]
Comparing 'blockkr.Rout' to 'blockkr.Rout.save' ... OK
Running 'covtable.R' [1s]
Comparing 'covtable.Rout' to 'covtable.Rout.save' ... OK
Running 'cv.R' [2s]
Comparing 'cv.Rout' to 'cv.Rout.save' ... OK
Running 'cv3d.R' [2s]
Comparing 'cv3d.Rout' to 'cv3d.Rout.save' ... OK
Running 'fit.R' [1s]
Comparing 'fit.Rout' to 'fit.Rout.save' ... OK
Running 'krige0.R' [4s]
Comparing 'krige0.Rout' to 'krige0.Rout.save' ... OK
Running 'line.R' [2s]
Comparing 'line.Rout' to 'line.Rout.save' ... OK
Running 'merge.R' [2s]
Comparing 'merge.Rout' to 'merge.Rout.save' ... OK
Running 'na.action.R' [2s]
Comparing 'na.action.Rout' to 'na.action.Rout.save' ... OK
Running 'rings.R' [2s]
Comparing 'rings.Rout' to 'rings.Rout.save' ... OK
Running 'sim.R' [1s]
Comparing 'sim.Rout' to 'sim.Rout.save' ... OK
Running 'stars.R' [9s]
Comparing 'stars.Rout' to 'stars.Rout.save' ...41,43d40
< Warning message:
< In showSRID(uprojargs, format = "PROJ", multiline = "NO", prefer_proj = prefer_proj) :
< Discarded datum Amersfoort in CRS definition
52,60d48
< Warning messages:
< 1: In proj4string(d$data) :
< CRS object has comment, which is lost in output
< 2: In proj4string(newdata) :
< CRS object has comment, which is lost in output
< 3: In proj4string(newdata) :
< CRS object has comment, which is lost in output
< 4: In showSRID(uprojargs, format = "PROJ", multiline = "NO", prefer_proj = prefer_proj) :
< Discarded datum Unknown based on Bessel 1841 ellipsoid in CRS definition
63,71d50
< Warning messages:
< 1: In proj4string(d$data) :
< CRS object has comment, which is lost in output
< 2: In proj4string(newdata) :
< CRS object has comment, which is lost in output
< 3: In proj4string(newdata) :
< CRS object has comment, which is lost in output
< 4: In showSRID(uprojargs, format = "PROJ", multiline = "NO", prefer_proj = prefer_proj) :
< Discarded datum Unknown based on Bessel 1841 ellipsoid in CRS definition
112,114d90
< Warning message:
< In showSRID(uprojargs, format = "PROJ", multiline = "NO", prefer_proj = prefer_proj) :
< Discarded datum Amersfoort in CRS definition
117,121d92
< Warning messages:
< 1: In showSRID(uprojargs, format = "PROJ", multiline = "NO", prefer_proj = prefer_proj) :
< Discarded datum Unknown based on Bessel 1841 ellipsoid in CRS definition
< 2: In showSRID(SRS_string, format = "PROJ", multiline = "NO", prefer_proj = prefer_proj) :
< Discarded datum Amersfoort in CRS definition
131,135d101
< Warning messages:
< 1: In showSRID(uprojargs, format = "PROJ", multiline = "NO", prefer_proj = prefer_proj) :
< Discarded datum Unknown based on Bessel 1841 ellipsoid in CRS definition
< 2: In showSRID(SRS_string, format = "PROJ", multiline = "NO", prefer_proj = prefer_proj) :
< Discarded datum Amersfoort in CRS definition
140,145c106,108
< [4] "Attributes: < Component \"proj4string\": Attributes: < Component \"comment\": 1 string mismatch > >"
< Warning messages:
< 1: In showSRID(uprojargs, format = "PROJ", multiline = "NO", prefer_proj = prefer_proj) :
< Discarded datum Unknown based on Bessel 1841 ellipsoid in CRS definition
< 2: In showSRID(SRS_string, format = "PROJ", multiline = "NO", prefer_proj = prefer_proj) :
< Discarded datum Amersfoort in CRS definition
---
> [4] "Attributes: < Component \"proj4string\": Attributes: < Names: 1 string mismatch > >"
> [5] "Attributes: < Component \"proj4string\": Attributes: < Length mismatch: comparison on first 2 components > >"
> [6] "Attributes: < Component \"proj4string\": Attributes: < Component 2: 1 string mismatch > >"
165,166c128,129
< x 1 78 178440 40 Amersfoort / RD New FALSE NULL [x]
< y 1 104 333760 -40 Amersfoort / RD New FALSE NULL [y]
---
> x 1 78 178440 40 +proj=sterea +lat_0=52.15... FALSE NULL [x]
> y 1 104 333760 -40 +proj=sterea +lat_0=52.15... FALSE NULL [y]
168,172d130
< Warning messages:
< 1: In sp::proj4string(.x) :
< CRS object has comment, which is lost in output
< 2: In sp::proj4string(.x) :
< CRS object has comment, which is lost in output
192c150
< User input: Amersfoort / RD New
---
> User input: unknown
194,198c152,157
< PROJCRS["Amersfoort / RD New",
< BASEGEOGCRS["Amersfoort",
< DATUM["Amersfoort",
< ELLIPSOID["Bessel 1841",6377397.155,299.152812800003,
< LENGTHUNIT["metre",1]]],
---
> PROJCRS["unknown",
> BASEGEOGCRS["unknown",
> DATUM["Unknown_based_on_Bessel_1841_ellipsoid",
> ELLIPSOID["Bessel 1841",6377397.155,299.1528128,
> LENGTHUNIT["metre",1,
> ID["EPSG",9001]]]],
200,201c159,160
< ANGLEUNIT["degree",0.0174532925199433]],
< ID["EPSG",4289]],
---
> ANGLEUNIT["degree",0.0174532925199433,
> ID["EPSG",9122]]]],
272,274d230
< Warning message:
< In showSRID(uprojargs, format = "PROJ", multiline = "NO", prefer_proj = prefer_proj) :
< Discarded datum Unknown based on Bessel 1841 ellipsoid in CRS definition
330,334d285
< Warning messages:
< 1: In sp::proj4string(.x) :
< CRS object has comment, which is lost in output
< 2: In sp::proj4string(.x) :
< CRS object has comment, which is lost in output
348,349c299,300
< x 1 78 178440 40 +proj=sterea +lat_0=52.15... NA NULL
< y 1 104 333760 -40 +proj=sterea +lat_0=52.15... NA NULL
---
> x 1 78 178440 40 +init=epsg:28992 +proj=st... NA NULL
> y 1 104 333760 -40 +init=epsg:28992 +proj=st... NA NULL
358,362d308
< Warning messages:
< 1: In sp::proj4string(.x) :
< CRS object has comment, which is lost in output
< 2: In sp::proj4string(.x) :
< CRS object has comment, which is lost in output
390c336
< time 1 4 2019-02-25 15:37:25 CET 1 secs POSIXct NA NULL
---
> time 1 4 2019-02-25 15:37:25 UTC 1 secs POSIXct NA NULL
562,563c508,509
< [1] "2019-02-25 15:37:26 CET" "2019-02-25 15:37:27 CET"
< [3] "2019-02-25 15:37:28 CET" "2019-02-25 15:37:29 CET"
---
> [1] "2019-02-25 15:37:26 UTC" "2019-02-25 15:37:27 UTC"
> [3] "2019-02-25 15:37:28 UTC" "2019-02-25 15:37:29 UTC"
581c527
< time 1 4 2019-02-25 15:37:25 CET 1 secs POSIXct NA NULL
---
> time 1 4 2019-02-25 15:37:25 UTC 1 secs POSIXct NA NULL
603c549
< 1st Qu.: 199.5 1st Qu.: 73.02
---
> 1st Qu.: 199.6 1st Qu.: 73.03
Running 'unproj.R' [3s]
Comparing 'unproj.Rout' to 'unproj.Rout.save' ...13,15d12
< Warning message:
< In showSRID(uprojargs, format = "PROJ", multiline = "NO", prefer_proj = prefer_proj) :
< Discarded datum Amersfoort in CRS definition
18,20d14
< Warning message:
< In showSRID(uprojargs, format = "PROJ", multiline = "NO", prefer_proj = prefer_proj) :
< Discarded datum Unknown based on WGS84 ellipsoid in CRS definition
91,93d84
< Warning message:
< In showSRID(uprojargs, format = "PROJ", multiline = "NO", prefer_proj = prefer_proj) :
< Discarded datum Unknown based on WGS84 ellipsoid in CRS definition
Running 'variogram.R' [2s]
Comparing 'variogram.Rout' to 'variogram.Rout.save' ... OK
Running 'vdist.R' [2s]
Comparing 'vdist.Rout' to 'vdist.Rout.save' ...23c23
< 1500 (180260, 331300) 5.641176 1.100095
---
> 1500 (180260, 331300) 5.50671 1.100095
Running 'windst.R' [11s]
Comparing 'windst.Rout' to 'windst.Rout.save' ...46,47d45
< Warning message:
< In proj4string(m) : CRS object has comment, which is lost in output
67,71d64
< Warning messages:
< 1: In proj4string(obj@sp) :
< CRS object has comment, which is lost in output
< 2: In proj4string(obj@sp) :
< CRS object has comment, which is lost in output
81,86c74,75
< Warning messages:
< 1: In proj4string(data@sp) :
< CRS object has comment, which is lost in output
< 2: In proj4string(newdata@sp) :
< CRS object has comment, which is lost in output
< 3: In krigeST(sqrt(values) ~ 1, w, STF(grd, tgrd), v) :
---
> Warning message:
> In krigeST(sqrt(values) ~ 1, w, STF(grd, tgrd), v) :
99,108c88,89
< Warning messages:
< 1: In sp::proj4string(.x@sp) :
< CRS object has comment, which is lost in output
< 2: In sp::proj4string(.x@sp) :
< CRS object has comment, which is lost in output
< 3: In proj4string(data@sp) :
< CRS object has comment, which is lost in output
< 4: In proj4string(newdata@sp) :
< CRS object has comment, which is lost in output
< 5: In krigeST(sqrt(values) ~ 1, st_as_stars(w), st_as_stars(newd), :
---
> Warning message:
> In krigeST(sqrt(values) ~ 1, st_as_stars(w), st_as_stars(newd), :
111,112d91
< 6: In sp::proj4string(.x@sp) :
< CRS object has comment, which is lost in output
115,116d93
< Warning message:
< In sp::proj4string(.x@sp) : CRS object has comment, which is lost in output
126,127d102
< Warning message:
< In sp::proj4string(.x@sp) : CRS object has comment, which is lost in output
142,143d116
< Warning message:
< In sp::proj4string(.x@sp) : CRS object has comment, which is lost in output
147,148d119
< Warning message:
< In sp::proj4string(.x@sp) : CRS object has comment, which is lost in output
158,159d128
< Warning message:
< In sp::proj4string(.x@sp) : CRS object has comment, which is lost in output
- running tests for arch 'x64' ... [48s] OK
Running 'allier.R' [2s]
Comparing 'allier.Rout' to 'allier.Rout.save' ... OK
Running 'blockkr.R' [2s]
Comparing 'blockkr.Rout' to 'blockkr.Rout.save' ... OK
Running 'covtable.R' [2s]
Comparing 'covtable.Rout' to 'covtable.Rout.save' ... OK
Running 'cv.R' [2s]
Comparing 'cv.Rout' to 'cv.Rout.save' ... OK
Running 'cv3d.R' [2s]
Comparing 'cv3d.Rout' to 'cv3d.Rout.save' ... OK
Running 'fit.R' [2s]
Comparing 'fit.Rout' to 'fit.Rout.save' ... OK
Running 'krige0.R' [4s]
Comparing 'krige0.Rout' to 'krige0.Rout.save' ... OK
Running 'line.R' [2s]
Comparing 'line.Rout' to 'line.Rout.save' ... OK
Running 'merge.R' [2s]
Comparing 'merge.Rout' to 'merge.Rout.save' ... OK
Running 'na.action.R' [2s]
Comparing 'na.action.Rout' to 'na.action.Rout.save' ... OK
Running 'rings.R' [2s]
Comparing 'rings.Rout' to 'rings.Rout.save' ... OK
Running 'sim.R' [1s]
Comparing 'sim.Rout' to 'sim.Rout.save' ... OK
Running 'stars.R' [8s]
Comparing 'stars.Rout' to 'stars.Rout.save' ...41,43d40
< Warning message:
< In showSRID(uprojargs, format = "PROJ", multiline = "NO", prefer_proj = prefer_proj) :
< Discarded datum Amersfoort in CRS definition
52,60d48
< Warning messages:
< 1: In proj4string(d$data) :
< CRS object has comment, which is lost in output
< 2: In proj4string(newdata) :
< CRS object has comment, which is lost in output
< 3: In proj4string(newdata) :
< CRS object has comment, which is lost in output
< 4: In showSRID(uprojargs, format = "PROJ", multiline = "NO", prefer_proj = prefer_proj) :
< Discarded datum Unknown based on Bessel 1841 ellipsoid in CRS definition
63,71d50
< Warning messages:
< 1: In proj4string(d$data) :
< CRS object has comment, which is lost in output
< 2: In proj4string(newdata) :
< CRS object has comment, which is lost in output
< 3: In proj4string(newdata) :
< CRS object has comment, which is lost in output
< 4: In showSRID(uprojargs, format = "PROJ", multiline = "NO", prefer_proj = prefer_proj) :
< Discarded datum Unknown based on Bessel 1841 ellipsoid in CRS definition
112,114d90
< Warning message:
< In showSRID(uprojargs, format = "PROJ", multiline = "NO", prefer_proj = prefer_proj) :
< Discarded datum Amersfoort in CRS definition
117,121d92
< Warning messages:
< 1: In showSRID(uprojargs, format = "PROJ", multiline = "NO", prefer_proj = prefer_proj) :
< Discarded datum Unknown based on Bessel 1841 ellipsoid in CRS definition
< 2: In showSRID(SRS_string, format = "PROJ", multiline = "NO", prefer_proj = prefer_proj) :
< Discarded datum Amersfoort in CRS definition
131,135d101
< Warning messages:
< 1: In showSRID(uprojargs, format = "PROJ", multiline = "NO", prefer_proj = prefer_proj) :
< Discarded datum Unknown based on Bessel 1841 ellipsoid in CRS definition
< 2: In showSRID(SRS_string, format = "PROJ", multiline = "NO", prefer_proj = prefer_proj) :
< Discarded datum Amersfoort in CRS definition
140,145c106,108
< [4] "Attributes: < Component \"proj4string\": Attributes: < Component \"comment\": 1 string mismatch > >"
< Warning messages:
< 1: In showSRID(uprojargs, format = "PROJ", multiline = "NO", prefer_proj = prefer_proj) :
< Discarded datum Unknown based on Bessel 1841 ellipsoid in CRS definition
< 2: In showSRID(SRS_string, format = "PROJ", multiline = "NO", prefer_proj = prefer_proj) :
< Discarded datum Amersfoort in CRS definition
---
> [4] "Attributes: < Component \"proj4string\": Attributes: < Names: 1 string mismatch > >"
> [5] "Attributes: < Component \"proj4string\": Attributes: < Length mismatch: comparison on first 2 components > >"
> [6] "Attributes: < Component \"proj4string\": Attributes: < Component 2: 1 string mismatch > >"
165,166c128,129
< x 1 78 178440 40 Amersfoort / RD New FALSE NULL [x]
< y 1 104 333760 -40 Amersfoort / RD New FALSE NULL [y]
---
> x 1 78 178440 40 +proj=sterea +lat_0=52.15... FALSE NULL [x]
> y 1 104 333760 -40 +proj=sterea +lat_0=52.15... FALSE NULL [y]
168,172d130
< Warning messages:
< 1: In sp::proj4string(.x) :
< CRS object has comment, which is lost in output
< 2: In sp::proj4string(.x) :
< CRS object has comment, which is lost in output
192c150
< User input: Amersfoort / RD New
---
> User input: unknown
194,198c152,157
< PROJCRS["Amersfoort / RD New",
< BASEGEOGCRS["Amersfoort",
< DATUM["Amersfoort",
< ELLIPSOID["Bessel 1841",6377397.155,299.152812800003,
< LENGTHUNIT["metre",1]]],
---
> PROJCRS["unknown",
> BASEGEOGCRS["unknown",
> DATUM["Unknown_based_on_Bessel_1841_ellipsoid",
> ELLIPSOID["Bessel 1841",6377397.155,299.1528128,
> LENGTHUNIT["metre",1,
> ID["EPSG",9001]]]],
200,201c159,160
< ANGLEUNIT["degree",0.0174532925199433]],
< ID["EPSG",4289]],
---
> ANGLEUNIT["degree",0.0174532925199433,
> ID["EPSG",9122]]]],
272,274d230
< Warning message:
< In showSRID(uprojargs, format = "PROJ", multiline = "NO", prefer_proj = prefer_proj) :
< Discarded datum Unknown based on Bessel 1841 ellipsoid in CRS definition
330,334d285
< Warning messages:
< 1: In sp::proj4string(.x) :
< CRS object has comment, which is lost in output
< 2: In sp::proj4string(.x) :
< CRS object has comment, which is lost in output
348,349c299,300
< x 1 78 178440 40 +proj=sterea +lat_0=52.15... NA NULL
< y 1 104 333760 -40 +proj=sterea +lat_0=52.15... NA NULL
---
> x 1 78 178440 40 +init=epsg:28992 +proj=st... NA NULL
> y 1 104 333760 -40 +init=epsg:28992 +proj=st... NA NULL
358,362d308
< Warning messages:
< 1: In sp::proj4string(.x) :
< CRS object has comment, which is lost in output
< 2: In sp::proj4string(.x) :
< CRS object has comment, which is lost in output
390c336
< time 1 4 2019-02-25 15:37:25 CET 1 secs POSIXct NA NULL
---
> time 1 4 2019-02-25 15:37:25 UTC 1 secs POSIXct NA NULL
562,563c508,509
< [1] "2019-02-25 15:37:26 CET" "2019-02-25 15:37:27 CET"
< [3] "2019-02-25 15:37:28 CET" "2019-02-25 15:37:29 CET"
---
> [1] "2019-02-25 15:37:26 UTC" "2019-02-25 15:37:27 UTC"
> [3] "2019-02-25 15:37:28 UTC" "2019-02-25 15:37:29 UTC"
581c527
< time 1 4 2019-02-25 15:37:25 CET 1 secs POSIXct NA NULL
---
> time 1 4 2019-02-25 15:37:25 UTC 1 secs POSIXct NA NULL
603c549
< 1st Qu.: 199.5 1st Qu.: 73.02
---
> 1st Qu.: 199.6 1st Qu.: 73.03
Running 'unproj.R' [3s]
Comparing 'unproj.Rout' to 'unproj.Rout.save' ...13,15d12
< Warning message:
< In showSRID(uprojargs, format = "PROJ", multiline = "NO", prefer_proj = prefer_proj) :
< Discarded datum Amersfoort in CRS definition
18,20d14
< Warning message:
< In showSRID(uprojargs, format = "PROJ", multiline = "NO", prefer_proj = prefer_proj) :
< Discarded datum Unknown based on WGS84 ellipsoid in CRS definition
91,93d84
< Warning message:
< In showSRID(uprojargs, format = "PROJ", multiline = "NO", prefer_proj = prefer_proj) :
< Discarded datum Unknown based on WGS84 ellipsoid in CRS definition
Running 'variogram.R' [2s]
Comparing 'variogram.Rout' to 'variogram.Rout.save' ... OK
Running 'vdist.R' [1s]
Comparing 'vdist.Rout' to 'vdist.Rout.save' ...23c23
< 1500 (180260, 331300) 5.641176 1.100095
---
> 1500 (180260, 331300) 5.50671 1.100095
Running 'windst.R' [9s]
Comparing 'windst.Rout' to 'windst.Rout.save' ...46,47d45
< Warning message:
< In proj4string(m) : CRS object has comment, which is lost in output
67,71d64
< Warning messages:
< 1: In proj4string(obj@sp) :
< CRS object has comment, which is lost in output
< 2: In proj4string(obj@sp) :
< CRS object has comment, which is lost in output
81,86c74,75
< Warning messages:
< 1: In proj4string(data@sp) :
< CRS object has comment, which is lost in output
< 2: In proj4string(newdata@sp) :
< CRS object has comment, which is lost in output
< 3: In krigeST(sqrt(values) ~ 1, w, STF(grd, tgrd), v) :
---
> Warning message:
> In krigeST(sqrt(values) ~ 1, w, STF(grd, tgrd), v) :
99,108c88,89
< Warning messages:
< 1: In sp::proj4string(.x@sp) :
< CRS object has comment, which is lost in output
< 2: In sp::proj4string(.x@sp) :
< CRS object has comment, which is lost in output
< 3: In proj4string(data@sp) :
< CRS object has comment, which is lost in output
< 4: In proj4string(newdata@sp) :
< CRS object has comment, which is lost in output
< 5: In krigeST(sqrt(values) ~ 1, st_as_stars(w), st_as_stars(newd), :
---
> Warning message:
> In krigeST(sqrt(values) ~ 1, st_as_stars(w), st_as_stars(newd), :
111,112d91
< 6: In sp::proj4string(.x@sp) :
< CRS object has comment, which is lost in output
115,116d93
< Warning message:
< In sp::proj4string(.x@sp) : CRS object has comment, which is lost in output
126,127d102
< Warning message:
< In sp::proj4string(.x@sp) : CRS object has comment, which is lost in output
142,143d116
< Warning message:
< In sp::proj4string(.x@sp) : CRS object has comment, which is lost in output
147,148d119
< Warning message:
< In sp::proj4string(.x@sp) : CRS object has comment, which is lost in output
158,159d128
< Warning message:
< In sp::proj4string(.x@sp) : CRS object has comment, which is lost in output
- checking for unstated dependencies in vignettes ... OK
- checking package vignettes in 'inst/doc' ... OK
- checking re-building of vignette outputs ... [72s] OK
- checking PDF version of manual ... OK
- DONE
Status: OK