- using R Under development (unstable) (2021-04-11 r80157)
- using platform: x86_64-w64-mingw32 (64-bit)
- using session charset: ISO8859-1
- checking for file 'foreign/DESCRIPTION' ... OK
- this is package 'foreign' version '0.8-81'
- checking package namespace information ... OK
- checking package dependencies ... OK
- checking if this is a source package ... OK
- checking if there is a namespace ... OK
- checking for hidden files and directories ... OK
- checking for portable file names ... OK
- checking whether package 'foreign' can be installed ... OK
- checking installed package size ... OK
- checking package directory ... OK
- checking DESCRIPTION meta-information ... OK
- checking top-level files ... OK
- checking for left-over files ... OK
- checking index information ... OK
- checking package subdirectories ... OK
- checking R files for non-ASCII characters ... OK
- checking R files for syntax errors ... OK
- loading checks for arch 'i386'
- checking whether the package can be loaded ... OK
- checking whether the package can be loaded with stated dependencies ... OK
- checking whether the package can be unloaded cleanly ... OK
- checking whether the namespace can be loaded with stated dependencies ... OK
- checking whether the namespace can be unloaded cleanly ... OK
- checking use of S3 registration ... OK
- loading checks for arch 'x64'
- checking whether the package can be loaded ... OK
- checking whether the package can be loaded with stated dependencies ... OK
- checking whether the package can be unloaded cleanly ... OK
- checking whether the namespace can be loaded with stated dependencies ... OK
- checking whether the namespace can be unloaded cleanly ... OK
- checking use of S3 registration ... OK
- checking dependencies in R code ... OK
- checking S3 generic/method consistency ... OK
- checking replacement functions ... OK
- checking foreign function calls ... OK
- checking R code for possible problems ... [8s] OK
- checking Rd files ... [1s] OK
- checking Rd metadata ... OK
- checking Rd cross-references ... OK
- checking for missing documentation entries ... OK
- checking for code/documentation mismatches ... OK
- checking Rd \usage sections ... OK
- checking Rd contents ... OK
- checking for unstated dependencies in examples ... OK
- checking line endings in C/C++/Fortran sources/headers ... OK
- checking pragmas in C/C++ headers and code ... OK
- checking compiled code ... OK
- checking examples ...
- running examples for arch 'i386' ... [1s] OK
- running examples for arch 'x64' ... [2s] OK
- checking for unstated dependencies in 'tests' ... OK
- checking tests ...
- running tests for arch 'i386' ... [7s] OK
Running 'S3.R' [0s]
Comparing 'S3.Rout' to 'S3.Rout.save' ... OK
Running 'arff.R' [0s]
Comparing 'arff.Rout' to 'arff.Rout.save' ... OK
Running 'download.R' [0s]
Running 'minitab.R' [0s]
Comparing 'minitab.Rout' to 'minitab.Rout.save' ... OK
Running 'mval_bug.R' [0s]
Comparing 'mval_bug.Rout' to 'mval_bug.Rout.save' ... OK
Running 'octave.R' [0s]
Comparing 'octave.Rout' to 'octave.Rout.save' ... OK
Running 'sas.R' [0s]
Running 'spss.R' [1s]
Comparing 'spss.Rout' to 'spss.Rout.save' ...332c332
< Undeclared level(s) ä, ö added in variable: factor_s_duplicated
---
> Undeclared level(s) .. added in variable: factor_s_duplicated
352c352
< $ factor_s_duplicated : Factor w/ 5 levels "A","A_duplicated_b",..: 1 5 4 NA NA
---
> $ factor_s_duplicated : Factor w/ 4 levels "..","A","A_duplicated_b",..: 2 1 1 NA NA
362c362
< .. ..- attr(*, "names")= chr [1:2] "ABCDEFGHIJKLMNOPQRSTUVWXYZ0123456789 ! \" # $ % & ' ( ) * + , - . / : ; < = > ? @ [ \\ ] ^ _ ` { | } ~ \200" "abcdefghijklmnopqrstuvwxyzabcdefghijklmnopqrstuvwxyzabcdefghijklmnopqrstuvwxyzabcdefghijklmnopqrstuvwxyzabcdefghijklmnop"
---
> .. ..- attr(*, "names")= chr [1:2] "ABCDEFGHIJKLMNOPQRSTUVWXYZ0123456789 ! \" # $ % & ' ( ) * + , - . / : ; < = > ? @ [ \\ ] ^ _ ` { | } ~ ..." "abcdefghijklmnopqrstuvwxyzabcdefghijklmnopqrstuvwxyzabcdefghijklmnopqrstuvwxyzabcdefghijklmnopqrstuvwxyzabcdefghijklmnop"
441c441
< Undeclared level(s) ä, ö added in variable: factor_s_duplicated
---
> Undeclared level(s) .. added in variable: factor_s_duplicated
461c461
< $ factor_s_duplicated : Factor w/ 5 levels "A","A_duplicated_b",..: 1 5 4 NA NA
---
> $ factor_s_duplicated : Factor w/ 4 levels "..","A","A_duplicated_b",..: 2 1 1 NA NA
481c481
< Undeclared level(s) ä, ö added in variable: factor_s_duplicated
---
> Undeclared level(s) .. added in variable: factor_s_duplicated
521c521
< Undeclared level(s) ä, ö added in variable: factor_s_duplicated
---
> Undeclared level(s) .. added in variable: factor_s_duplicated
540c540
< Undeclared level(s) ä, ö added in variable: factor_s_duplicated
---
> Undeclared level(s) .. added in variable: factor_s_duplicated
572c572
< Undeclared level(s) ä, ö added in variable: factor_s_duplicated
---
> Undeclared level(s) .. added in variable: factor_s_duplicated
593,595c593,595
< !"§ $%& /() =?* '<> #|; ²³~ @`´ ©«» ¤¼× {} abc def ghi jkl mno pqrs
< tuv wxyz ABC DEF GHI JKL MNO PQRS TUV WXYZ !"§ $%& /() =?* '<> #|;
< ²³~ @`´ ©«» ¤¼× {} abc def ghi j
---
> !".. $%& /() =?* '<> #|; ....~ @`.. ...... ...... {} abc def ghi jkl
> mno pqrs tuv wxyz ABC DEF GHI JKL MNO PQRS TUV WXYZ !".. $%& /() =?*
> '<> #|; ....~ @`.. ...... ...... {} abc def ghi j
607,610c607,610
< kl mno pqrs tuv wxyz ABC DEF GHI JKL MNO PQRS TUV WXYZ !"§ $%& /()
< =?* '<> #|; ²³~ @`´ ©«» ¤¼× {} abc def ghi jkl mno pqrs tuv wxyz ABC
< DEF GHI JKL MNO PQRS TUV WXYZ !"§ $%& /() =?* '<> #|; ²³~ @`´ ©«» ¤¼×
< {} abc def ghi jkl
---
> kl mno pqrs tuv wxyz ABC DEF GHI JKL MNO PQRS TUV WXYZ !".. $%& /()
> =?* '<> #|; ....~ @`.. ...... ...... {} abc def ghi jkl mno pqrs tuv
> wxyz ABC DEF GHI JKL MNO PQRS TUV WXYZ !".. $%& /() =?* '<> #|; ....~
> @`.. ...... ...... {} abc def ghi jkl
631,636c631,637
< !"§ $%& /() =?* '<> #|; ²³~ @`´ ©«» ¤¼× {} abc def ghi jkl mno pqrs
< tuv wxyz ABC DEF GHI JKL MNO PQRS TUV WXYZ !"§ $%& /() =?* '<> #|;
< ²³~ @`´ ©«» ¤¼× {} abc def ghi jkl mno pqrs tuv wxyz ABC DEF GHI JKL
< MNO PQRS TUV WXYZ !"§ $%& /() =?* '<> #|; ²³~ @`´ ©«» ¤¼× {} abc def
< ghi jkl mno pqrs tuv wxyz ABC DEF GHI JKL MNO PQRS TUV WXYZ !"§ $%&
< /() =?* '<> #|; ²³~ @`´ ©«» ¤¼× {} abc def ghi jkl
---
> !".. $%& /() =?* '<> #|; ....~ @`.. ...... ...... {} abc def ghi jkl
> mno pqrs tuv wxyz ABC DEF GHI JKL MNO PQRS TUV WXYZ !".. $%& /() =?*
> '<> #|; ....~ @`.. ...... ...... {} abc def ghi jkl mno pqrs tuv wxyz
> ABC DEF GHI JKL MNO PQRS TUV WXYZ !".. $%& /() =?* '<> #|; ....~ @`..
> ...... ...... {} abc def ghi jkl mno pqrs tuv wxyz ABC DEF GHI JKL
> MNO PQRS TUV WXYZ !".. $%& /() =?* '<> #|; ....~ @`.. ...... ......
> {} abc def ghi jkl
Running 'stata.R' [1s]
Comparing 'stata.Rout' to 'stata.Rout.save' ... OK
Running 'testEmpty.R' [0s]
Comparing 'testEmpty.Rout' to 'testEmpty.Rout.save' ... OK
Running 'writeForeignSPSS.R' [0s]
Comparing 'writeForeignSPSS.Rout' to 'writeForeignSPSS.Rout.save' ... OK
Running 'xport.R' [0s]
Comparing 'xport.Rout' to 'xport.Rout.save' ... OK
- running tests for arch 'x64' ... [7s] OK
Running 'S3.R' [0s]
Comparing 'S3.Rout' to 'S3.Rout.save' ... OK
Running 'arff.R' [0s]
Comparing 'arff.Rout' to 'arff.Rout.save' ... OK
Running 'download.R' [0s]
Running 'minitab.R' [0s]
Comparing 'minitab.Rout' to 'minitab.Rout.save' ... OK
Running 'mval_bug.R' [0s]
Comparing 'mval_bug.Rout' to 'mval_bug.Rout.save' ... OK
Running 'octave.R' [0s]
Comparing 'octave.Rout' to 'octave.Rout.save' ... OK
Running 'sas.R' [0s]
Running 'spss.R' [1s]
Comparing 'spss.Rout' to 'spss.Rout.save' ...332c332
< Undeclared level(s) ä, ö added in variable: factor_s_duplicated
---
> Undeclared level(s) .. added in variable: factor_s_duplicated
352c352
< $ factor_s_duplicated : Factor w/ 5 levels "A","A_duplicated_b",..: 1 5 4 NA NA
---
> $ factor_s_duplicated : Factor w/ 4 levels "..","A","A_duplicated_b",..: 2 1 1 NA NA
362c362
< .. ..- attr(*, "names")= chr [1:2] "ABCDEFGHIJKLMNOPQRSTUVWXYZ0123456789 ! \" # $ % & ' ( ) * + , - . / : ; < = > ? @ [ \\ ] ^ _ ` { | } ~ \200" "abcdefghijklmnopqrstuvwxyzabcdefghijklmnopqrstuvwxyzabcdefghijklmnopqrstuvwxyzabcdefghijklmnopqrstuvwxyzabcdefghijklmnop"
---
> .. ..- attr(*, "names")= chr [1:2] "ABCDEFGHIJKLMNOPQRSTUVWXYZ0123456789 ! \" # $ % & ' ( ) * + , - . / : ; < = > ? @ [ \\ ] ^ _ ` { | } ~ ..." "abcdefghijklmnopqrstuvwxyzabcdefghijklmnopqrstuvwxyzabcdefghijklmnopqrstuvwxyzabcdefghijklmnopqrstuvwxyzabcdefghijklmnop"
441c441
< Undeclared level(s) ä, ö added in variable: factor_s_duplicated
---
> Undeclared level(s) .. added in variable: factor_s_duplicated
461c461
< $ factor_s_duplicated : Factor w/ 5 levels "A","A_duplicated_b",..: 1 5 4 NA NA
---
> $ factor_s_duplicated : Factor w/ 4 levels "..","A","A_duplicated_b",..: 2 1 1 NA NA
481c481
< Undeclared level(s) ä, ö added in variable: factor_s_duplicated
---
> Undeclared level(s) .. added in variable: factor_s_duplicated
521c521
< Undeclared level(s) ä, ö added in variable: factor_s_duplicated
---
> Undeclared level(s) .. added in variable: factor_s_duplicated
540c540
< Undeclared level(s) ä, ö added in variable: factor_s_duplicated
---
> Undeclared level(s) .. added in variable: factor_s_duplicated
572c572
< Undeclared level(s) ä, ö added in variable: factor_s_duplicated
---
> Undeclared level(s) .. added in variable: factor_s_duplicated
593,595c593,595
< !"§ $%& /() =?* '<> #|; ²³~ @`´ ©«» ¤¼× {} abc def ghi jkl mno pqrs
< tuv wxyz ABC DEF GHI JKL MNO PQRS TUV WXYZ !"§ $%& /() =?* '<> #|;
< ²³~ @`´ ©«» ¤¼× {} abc def ghi j
---
> !".. $%& /() =?* '<> #|; ....~ @`.. ...... ...... {} abc def ghi jkl
> mno pqrs tuv wxyz ABC DEF GHI JKL MNO PQRS TUV WXYZ !".. $%& /() =?*
> '<> #|; ....~ @`.. ...... ...... {} abc def ghi j
607,610c607,610
< kl mno pqrs tuv wxyz ABC DEF GHI JKL MNO PQRS TUV WXYZ !"§ $%& /()
< =?* '<> #|; ²³~ @`´ ©«» ¤¼× {} abc def ghi jkl mno pqrs tuv wxyz ABC
< DEF GHI JKL MNO PQRS TUV WXYZ !"§ $%& /() =?* '<> #|; ²³~ @`´ ©«» ¤¼×
< {} abc def ghi jkl
---
> kl mno pqrs tuv wxyz ABC DEF GHI JKL MNO PQRS TUV WXYZ !".. $%& /()
> =?* '<> #|; ....~ @`.. ...... ...... {} abc def ghi jkl mno pqrs tuv
> wxyz ABC DEF GHI JKL MNO PQRS TUV WXYZ !".. $%& /() =?* '<> #|; ....~
> @`.. ...... ...... {} abc def ghi jkl
631,636c631,637
< !"§ $%& /() =?* '<> #|; ²³~ @`´ ©«» ¤¼× {} abc def ghi jkl mno pqrs
< tuv wxyz ABC DEF GHI JKL MNO PQRS TUV WXYZ !"§ $%& /() =?* '<> #|;
< ²³~ @`´ ©«» ¤¼× {} abc def ghi jkl mno pqrs tuv wxyz ABC DEF GHI JKL
< MNO PQRS TUV WXYZ !"§ $%& /() =?* '<> #|; ²³~ @`´ ©«» ¤¼× {} abc def
< ghi jkl mno pqrs tuv wxyz ABC DEF GHI JKL MNO PQRS TUV WXYZ !"§ $%&
< /() =?* '<> #|; ²³~ @`´ ©«» ¤¼× {} abc def ghi jkl
---
> !".. $%& /() =?* '<> #|; ....~ @`.. ...... ...... {} abc def ghi jkl
> mno pqrs tuv wxyz ABC DEF GHI JKL MNO PQRS TUV WXYZ !".. $%& /() =?*
> '<> #|; ....~ @`.. ...... ...... {} abc def ghi jkl mno pqrs tuv wxyz
> ABC DEF GHI JKL MNO PQRS TUV WXYZ !".. $%& /() =?* '<> #|; ....~ @`..
> ...... ...... {} abc def ghi jkl mno pqrs tuv wxyz ABC DEF GHI JKL
> MNO PQRS TUV WXYZ !".. $%& /() =?* '<> #|; ....~ @`.. ...... ......
> {} abc def ghi jkl
Running 'stata.R' [1s]
Comparing 'stata.Rout' to 'stata.Rout.save' ... OK
Running 'testEmpty.R' [0s]
Comparing 'testEmpty.Rout' to 'testEmpty.Rout.save' ... OK
Running 'writeForeignSPSS.R' [0s]
Comparing 'writeForeignSPSS.Rout' to 'writeForeignSPSS.Rout.save' ... OK
Running 'xport.R' [0s]
Comparing 'xport.Rout' to 'xport.Rout.save' ... OK
- checking PDF version of manual ... OK
- DONE
Status: OK