• using R version 4.5.0 beta (2025-03-29 r88074)
  • using platform: x86_64-apple-darwin20
  • R was compiled by     Apple clang version 14.0.0 (clang-1400.0.29.202)     GNU Fortran (GCC) 14.2.0
  • running under: macOS Ventura 13.3.1
  • using session charset: UTF-8
  • checking for file ‘partsm/DESCRIPTION’ ... OK
  • this is package ‘partsm’ version ‘1.1-3’
  • checking package namespace information ... OK
  • checking package dependencies ... OK
  • checking if this is a source package ... OK
  • checking if there is a namespace ... OK
  • checking for executable files ... OK
  • checking for hidden files and directories ... OK
  • checking for portable file names ... OK
  • checking for sufficient/correct file permissions ... OK
  • checking whether package ‘partsm’ can be installed ... [3s/4s] OK See the install log for details.
  • checking installed package size ... OK
  • checking package directory ... OK
  • checking ‘build’ directory ... OK
  • checking DESCRIPTION meta-information ... OK
  • checking top-level files ... OK
  • checking for left-over files ... OK
  • checking index information ... OK
  • checking package subdirectories ... OK
  • checking code files for non-ASCII characters ... OK
  • checking R files for syntax errors ... OK
  • checking whether the package can be loaded ... [0s/0s] OK
  • checking whether the package can be loaded with stated dependencies ... [0s/0s] OK
  • checking whether the package can be unloaded cleanly ... [0s/0s] OK
  • checking whether the namespace can be loaded with stated dependencies ... [0s/0s] OK
  • checking whether the namespace can be unloaded cleanly ... [0s/0s] OK
  • checking loading without being on the library search path ... [0s/0s] OK
  • checking dependencies in R code ... OK
  • checking S3 generic/method consistency ... OK
  • checking replacement functions ... OK
  • checking foreign function calls ... OK
  • checking R code for possible problems ... [3s/5s] OK
  • checking Rd files ... [0s/1s] OK
  • checking Rd metadata ... OK
  • checking Rd cross-references ... OK
  • checking for missing documentation entries ... OK
  • checking for code/documentation mismatches ... OK
  • checking Rd \usage sections ... OK
  • checking Rd contents ... OK
  • checking for unstated dependencies in examples ... OK
  • checking contents of ‘data’ directory ... OK
  • checking data for non-ASCII characters ... [0s/0s] OK
  • checking data for ASCII and uncompressed saves ... OK
  • checking sizes of PDF files under ‘inst/doc’ ... OK
  • checking installed files from ‘inst/doc’ ... OK
  • checking files in ‘vignettes’ ... OK
  • checking examples ... [1s/1s] OK
  • checking for unstated dependencies in ‘tests’ ... OK
  • checking tests ... [1s/1s] NOTE   Running ‘partsm_examples.R’ [1s/1s]   Comparing ‘partsm_examples.Rout’ to ‘partsm_examples.Rout.save’ ...899,904c899,904 < Min. :-0.676 Min. :0.0095 Min. :-4.44 Min. :0.00000 < 1st Qu.:-0.198 1st Qu.:0.0309 1st Qu.:-1.13 1st Qu.:0.00000 < Median : 0.338 Median :0.1204 Median : 2.26 Median :0.00109 < Mean : 0.242 Mean :0.0996 Mean :25.41 Mean :0.10129 < 3rd Qu.: 0.689 3rd Qu.:0.1534 3rd Qu.:46.76 3rd Qu.:0.02555 < Max. : 1.025 Max. :0.1950 Max. :95.99 Max. :0.95332 --- > Min. :-0.676 Min. :0.0095 Min. :-4.4 Min. :0.000 > 1st Qu.:-0.198 1st Qu.:0.0309 1st Qu.:-1.1 1st Qu.:0.000 > Median : 0.338 Median :0.1204 Median : 2.3 Median :0.001 > Mean : 0.242 Mean :0.0996 Mean :25.4 Mean :0.101 > 3rd Qu.: 0.689 3rd Qu.:0.1534 3rd Qu.:46.8 3rd Qu.:0.026 > Max. : 1.025 Max. :0.1950 Max. :96.0 Max. :0.953
  • checking for unstated dependencies in vignettes ... OK
  • checking package vignettes ... OK
  • checking re-building of vignette outputs ... [14s/33s] OK
  • checking PDF version of manual ... [7s/10s] OK
  • DONE Status: 1 NOTE
  • using check arguments '--no-clean-on-error '