• using R version 4.5.0 beta (2025-03-29 r88074)
  • using platform: x86_64-apple-darwin20
  • R was compiled by     Apple clang version 14.0.0 (clang-1400.0.29.202)     GNU Fortran (GCC) 14.2.0
  • running under: macOS Ventura 13.3.1
  • using session charset: UTF-8
  • checking for file ‘PBIBD/DESCRIPTION’ ... OK
  • checking extension type ... Package
  • this is package ‘PBIBD’ version ‘1.3’
  • checking package namespace information ... OK
  • checking package dependencies ... OK
  • checking if this is a source package ... OK
  • checking if there is a namespace ... OK
  • checking for executable files ... OK
  • checking for hidden files and directories ... OK
  • checking for portable file names ... OK
  • checking for sufficient/correct file permissions ... OK
  • checking whether package ‘PBIBD’ can be installed ... [2s/2s] OK See the install log for details.
  • checking installed package size ... OK
  • checking package directory ... OK
  • checking DESCRIPTION meta-information ... OK
  • checking top-level files ... OK
  • checking for left-over files ... OK
  • checking index information ... OK
  • checking package subdirectories ... OK
  • checking code files for non-ASCII characters ... OK
  • checking R files for syntax errors ... OK
  • checking whether the package can be loaded ... [0s/0s] OK
  • checking whether the package can be loaded with stated dependencies ... [0s/0s] OK
  • checking whether the package can be unloaded cleanly ... [0s/0s] OK
  • checking whether the namespace can be loaded with stated dependencies ... [0s/0s] OK
  • checking whether the namespace can be unloaded cleanly ... [0s/0s] OK
  • checking loading without being on the library search path ... [0s/0s] OK
  • checking dependencies in R code ... OK
  • checking S3 generic/method consistency ... OK
  • checking replacement functions ... OK
  • checking foreign function calls ... OK
  • checking R code for possible problems ... [2s/3s] OK
  • checking Rd files ... [0s/0s] NOTE checkRd: (-1) ym1.Rd:10: Lost braces; missing escapes or markup?     10 | lambda 1 = v - 2(t + 1), lambda {m-i} = v - 2t - 1 - 2i ; i = 0, 1, ..., t-1        | ^ checkRd: (-1) ym1.Rd:12: Lost braces; missing escapes or markup?     12 | lambda t = lambda {t+1} = ... = lambda {m-t} = v - 4t. If t >=3 then, lambda i = v - 2(t + i); i = 2, 3, ..., t-1        | ^ checkRd: (-1) ym1.Rd:12: Lost braces; missing escapes or markup?     12 | lambda t = lambda {t+1} = ... = lambda {m-t} = v - 4t. If t >=3 then, lambda i = v - 2(t + i); i = 2, 3, ..., t-1        | ^ checkRd: (-1) ym1.Rd:18: Lost braces; missing escapes or markup?     18 | lambda 1 = v - 2t - 1, lambda {m-i} = v - 2(t + 1) - i; i = 0, 1, ..., t - 1, lambda {m-(t-1)-i} = lambda {m-(t-1)} - i ; i = 0, 1, 2, ..., t-1        | ^ checkRd: (-1) ym1.Rd:18: Lost braces; missing escapes or markup?     18 | lambda 1 = v - 2t - 1, lambda {m-i} = v - 2(t + 1) - i; i = 0, 1, ..., t - 1, lambda {m-(t-1)-i} = lambda {m-(t-1)} - i ; i = 0, 1, 2, ..., t-1        | ^ checkRd: (-1) ym1.Rd:18: Lost braces; missing escapes or markup?     18 | lambda 1 = v - 2t - 1, lambda {m-i} = v - 2(t + 1) - i; i = 0, 1, ..., t - 1, lambda {m-(t-1)-i} = lambda {m-(t-1)} - i ; i = 0, 1, 2, ..., t-1        | ^ checkRd: (-1) ym1.Rd:20: Lost braces; missing escapes or markup?     20 | and lambda 2 = lambda 3= ... = lambda {(m-2t+1)} = lambda {(m-2t+2)}        | ^ checkRd: (-1) ym1.Rd:20: Lost braces; missing escapes or markup?     20 | and lambda 2 = lambda 3= ... = lambda {(m-2t+1)} = lambda {(m-2t+2)}        | ^ checkRd: (-1) ym2.Rd:8: Lost braces; missing escapes or markup?      8 | If m is even, then lambda {i+1} = lambda i - 2; i = 1, 2, ..., m/2 and lambda {i-1} = lambda i - 2; i = m, m-1, ..., (m/2)+1        | ^ checkRd: (-1) ym2.Rd:8: Lost braces; missing escapes or markup?      8 | If m is even, then lambda {i+1} = lambda i - 2; i = 1, 2, ..., m/2 and lambda {i-1} = lambda i - 2; i = m, m-1, ..., (m/2)+1        | ^ checkRd: (-1) ym2.Rd:10: Lost braces; missing escapes or markup?     10 | If m is odd, then lambda {i+1} = lambda i - 2; i = 1, 2, ..., (m+1)/2 and lambda {i-1} = lambda i - 2; i = m, m-1, ..., ((m+1)/2) + 1        | ^ checkRd: (-1) ym2.Rd:10: Lost braces; missing escapes or markup?     10 | If m is odd, then lambda {i+1} = lambda i - 2; i = 1, 2, ..., (m+1)/2 and lambda {i-1} = lambda i - 2; i = m, m-1, ..., ((m+1)/2) + 1        | ^ checkRd: (-1) ym3.Rd:10: Lost braces; missing escapes or markup?     10 | if m > 3 then, lambda j = lambda {j-1}+1 ; j = t+3, t+4, ...,m        | ^
  • checking Rd metadata ... OK
  • checking Rd cross-references ... OK
  • checking for missing documentation entries ... OK
  • checking for code/documentation mismatches ... OK
  • checking Rd \usage sections ... OK
  • checking Rd contents ... OK
  • checking for unstated dependencies in examples ... OK
  • checking examples ... [0s/0s] OK
  • checking PDF version of manual ... [6s/8s] OK
  • DONE Status: 1 NOTE
  • using check arguments '--no-clean-on-error '