- using R version 4.5.0 beta (2025-03-29 r88074)
 
- using platform: x86_64-apple-darwin20
 
- R was compiled by
    Apple clang version 14.0.0 (clang-1400.0.29.202)
    GNU Fortran (GCC) 14.2.0
 
- running under: macOS Ventura 13.3.1
 
- using session charset: UTF-8
 
- checking for file ‘FastKM/DESCRIPTION’ ... OK
 
- checking extension type ... Package
 
- this is package ‘FastKM’ version ‘1.1’
 
- checking package namespace information ... OK
 
- checking package dependencies ... INFO
Package suggested but not available for checking: ‘coxKM’
 
- checking if this is a source package ... OK
 
- checking if there is a namespace ... OK
 
- checking for executable files ... OK
 
- checking for hidden files and directories ... OK
 
- checking for portable file names ... OK
 
- checking for sufficient/correct file permissions ... OK
 
- checking whether package ‘FastKM’ can be installed ... [5s/5s] OK
See the install log for details.
 
- checking installed package size ... OK
 
- checking package directory ... OK
 
- checking DESCRIPTION meta-information ... OK
 
- checking top-level files ... OK
 
- checking for left-over files ... OK
 
- checking index information ... OK
 
- checking package subdirectories ... OK
 
- checking code files for non-ASCII characters ... OK
 
- checking R files for syntax errors ... OK
 
- checking whether the package can be loaded ... [1s/2s] OK
 
- checking whether the package can be loaded with stated dependencies ... [1s/2s] OK
 
- checking whether the package can be unloaded cleanly ... [1s/2s] OK
 
- checking whether the namespace can be loaded with stated dependencies ... [1s/2s] OK
 
- checking whether the namespace can be unloaded cleanly ... [1s/1s] OK
 
- checking loading without being on the library search path ... [1s/1s] OK
 
- checking whether startup messages can be suppressed ... [1s/2s] OK
 
- checking dependencies in R code ... OK
 
- checking S3 generic/method consistency ... OK
 
- checking replacement functions ... OK
 
- checking foreign function calls ... OK
 
- checking R code for possible problems ... [4s/5s] OK
 
- checking Rd files ... [0s/0s] NOTE
checkRd: (-1) KITdesign.Rd:36: Lost braces; missing escapes or markup?
    36 |  \item{trait}{One of {'c','d','s',NULL} indicating the type
       |                      ^
checkRd: (-1) KITkernel.Rd:51: Lost braces; missing escapes or markup?
    51 |  \item{trait}{One of {'c','d','s',NULL} indicating the type
       |                      ^
checkRd: (-1) geno.Rd:19: Lost braces; missing escapes or markup?
    19 |                 Must be one of {'ibs', 'linear', 'quadratic'}.
       |                                ^
checkRd: (-1) geno.Rd:31: Lost braces; missing escapes or markup?
    31 |                      {'add', 'dom', 'rec'} indicating additive,
       |                      ^
checkRd: (-1) nongeno.Rd:14: Lost braces; missing escapes or markup?
    14 |                 Must be one of {'interactive', 'linear', 'quadratic'}.
       |                                ^
 
- checking Rd metadata ... OK
 
- checking Rd cross-references ... OK
 
- checking for missing documentation entries ... OK
 
- checking for code/documentation mismatches ... OK
 
- checking Rd \usage sections ... OK
 
- checking Rd contents ... OK
 
- checking for unstated dependencies in examples ... OK
 
- checking examples ... [2s/2s] OK
 
- checking PDF version of manual ... [6s/9s] OK
 
- DONE
Status: 1 NOTE
 
- using check arguments '--no-clean-on-error '