• using R version 4.5.0 beta (2025-03-29 r88074)
  • using platform: x86_64-apple-darwin20
  • R was compiled by     Apple clang version 14.0.0 (clang-1400.0.29.202)     GNU Fortran (GCC) 14.2.0
  • running under: macOS Ventura 13.3.1
  • using session charset: UTF-8
  • checking for file ‘DALSM/DESCRIPTION’ ... OK
  • checking extension type ... Package
  • this is package ‘DALSM’ version ‘0.9.1’
  • package encoding: UTF-8
  • checking package namespace information ... OK
  • checking package dependencies ... OK
  • checking if this is a source package ... OK
  • checking if there is a namespace ... OK
  • checking for executable files ... OK
  • checking for hidden files and directories ... OK
  • checking for portable file names ... OK
  • checking for sufficient/correct file permissions ... OK
  • checking whether package ‘DALSM’ can be installed ... [4s/5s] OK See the install log for details.
  • checking installed package size ... OK
  • checking package directory ... OK
  • checking DESCRIPTION meta-information ... OK
  • checking top-level files ... OK
  • checking for left-over files ... OK
  • checking index information ... OK
  • checking package subdirectories ... OK
  • checking code files for non-ASCII characters ... OK
  • checking R files for syntax errors ... OK
  • checking whether the package can be loaded ... [0s/0s] OK
  • checking whether the package can be loaded with stated dependencies ... [0s/0s] OK
  • checking whether the package can be unloaded cleanly ... [0s/0s] OK
  • checking whether the namespace can be loaded with stated dependencies ... [0s/0s] OK
  • checking whether the namespace can be unloaded cleanly ... [0s/0s] OK
  • checking loading without being on the library search path ... [0s/0s] OK
  • checking dependencies in R code ... OK
  • checking S3 generic/method consistency ... OK
  • checking replacement functions ... OK
  • checking foreign function calls ... OK
  • checking R code for possible problems ... [5s/7s] OK
  • checking Rd files ... [1s/1s] NOTE checkRd: (-1) DALSM.object.Rd:11: Lost braces in \itemize; \value handles \item{}{} directly checkRd: (-1) DALSM.object.Rd:12: Lost braces in \itemize; \value handles \item{}{} directly checkRd: (-1) DALSM.object.Rd:13: Lost braces in \itemize; \value handles \item{}{} directly checkRd: (-1) DALSM.object.Rd:14: Lost braces in \itemize; \value handles \item{}{} directly checkRd: (-1) DALSM.object.Rd:15: Lost braces in \itemize; \value handles \item{}{} directly checkRd: (-1) DALSM.object.Rd:16: Lost braces in \itemize; \value handles \item{}{} directly checkRd: (-1) DALSM.object.Rd:17: Lost braces in \itemize; \value handles \item{}{} directly checkRd: (-1) DALSM.object.Rd:18: Lost braces in \itemize; \value handles \item{}{} directly checkRd: (-1) DALSM.object.Rd:22: Lost braces in \itemize; \value handles \item{}{} directly checkRd: (-1) DALSM.object.Rd:23: Lost braces in \itemize; \value handles \item{}{} directly checkRd: (-1) DALSM.object.Rd:24: Lost braces in \itemize; \value handles \item{}{} directly checkRd: (-1) DALSM.object.Rd:25: Lost braces in \itemize; \value handles \item{}{} directly checkRd: (-1) DALSM.object.Rd:26: Lost braces in \itemize; \value handles \item{}{} directly checkRd: (-1) DALSM.object.Rd:27: Lost braces in \itemize; \value handles \item{}{} directly checkRd: (-1) DALSM.object.Rd:28: Lost braces in \itemize; \value handles \item{}{} directly checkRd: (-1) DALSM.object.Rd:29: Lost braces in \itemize; \value handles \item{}{} directly checkRd: (-1) DALSM.object.Rd:30: Lost braces in \itemize; \value handles \item{}{} directly checkRd: (-1) DALSM.object.Rd:31: Lost braces in \itemize; \value handles \item{}{} directly checkRd: (-1) DALSM.object.Rd:32: Lost braces in \itemize; \value handles \item{}{} directly checkRd: (-1) DALSM.object.Rd:33: Lost braces in \itemize; \value handles \item{}{} directly checkRd: (-1) DALSM.object.Rd:34: Lost braces in \itemize; \value handles \item{}{} directly checkRd: (-1) DALSM.object.Rd:35: Lost braces in \itemize; \value handles \item{}{} directly checkRd: (-1) DALSM.object.Rd:36: Lost braces in \itemize; \value handles \item{}{} directly checkRd: (-1) DALSM.object.Rd:37: Lost braces in \itemize; \value handles \item{}{} directly checkRd: (-1) DALSM.object.Rd:38: Lost braces in \itemize; \value handles \item{}{} directly checkRd: (-1) DALSM.object.Rd:39: Lost braces in \itemize; \value handles \item{}{} directly checkRd: (-1) DALSM.object.Rd:40: Lost braces in \itemize; \value handles \item{}{} directly checkRd: (-1) DALSM.object.Rd:41: Lost braces in \itemize; \value handles \item{}{} directly checkRd: (-1) DALSM.object.Rd:42: Lost braces in \itemize; \value handles \item{}{} directly checkRd: (-1) DALSM.object.Rd:43: Lost braces in \itemize; \value handles \item{}{} directly checkRd: (-1) DALSM.object.Rd:44: Lost braces in \itemize; \value handles \item{}{} directly checkRd: (-1) DALSM.object.Rd:45: Lost braces in \itemize; \value handles \item{}{} directly checkRd: (-1) DALSM.object.Rd:46: Lost braces in \itemize; \value handles \item{}{} directly checkRd: (-1) DALSM.object.Rd:47: Lost braces in \itemize; \value handles \item{}{} directly checkRd: (-1) DALSM.object.Rd:48: Lost braces in \itemize; \value handles \item{}{} directly checkRd: (-1) DALSM.object.Rd:49: Lost braces in \itemize; \value handles \item{}{} directly checkRd: (-1) DALSM.object.Rd:50: Lost braces in \itemize; \value handles \item{}{} directly checkRd: (-1) DALSM.object.Rd:51: Lost braces in \itemize; \value handles \item{}{} directly checkRd: (-1) DALSM.object.Rd:52: Lost braces in \itemize; \value handles \item{}{} directly checkRd: (-1) DALSM.object.Rd:56: Lost braces in \itemize; \value handles \item{}{} directly checkRd: (-1) DALSM.object.Rd:57: Lost braces in \itemize; \value handles \item{}{} directly checkRd: (-1) DALSM.object.Rd:58: Lost braces in \itemize; \value handles \item{}{} directly checkRd: (-1) DALSM.object.Rd:59: Lost braces in \itemize; \value handles \item{}{} directly checkRd: (-1) DALSM.object.Rd:60: Lost braces in \itemize; \value handles \item{}{} directly checkRd: (-1) DALSM.object.Rd:61: Lost braces in \itemize; \value handles \item{}{} directly checkRd: (-1) DALSM.object.Rd:62: Lost braces in \itemize; \value handles \item{}{} directly checkRd: (-1) DALSM.object.Rd:63: Lost braces in \itemize; \value handles \item{}{} directly checkRd: (-1) DALSM.object.Rd:67: Lost braces in \itemize; \value handles \item{}{} directly checkRd: (-1) DALSM.object.Rd:68: Lost braces in \itemize; \value handles \item{}{} directly checkRd: (-1) DALSM.object.Rd:69: Lost braces in \itemize; \value handles \item{}{} directly checkRd: (-1) DALSM.object.Rd:70: Lost braces in \itemize; \value handles \item{}{} directly checkRd: (-1) DALSM.object.Rd:71: Lost braces in \itemize; \value handles \item{}{} directly checkRd: (-1) DALSM.object.Rd:72: Lost braces in \itemize; \value handles \item{}{} directly checkRd: (-1) DALSM.object.Rd:73: Lost braces in \itemize; \value handles \item{}{} directly checkRd: (-1) DALSM.object.Rd:74: Lost braces in \itemize; \value handles \item{}{} directly checkRd: (-1) DALSM_IncomeData.Rd:10: Lost braces in \itemize; meant \describe ? checkRd: (-1) DALSM_IncomeData.Rd:11: Lost braces in \itemize; meant \describe ? checkRd: (-1) DALSM_IncomeData.Rd:12: Lost braces in \itemize; meant \describe ? checkRd: (-1) DALSM_IncomeData.Rd:13: Lost braces in \itemize; meant \describe ? checkRd: (-1) DALSM_IncomeData.Rd:14: Lost braces in \itemize; meant \describe ? checkRd: (-1) DALSM_additive.Rd:27: Lost braces in \itemize; \value handles \item{}{} directly checkRd: (-1) DALSM_additive.Rd:28: Lost braces in \itemize; \value handles \item{}{} directly checkRd: (-1) DALSM_additive.Rd:29: Lost braces in \itemize; \value handles \item{}{} directly checkRd: (-1) DALSM_additive.Rd:30: Lost braces in \itemize; \value handles \item{}{} directly checkRd: (-1) DALSM_additive.Rd:31: Lost braces in \itemize; \value handles \item{}{} directly checkRd: (-1) DALSM_additive.Rd:32: Lost braces in \itemize; \value handles \item{}{} directly checkRd: (-1) DALSM_additive.Rd:33: Lost braces in \itemize; \value handles \item{}{} directly checkRd: (-1) DALSM_additive.Rd:34: Lost braces in \itemize; \value handles \item{}{} directly checkRd: (-1) DALSM_additive.Rd:35: Lost braces in \itemize; \value handles \item{}{} directly checkRd: (-1) DALSM_additive.Rd:36: Lost braces in \itemize; \value handles \item{}{} directly checkRd: (-1) DALSM_additive.Rd:37: Lost braces in \itemize; \value handles \item{}{} directly checkRd: (-1) DALSM_additive.Rd:38: Lost braces in \itemize; \value handles \item{}{} directly checkRd: (-1) Dens1d.object.Rd:10: Lost braces in \itemize; \value handles \item{}{} directly checkRd: (-1) Dens1d.object.Rd:11: Lost braces in \itemize; \value handles \item{}{} directly checkRd: (-1) Dens1d.object.Rd:12: Lost braces in \itemize; \value handles \item{}{} directly checkRd: (-1) Dens1d.object.Rd:13: Lost braces in \itemize; \value handles \item{}{} directly checkRd: (-1) Dens1d.object.Rd:14: Lost braces in \itemize; \value handles \item{}{} directly checkRd: (-1) Dens1d.object.Rd:15: Lost braces in \itemize; \value handles \item{}{} directly checkRd: (-1) Dens1d.object.Rd:16: Lost braces in \itemize; \value handles \item{}{} directly checkRd: (-1) Dens1d.object.Rd:17: Lost braces in \itemize; \value handles \item{}{} directly checkRd: (-1) Dens1d.object.Rd:18: Lost braces in \itemize; \value handles \item{}{} directly checkRd: (-1) Dens1d.object.Rd:19: Lost braces in \itemize; \value handles \item{}{} directly checkRd: (-1) Dens1d.object.Rd:20: Lost braces in \itemize; \value handles \item{}{} directly checkRd: (-1) Dens1d.object.Rd:21: Lost braces in \itemize; \value handles \item{}{} directly checkRd: (-1) Dens1d.object.Rd:22: Lost braces in \itemize; \value handles \item{}{} directly checkRd: (-1) Dens1d.object.Rd:23: Lost braces in \itemize; \value handles \item{}{} directly checkRd: (-1) Dens1d.object.Rd:24: Lost braces in \itemize; \value handles \item{}{} directly checkRd: (-1) Dens1d.object.Rd:25: Lost braces in \itemize; \value handles \item{}{} directly checkRd: (-1) Dens1d.object.Rd:26: Lost braces in \itemize; \value handles \item{}{} directly checkRd: (-1) Dens1d.object.Rd:27: Lost braces in \itemize; \value handles \item{}{} directly checkRd: (-1) Dens1d.object.Rd:28: Lost braces in \itemize; \value handles \item{}{} directly checkRd: (-1) Dens1d.object.Rd:29: Lost braces in \itemize; \value handles \item{}{} directly checkRd: (-1) Dens1d.object.Rd:30: Lost braces in \itemize; \value handles \item{}{} directly checkRd: (-1) Dens1d.object.Rd:31: Lost braces in \itemize; \value handles \item{}{} directly checkRd: (-1) Dens1d.object.Rd:32: Lost braces in \itemize; \value handles \item{}{} directly checkRd: (-1) Dens1d.object.Rd:33: Lost braces in \itemize; \value handles \item{}{} directly checkRd: (-1) Dens1d.object.Rd:34: Lost braces in \itemize; \value handles \item{}{} directly checkRd: (-1) Dens1d.object.Rd:35: Lost braces in \itemize; \value handles \item{}{} directly checkRd: (-1) Dens1d.object.Rd:36: Lost braces in \itemize; \value handles \item{}{} directly checkRd: (-1) DesignFormula.Rd:23: Lost braces in \itemize; \value handles \item{}{} directly checkRd: (-1) DesignFormula.Rd:24: Lost braces in \itemize; \value handles \item{}{} directly checkRd: (-1) DesignFormula.Rd:25: Lost braces in \itemize; \value handles \item{}{} directly checkRd: (-1) DesignFormula.Rd:26: Lost braces in \itemize; \value handles \item{}{} directly checkRd: (-1) DesignFormula.Rd:27: Lost braces in \itemize; \value handles \item{}{} directly checkRd: (-1) DesignFormula.Rd:28: Lost braces in \itemize; \value handles \item{}{} directly checkRd: (-1) DesignFormula.Rd:29: Lost braces in \itemize; \value handles \item{}{} directly checkRd: (-1) DesignFormula.Rd:30: Lost braces in \itemize; \value handles \item{}{} directly checkRd: (-1) DesignFormula.Rd:31: Lost braces in \itemize; \value handles \item{}{} directly checkRd: (-1) DesignFormula.Rd:32: Lost braces in \itemize; \value handles \item{}{} directly checkRd: (-1) DesignFormula.Rd:33: Lost braces in \itemize; \value handles \item{}{} directly checkRd: (-1) DesignFormula.Rd:34: Lost braces in \itemize; \value handles \item{}{} directly checkRd: (-1) DesignFormula.Rd:35: Lost braces in \itemize; \value handles \item{}{} directly checkRd: (-1) centeredBasis.gen.Rd:21: Lost braces in \itemize; \value handles \item{}{} directly checkRd: (-1) centeredBasis.gen.Rd:22: Lost braces in \itemize; \value handles \item{}{} directly checkRd: (-1) centeredBasis.gen.Rd:23: Lost braces in \itemize; \value handles \item{}{} directly checkRd: (-1) centeredBasis.gen.Rd:24: Lost braces in \itemize; \value handles \item{}{} directly checkRd: (-1) centeredBasis.gen.Rd:25: Lost braces in \itemize; \value handles \item{}{} directly checkRd: (-1) densLPS.object.Rd:10: Lost braces in \itemize; \value handles \item{}{} directly checkRd: (-1) densLPS.object.Rd:11: Lost braces in \itemize; \value handles \item{}{} directly checkRd: (-1) densLPS.object.Rd:12: Lost braces in \itemize; \value handles \item{}{} directly checkRd: (-1) densLPS.object.Rd:13: Lost braces in \itemize; \value handles \item{}{} directly checkRd: (-1) densLPS.object.Rd:14: Lost braces in \itemize; \value handles \item{}{} directly checkRd: (-1) densLPS.object.Rd:15: Lost braces in \itemize; \value handles \item{}{} directly checkRd: (-1) densLPS.object.Rd:16: Lost braces in \itemize; \value handles \item{}{} directly checkRd: (-1) densLPS.object.Rd:17: Lost braces in \itemize; \value handles \item{}{} directly checkRd: (-1) densLPS.object.Rd:18: Lost braces in \itemize; \value handles \item{}{} directly checkRd: (-1) densLPS.object.Rd:19: Lost braces in \itemize; \value handles \item{}{} directly checkRd: (-1) densLPS.object.Rd:20: Lost braces in \itemize; \value handles \item{}{} directly checkRd: (-1) densLPS.object.Rd:21: Lost braces in \itemize; \value handles \item{}{} directly checkRd: (-1) densLPS.object.Rd:22: Lost braces in \itemize; \value handles \item{}{} directly checkRd: (-1) densLPS.object.Rd:23: Lost braces in \itemize; \value handles \item{}{} directly checkRd: (-1) densLPS.object.Rd:24: Lost braces in \itemize; \value handles \item{}{} directly checkRd: (-1) densLPS.object.Rd:25: Lost braces in \itemize; \value handles \item{}{} directly checkRd: (-1) densLPS.object.Rd:26: Lost braces in \itemize; \value handles \item{}{} directly checkRd: (-1) densLPS.object.Rd:27: Lost braces in \itemize; \value handles \item{}{} directly checkRd: (-1) densLPS.object.Rd:28: Lost braces in \itemize; \value handles \item{}{} directly checkRd: (-1) densLPS.object.Rd:29: Lost braces in \itemize; \value handles \item{}{} directly checkRd: (-1) densLPS.object.Rd:30: Lost braces in \itemize; \value handles \item{}{} directly checkRd: (-1) densLPS.object.Rd:31: Lost braces in \itemize; \value handles \item{}{} directly checkRd: (-1) densLPS.object.Rd:32: Lost braces in \itemize; \value handles \item{}{} directly checkRd: (-1) densLPS.object.Rd:33: Lost braces in \itemize; \value handles \item{}{} directly checkRd: (-1) densLPS.object.Rd:34: Lost braces in \itemize; \value handles \item{}{} directly checkRd: (-1) densLPS.object.Rd:35: Lost braces in \itemize; \value handles \item{}{} directly checkRd: (-1) plot.DALSM.Rd:42: Lost braces in \itemize; \value handles \item{}{} directly checkRd: (-1) plot.DALSM.Rd:43: Lost braces in \itemize; \value handles \item{}{} directly checkRd: (-1) plot.DALSM.Rd:44: Lost braces in \itemize; \value handles \item{}{} directly checkRd: (-1) plot.DALSM.Rd:45: Lost braces in \itemize; \value handles \item{}{} directly checkRd: (-1) plot.DALSM.Rd:46: Lost braces in \itemize; \value handles \item{}{} directly checkRd: (-1) plot.DALSM.Rd:47: Lost braces in \itemize; \value handles \item{}{} directly checkRd: (-1) plot.DALSM.Rd:48: Lost braces in \itemize; \value handles \item{}{} directly checkRd: (-1) plot.DALSM.Rd:49: Lost braces in \itemize; \value handles \item{}{} directly checkRd: (-1) predict.DALSM.Rd:21: Lost braces in \itemize; \value handles \item{}{} directly checkRd: (-1) predict.DALSM.Rd:22: Lost braces in \itemize; \value handles \item{}{} directly checkRd: (-1) predict.DALSM.Rd:23: Lost braces in \itemize; \value handles \item{}{} directly checkRd: (-1) predict.DALSM.Rd:24: Lost braces in \itemize; \value handles \item{}{} directly checkRd: (-1) predict.DALSM.Rd:25: Lost braces in \itemize; \value handles \item{}{} directly checkRd: (-1) qknots.Rd:25: Lost braces in \itemize; \value handles \item{}{} directly checkRd: (-1) qknots.Rd:26: Lost braces in \itemize; \value handles \item{}{} directly checkRd: (-1) qknots.Rd:27: Lost braces in \itemize; \value handles \item{}{} directly checkRd: (-1) qknots.Rd:28: Lost braces in \itemize; \value handles \item{}{} directly checkRd: (-1) qknots.Rd:29: Lost braces in \itemize; \value handles \item{}{} directly checkRd: (-1) qknots.Rd:30: Lost braces in \itemize; \value handles \item{}{} directly
  • checking Rd metadata ... OK
  • checking Rd cross-references ... OK
  • checking for missing documentation entries ... OK
  • checking for code/documentation mismatches ... OK
  • checking Rd \usage sections ... OK
  • checking Rd contents ... OK
  • checking for unstated dependencies in examples ... OK
  • checking contents of ‘data’ directory ... OK
  • checking data for non-ASCII characters ... [0s/0s] OK
  • checking LazyData ... OK
  • checking data for ASCII and uncompressed saves ... OK
  • checking examples ... [17s/26s] OK
  • checking PDF version of manual ... [8s/18s] OK
  • DONE Status: 1 NOTE
  • using check arguments '--no-clean-on-error '