- using R version 4.5.0 beta (2025-03-29 r88069)
 
- using platform: aarch64-apple-darwin20
 
- R was compiled by
    Apple clang version 14.0.0 (clang-1400.0.29.202)
    GNU Fortran (GCC) 14.2.0
 
- running under: macOS Ventura 13.4
 
- using session charset: UTF-8
 
- checking for file ‘touch/DESCRIPTION’ ... OK
 
- this is package ‘touch’ version ‘0.1-6’
 
- package encoding: UTF-8
 
- checking package namespace information ... OK
 
- checking package dependencies ... OK
 
- checking if this is a source package ... OK
 
- checking if there is a namespace ... OK
 
- checking for executable files ... OK
 
- checking for hidden files and directories ... OK
 
- checking for portable file names ... OK
 
- checking for sufficient/correct file permissions ... OK
 
- checking whether package ‘touch’ can be installed ... [9s/10s] OK
See the install log for details.
 
- used C++ compiler: ‘Apple clang version 14.0.0 (clang-1400.0.29.202)’
 
- used SDK: ‘MacOSX11.3.sdk’
 
- checking C++ specification ... NOTE
  Specified C++11: please drop specification unless essential
 
- checking installed package size ... OK
 
- checking package directory ... OK
 
- checking DESCRIPTION meta-information ... OK
 
- checking top-level files ... OK
 
- checking for left-over files ... OK
 
- checking index information ... OK
 
- checking package subdirectories ... OK
 
- checking code files for non-ASCII characters ... OK
 
- checking R files for syntax errors ... OK
 
- checking whether the package can be loaded ... [0s/0s] OK
 
- checking whether the package can be loaded with stated dependencies ... [0s/0s] OK
 
- checking whether the package can be unloaded cleanly ... [0s/0s] OK
 
- checking whether the namespace can be loaded with stated dependencies ... [0s/0s] OK
 
- checking whether the namespace can be unloaded cleanly ... [0s/0s] OK
 
- checking loading without being on the library search path ... [0s/0s] OK
 
- checking whether startup messages can be suppressed ... [0s/0s] OK
 
- checking dependencies in R code ... OK
 
- checking S3 generic/method consistency ... OK
 
- checking replacement functions ... OK
 
- checking foreign function calls ... OK
 
- checking R code for possible problems ... [2s/2s] OK
 
- checking Rd files ... [0s/0s] OK
 
- checking Rd metadata ... OK
 
- checking Rd cross-references ... OK
 
- checking for missing documentation entries ... OK
 
- checking for code/documentation mismatches ... OK
 
- checking Rd \usage sections ... OK
 
- checking Rd contents ... OK
 
- checking for unstated dependencies in examples ... OK
 
- checking contents of ‘data’ directory ... OK
 
- checking data for non-ASCII characters ... [0s/0s] OK
 
- checking LazyData ... OK
 
- checking data for ASCII and uncompressed saves ... OK
 
- checking R/sysdata.rda ... OK
 
- checking line endings in C/C++/Fortran sources/headers ... OK
 
- checking line endings in Makefiles ... OK
 
- checking compilation flags in Makevars ... OK
 
- checking for GNU extensions in Makefiles ... OK
 
- checking for portable use of $(BLAS_LIBS) and $(LAPACK_LIBS) ... OK
 
- checking use of PKG_*FLAGS in Makefiles ... OK
 
- checking compiled code ... OK
 
- checking installed files from ‘inst/doc’ ... OK
 
- checking examples ... [1s/1s] OK
 
- checking PDF version of manual ... [3s/5s] OK
 
- DONE
Status: 1 NOTE
 
- using check arguments '--no-clean-on-error '