• using R version 4.5.0 beta (2025-03-29 r88069)
  • using platform: aarch64-apple-darwin20
  • R was compiled by     Apple clang version 14.0.0 (clang-1400.0.29.202)     GNU Fortran (GCC) 14.2.0
  • running under: macOS Ventura 13.4
  • using session charset: UTF-8
  • checking for file ‘tinkr/DESCRIPTION’ ... OK
  • this is package ‘tinkr’ version ‘0.2.0’
  • package encoding: UTF-8
  • checking package namespace information ... OK
  • checking package dependencies ... OK
  • checking if this is a source package ... OK
  • checking if there is a namespace ... OK
  • checking for executable files ... OK
  • checking for hidden files and directories ... OK
  • checking for portable file names ... OK
  • checking for sufficient/correct file permissions ... OK
  • checking whether package ‘tinkr’ can be installed ... [1s/2s] OK See the install log for details.
  • checking installed package size ... OK
  • checking package directory ... OK
  • checking ‘build’ directory ... OK
  • checking DESCRIPTION meta-information ... OK
  • checking top-level files ... OK
  • checking for left-over files ... OK
  • checking index information ... OK
  • checking package subdirectories ... OK
  • checking code files for non-ASCII characters ... OK
  • checking R files for syntax errors ... OK
  • checking whether the package can be loaded ... [0s/0s] OK
  • checking whether the package can be loaded with stated dependencies ... [0s/0s] OK
  • checking whether the package can be unloaded cleanly ... [0s/0s] OK
  • checking whether the namespace can be loaded with stated dependencies ... [0s/0s] OK
  • checking whether the namespace can be unloaded cleanly ... [0s/0s] OK
  • checking loading without being on the library search path ... [0s/0s] OK
  • checking dependencies in R code ... OK
  • checking S3 generic/method consistency ... OK
  • checking replacement functions ... OK
  • checking foreign function calls ... OK
  • checking R code for possible problems ... [1s/2s] OK
  • checking Rd files ... [0s/0s] NOTE checkRd: (-1) add_md.Rd:10: Lost braces; missing escapes or markup?     10 | \item{body}{an XML object generated via {tinkr}}        | ^ checkRd: (-1) md_ns.Rd:13: Lost braces; missing escapes or markup?     13 | The {commonmark} package is used to translate markdown to XML, but it does        | ^ checkRd: (-1) md_ns.Rd:14: Lost braces; missing escapes or markup?     14 | not assign a namespace prefix, which means that {xml2} will auto-assign a        | ^ checkRd: (-1) stylesheet.Rd:5: Lost braces; missing escapes or markup?      5 | \title{The {tinkr} stylesheet}        | ^ checkRd: (-1) stylesheet.Rd:14: Lost braces; missing escapes or markup?     14 | This function returns the path to the {tinkr} stylesheet        | ^ checkRd: (-1) stylesheet.Rd:11: Lost braces; missing escapes or markup?     11 | stylesheet used by {tinkr}.        | ^
  • checking Rd metadata ... OK
  • checking Rd cross-references ... OK
  • checking for missing documentation entries ... OK
  • checking for code/documentation mismatches ... OK
  • checking Rd \usage sections ... OK
  • checking Rd contents ... OK
  • checking for unstated dependencies in examples ... OK
  • checking installed files from ‘inst/doc’ ... OK
  • checking files in ‘vignettes’ ... OK
  • checking examples ... [1s/1s] OK
  • checking for unstated dependencies in ‘tests’ ... OK
  • checking tests ... [2s/3s] OK   Running ‘testthat.R’ [2s/2s]
  • checking for unstated dependencies in vignettes ... OK
  • checking package vignettes ... OK
  • checking re-building of vignette outputs ... [8s/15s] OK
  • checking PDF version of manual ... [4s/6s] OK
  • DONE Status: 1 NOTE
  • using check arguments '--no-clean-on-error '