* using log directory ‘/Volumes/Builds/packages/big-sur-arm64/results/4.5/survivoR.Rcheck’ * using R version 4.5.0 beta (2025-03-29 r88069) * using platform: aarch64-apple-darwin20 * R was compiled by Apple clang version 14.0.0 (clang-1400.0.29.202) GNU Fortran (GCC) 14.2.0 * running under: macOS Ventura 13.4 * using session charset: UTF-8 * checking for file ‘survivoR/DESCRIPTION’ ... OK * checking extension type ... Package * this is package ‘survivoR’ version ‘2.3.5’ * package encoding: UTF-8 * checking package namespace information ... OK * checking package dependencies ... OK * checking if this is a source package ... OK * checking if there is a namespace ... OK * checking for executable files ... OK * checking for hidden files and directories ... OK * checking for portable file names ... OK * checking for sufficient/correct file permissions ... OK * checking whether package ‘survivoR’ can be installed ... [4s/5s] OK See 'https://www.r-project.org/nosvn/R.check/r-devel-macos-arm64/survivoR-00install.html' for details. * checking installed package size ... OK * checking package directory ... OK * checking DESCRIPTION meta-information ... NOTE Missing dependency on R >= 4.1.0 because package code uses the pipe |> or function shorthand \(...) syntax added in R 4.1.0. File(s) using such syntax: ‘add.R’ ‘add_alive.Rd’ ‘add_bipoc.Rd’ ‘add_castaway.Rd’ ‘add_demogs.Rd’ ‘add_finalist.Rd’ ‘add_full_name.Rd’ ‘add_gender.Rd’ ‘add_jury.Rd’ ‘add_lgbt.Rd’ ‘add_result.Rd’ ‘add_tribe.Rd’ ‘add_tribe_colour.Rd’ ‘add_winner.Rd’ ‘castaway_details.Rd’ ‘filter_alive.Rd’ ‘filter_final_n.Rd’ ‘filter_finalist.Rd’ ‘filter_jury.Rd’ ‘filter_new_era.Rd’ ‘filter_us.Rd’ ‘filter_vs.Rd’ ‘filter_winner.Rd’ ‘filters.R’ ‘get.R’ ‘helpers.R’ * checking top-level files ... OK * checking for left-over files ... OK * checking index information ... OK * checking package subdirectories ... OK * checking code files for non-ASCII characters ... OK * checking R files for syntax errors ... OK * checking whether the package can be loaded ... [1s/1s] OK * checking whether the package can be loaded with stated dependencies ... [1s/1s] OK * checking whether the package can be unloaded cleanly ... [1s/1s] OK * checking whether the namespace can be loaded with stated dependencies ... [1s/1s] OK * checking whether the namespace can be unloaded cleanly ... [1s/1s] OK * checking loading without being on the library search path ... [1s/1s] OK * checking dependencies in R code ... OK * checking S3 generic/method consistency ... OK * checking replacement functions ... OK * checking foreign function calls ... OK * checking R code for possible problems ... [2s/3s] OK * checking Rd files ... [0s/0s] OK * checking Rd metadata ... OK * checking Rd cross-references ... OK * checking for missing documentation entries ... OK * checking for code/documentation mismatches ... OK * checking Rd \usage sections ... OK * checking Rd contents ... OK * checking for unstated dependencies in examples ... OK * checking contents of ‘data’ directory ... OK * checking data for non-ASCII characters ... [1s/1s] OK * checking LazyData ... OK * checking data for ASCII and uncompressed saves ... OK * checking examples ... [5s/5s] OK * checking for unstated dependencies in ‘tests’ ... OK * checking tests ... [3s/4s] OK Running ‘testthat.R’ [3s/3s] * checking PDF version of manual ... [4s/5s] OK * DONE Status: 1 NOTE * using check arguments '--no-clean-on-error ' * elapsed time (check, wall clock): 0:43