• using R version 4.5.0 beta (2025-03-29 r88069)
  • using platform: aarch64-apple-darwin20
  • R was compiled by     Apple clang version 14.0.0 (clang-1400.0.29.202)     GNU Fortran (GCC) 14.2.0
  • running under: macOS Ventura 13.4
  • using session charset: UTF-8
  • checking for file ‘openintro/DESCRIPTION’ ... OK
  • this is package ‘openintro’ version ‘2.5.0’
  • package encoding: UTF-8
  • checking package namespace information ... OK
  • checking package dependencies ... OK
  • checking if this is a source package ... OK
  • checking if there is a namespace ... OK
  • checking for executable files ... OK
  • checking for hidden files and directories ... OK
  • checking for portable file names ... OK
  • checking for sufficient/correct file permissions ... OK
  • checking whether package ‘openintro’ can be installed ... [20s/21s] OK See the install log for details.
  • checking installed package size ... INFO   installed size is 6.1Mb   sub-directories of 1Mb or more:     data 5.1Mb
  • checking package directory ... OK
  • checking ‘build’ directory ... OK
  • checking DESCRIPTION meta-information ... NOTE   Missing dependency on R >= 4.1.0 because package code uses the pipe   |> or function shorthand \(...) syntax added in R 4.1.0.   File(s) using such syntax:     ‘acs12.Rd’ ‘arbuthnot.Rd’ ‘ask.Rd’ ‘biontech_adolescents.Rd’     ‘birds.Rd’ ‘blizzard_salary.Rd’ ‘census.Rd’ ‘cia_factbook.Rd’     ‘climber_drugs.Rd’ ‘comics.Rd’ ‘daycare_fines.Rd’ ‘dotPlot.Rd’     ‘drone_blades.Rd’ ‘epa2021.Rd’ ‘exam_grades.Rd’ ‘fact_opinion.Rd’     ‘family_college.Rd’ ‘fish_age.Rd’ ‘friday.Rd’ ‘gdp_countries.Rd’     ‘gss_wordsum_class.Rd’ ‘house.Rd’ ‘iowa.Rd’ ‘ipo.Rd’ ‘iran.Rd’     ‘labor_market_discriminiation.Rd’ ‘lecture_learning.Rd’     ‘lego_population.Rd’ ‘lego_sample.Rd’ ‘lizard_run.Rd’     ‘london_boroughs.Rd’ ‘london_murders.Rd’ ‘malaria.Rd’ ‘mariokart.Rd’     ‘mlb_teams.Rd’ ‘mlbbat10.Rd’ ‘mn_police_use_of_force.Rd’     ‘nba_finals.Rd’ ‘nba_finals_teams.Rd’ ‘nycflights.Rd’ ‘orings.Rd’     ‘oscars.Rd’ ‘paralympic_1500.Rd’ ‘piracy.Rd’ ‘race_justice.Rd’     ‘simpsons_paradox_covid.Rd’ ‘soda.Rd’ ‘sowc_child_mortality.Rd’     ‘sowc_demographics.Rd’ ‘sowc_maternal_newborn.Rd’ ‘ssd_speed.Rd’     ‘twins.Rd’ ‘ucla_textbooks_f18.Rd’ ‘us_temperature.Rd’ ‘usb_admit.Rd’     ‘world_pop.Rd’
  • checking top-level files ... OK
  • checking for left-over files ... OK
  • checking index information ... OK
  • checking package subdirectories ... OK
  • checking code files for non-ASCII characters ... OK
  • checking R files for syntax errors ... OK
  • checking whether the package can be loaded ... [1s/1s] OK
  • checking whether the package can be loaded with stated dependencies ... [0s/0s] OK
  • checking whether the package can be unloaded cleanly ... [0s/0s] OK
  • checking whether the namespace can be loaded with stated dependencies ... [0s/1s] OK
  • checking whether the namespace can be unloaded cleanly ... [1s/1s] OK
  • checking loading without being on the library search path ... [1s/1s] OK
  • checking dependencies in R code ... OK
  • checking S3 generic/method consistency ... OK
  • checking replacement functions ... OK
  • checking foreign function calls ... OK
  • checking R code for possible problems ... [4s/4s] OK
  • checking Rd files ... [1s/1s] OK
  • checking Rd metadata ... OK
  • checking Rd cross-references ... OK
  • checking for missing documentation entries ... OK
  • checking for code/documentation mismatches ... OK
  • checking Rd \usage sections ... OK
  • checking Rd contents ... OK
  • checking for unstated dependencies in examples ... OK
  • checking contents of ‘data’ directory ... OK
  • checking data for non-ASCII characters ... [3s/3s] OK
  • checking LazyData ... OK
  • checking data for ASCII and uncompressed saves ... OK
  • checking installed files from ‘inst/doc’ ... OK
  • checking files in ‘vignettes’ ... OK
  • checking examples ... [22s/24s] OK
  • checking for unstated dependencies in ‘tests’ ... OK
  • checking tests ... [1s/1s] OK   Running ‘testthat.R’ [1s/1s]
  • checking for unstated dependencies in vignettes ... OK
  • checking package vignettes ... OK
  • checking re-building of vignette outputs ... [6s/6s] OK
  • checking PDF version of manual ... [10s/11s] OK
  • DONE Status: 1 NOTE
  • using check arguments '--no-clean-on-error '