- using R version 4.5.0 beta (2025-03-29 r88069)
 
- using platform: aarch64-apple-darwin20
 
- R was compiled by
    Apple clang version 14.0.0 (clang-1400.0.29.202)
    GNU Fortran (GCC) 14.2.0
 
- running under: macOS Ventura 13.4
 
- using session charset: UTF-8
 
- checking for file ‘networkDynamic/DESCRIPTION’ ... OK
 
- checking extension type ... Package
 
- this is package ‘networkDynamic’ version ‘0.11.5’
 
- checking package namespace information ... OK
 
- checking package dependencies ... OK
 
- checking if this is a source package ... OK
 
- checking if there is a namespace ... OK
 
- checking for executable files ... OK
 
- checking for hidden files and directories ... OK
 
- checking for portable file names ... OK
 
- checking for sufficient/correct file permissions ... OK
 
- checking whether package ‘networkDynamic’ can be installed ... [6s/7s] OK
See the install log for details.
 
- used C compiler: ‘Apple clang version 14.0.0 (clang-1400.0.29.202)’
 
- used SDK: ‘MacOSX11.3.sdk’
 
- checking installed package size ... OK
 
- checking package directory ... OK
 
- checking ‘build’ directory ... OK
 
- checking DESCRIPTION meta-information ... OK
 
- checking top-level files ... OK
 
- checking for left-over files ... OK
 
- checking index information ... OK
 
- checking package subdirectories ... OK
 
- checking code files for non-ASCII characters ... OK
 
- checking R files for syntax errors ... OK
 
- checking whether the package can be loaded ... [0s/1s] OK
 
- checking whether the package can be loaded with stated dependencies ... [0s/0s] OK
 
- checking whether the package can be unloaded cleanly ... [0s/0s] OK
 
- checking whether the namespace can be loaded with stated dependencies ... [0s/0s] OK
 
- checking whether the namespace can be unloaded cleanly ... [0s/0s] OK
 
- checking loading without being on the library search path ... [0s/0s] OK
 
- checking whether startup messages can be suppressed ... [0s/1s] OK
 
- checking dependencies in R code ... OK
 
- checking S3 generic/method consistency ... OK
 
- checking replacement functions ... OK
 
- checking foreign function calls ... OK
 
- checking R code for possible problems ... [5s/5s] OK
 
- checking Rd files ... [0s/0s] OK
 
- checking Rd metadata ... OK
 
- checking Rd cross-references ... OK
 
- checking for missing documentation entries ... OK
 
- checking for code/documentation mismatches ... OK
 
- checking Rd \usage sections ... OK
 
- checking Rd contents ... OK
 
- checking for unstated dependencies in examples ... OK
 
- checking contents of ‘data’ directory ... OK
 
- checking data for non-ASCII characters ... [0s/0s] OK
 
- checking data for ASCII and uncompressed saves ... OK
 
- checking line endings in C/C++/Fortran sources/headers ... OK
 
- checking compiled code ... OK
 
- checking sizes of PDF files under ‘inst/doc’ ... OK
 
- checking installed files from ‘inst/doc’ ... OK
 
- checking files in ‘vignettes’ ... OK
 
- checking examples ... [2s/2s] OK
 
- checking for unstated dependencies in ‘tests’ ... OK
 
- checking tests ... [26s/28s] OK
  Running ‘activate_tests.R’ [1s/1s]
  Running ‘age.at_tests.R’ [1s/2s]
  Running ‘classTests.R’ [1s/1s]
  Running ‘converter_tests.R’ [6s/6s]
  Running ‘get_tests.R’ [2s/2s]
  Running ‘import_tests.R’ [3s/3s]
  Running ‘network_tests.R’ [3s/3s]
  Running ‘pid_tests.R’ [2s/2s]
  Running ‘query_tests.R’ [1s/1s]
  Running ‘reconcile.activityTests.R’ [2s/2s]
  Running ‘tea_tests.R’ [2s/2s]
  Running ‘utils_tests.R’ [2s/2s]
  Running ‘when_tests.R’ [2s/2s]
 
- checking for unstated dependencies in vignettes ... OK
 
- checking package vignettes ... OK
 
- checking re-building of vignette outputs ... [12s/18s] OK
 
- checking PDF version of manual ... [6s/7s] OK
 
- DONE
Status: OK
 
- using check arguments '--no-clean-on-error '