• using R version 4.5.0 beta (2025-03-29 r88069)
  • using platform: aarch64-apple-darwin20
  • R was compiled by     Apple clang version 14.0.0 (clang-1400.0.29.202)     GNU Fortran (GCC) 14.2.0
  • running under: macOS Ventura 13.4
  • using session charset: UTF-8
  • checking for file ‘downscale/DESCRIPTION’ ... OK
  • checking extension type ... Package
  • this is package ‘downscale’ version ‘5.0.0’
  • checking package namespace information ... OK
  • checking package dependencies ... OK
  • checking if this is a source package ... OK
  • checking if there is a namespace ... OK
  • checking for executable files ... OK
  • checking for hidden files and directories ... OK
  • checking for portable file names ... OK
  • checking for sufficient/correct file permissions ... OK
  • checking whether package ‘downscale’ can be installed ... [8s/10s] OK See the install log for details.
  • checking installed package size ... OK
  • checking package directory ... OK
  • checking ‘build’ directory ... OK
  • checking DESCRIPTION meta-information ... OK
  • checking top-level files ... OK
  • checking for left-over files ... OK
  • checking index information ... OK
  • checking package subdirectories ... OK
  • checking code files for non-ASCII characters ... OK
  • checking R files for syntax errors ... OK
  • checking whether the package can be loaded ... [3s/3s] OK
  • checking whether the package can be loaded with stated dependencies ... [3s/3s] OK
  • checking whether the package can be unloaded cleanly ... [3s/3s] OK
  • checking whether the namespace can be loaded with stated dependencies ... [3s/3s] OK
  • checking whether the namespace can be unloaded cleanly ... [3s/3s] OK
  • checking loading without being on the library search path ... [2s/3s] OK
  • checking whether startup messages can be suppressed ... [2s/3s] OK
  • checking dependencies in R code ... OK
  • checking S3 generic/method consistency ... OK
  • checking replacement functions ... OK
  • checking foreign function calls ... OK
  • checking R code for possible problems ... [6s/7s] OK
  • checking Rd files ... [0s/0s] NOTE checkRd: (-1) downscale.Rd:9: Lost braces; missing escapes or markup?      9 | \item{occupancies}{Either a data frame containing two columns or an object of class \code{"upgrain"} from the \code{\link{upgrain}} function. If using a data frame the first column must be the grain sizes (cell area in squared units e.g. km^{2}). The second column is the proportion of occupancies at each grain size.}        | ^ checkRd: (-1) ensemble.downscale.Rd:13: Lost braces; missing escapes or markup?     13 | \item{new.areas}{vector of grain sizes (in squared units e.g. km^{2}) for which area of occupancy will be predicted.}        | ^ checkRd: (-1) hui.downscale.Rd:13: Lost braces; missing escapes or markup?     13 | \item{new.areas}{vector of grain sizes as cell area (in same units as cell.width but squared e.g. km^{2}) at fine scales for model prediction.}        | ^ checkRd: (-1) predict.downscale.Rd:10: Lost braces; missing escapes or markup?     10 | \item{new.areas}{vector of grain sizes (in squared units e.g. km^{2}) for which area of occupancy will be predicted.}        | ^
  • checking Rd metadata ... OK
  • checking Rd cross-references ... OK
  • checking for missing documentation entries ... OK
  • checking for code/documentation mismatches ... OK
  • checking Rd \usage sections ... OK
  • checking Rd contents ... OK
  • checking for unstated dependencies in examples ... OK
  • checking installed files from ‘inst/doc’ ... OK
  • checking files in ‘vignettes’ ... OK
  • checking examples ... [8s/10s] OK
  • checking for unstated dependencies in vignettes ... OK
  • checking package vignettes ... OK
  • checking re-building of vignette outputs ... [51s/66s] OK
  • checking PDF version of manual ... [7s/10s] OK
  • DONE Status: 1 NOTE
  • using check arguments '--no-clean-on-error '