- using R Under development (unstable) (2022-08-11 r82713)
- using platform: x86_64-pc-linux-gnu (64-bit)
- using session charset: UTF-8
- using option ‘--no-stop-on-test-error’
- checking for file ‘starsTileServer/DESCRIPTION’ ... OK
- this is package ‘starsTileServer’ version ‘0.1’
- package encoding: UTF-8
- checking package namespace information ... OK
- checking package dependencies ... OK
- checking if this is a source package ... OK
- checking if there is a namespace ... OK
- checking for executable files ... OK
- checking for hidden files and directories ... OK
- checking for portable file names ... OK
- checking for sufficient/correct file permissions ... OK
- checking whether package ‘starsTileServer’ can be installed ... [10s/26s] OK
- checking package directory ... OK
- checking ‘build’ directory ... OK
- checking DESCRIPTION meta-information ... OK
- checking top-level files ... OK
- checking for left-over files ... OK
- checking index information ... OK
- checking package subdirectories ... OK
- checking R files for non-ASCII characters ... OK
- checking R files for syntax errors ... OK
- checking whether the package can be loaded ... OK
- checking whether the package can be loaded with stated dependencies ... OK
- checking whether the package can be unloaded cleanly ... OK
- checking whether the namespace can be loaded with stated dependencies ... OK
- checking whether the namespace can be unloaded cleanly ... OK
- checking loading without being on the library search path ... OK
- checking use of S3 registration ... OK
- checking dependencies in R code ... OK
- checking S3 generic/method consistency ... OK
- checking replacement functions ... OK
- checking foreign function calls ... OK
- checking R code for possible problems ... [14s/35s] OK
- checking Rd files ... OK
- checking Rd metadata ... OK
- checking Rd line widths ... OK
- checking Rd cross-references ... OK
- checking for missing documentation entries ... OK
- checking for code/documentation mismatches ... OK
- checking Rd \usage sections ... OK
- checking Rd contents ... OK
- checking for unstated dependencies in examples ... OK
- checking installed files from ‘inst/doc’ ... OK
- checking files in ‘vignettes’ ... OK
- checking examples ... [4s/13s] OK
- checking for unstated dependencies in ‘tests’ ... OK
- checking tests ... [10s/23s] OK
Running ‘testthat.R’ [10s/22s]
- checking for unstated dependencies in vignettes ... OK
- checking package vignettes in ‘inst/doc’ ... OK
- checking re-building of vignette outputs ... [5s/11s] OK
- checking PDF version of manual ... OK
- checking HTML version of manual ... NOTE
Found the following HTML validation problems:
starsTileServer.html:73:6: Warning: missing </span> before <p>
starsTileServer.html:73:97: Warning: inserting implicit <span>
starsTileServer.html:76:6: Warning: missing </span> before <p>
starsTileServer.html:76:92: Warning: inserting implicit <span>
starsTileServer.html:79:6: Warning: missing </span> before <p>
starsTileServer.html:79:94: Warning: inserting implicit <span>
starsTileServer.html:82:6: Warning: missing </span> before <p>
starsTileServer.html:82:92: Warning: inserting implicit <span>
starsTileServer.html:85:6: Warning: missing </span> before <p>
starsTileServer.html:85:101: Warning: inserting implicit <span>
starsTileServer.html:88:6: Warning: missing </span> before <p>
starsTileServer.html:88:87: Warning: inserting implicit <span>
starsTileServer.html:91:6: Warning: missing </span> before <p>
starsTileServer.html:91:89: Warning: inserting implicit <span>
starsTileServer.html:94:6: Warning: missing </span> before <p>
starsTileServer.html:94:93: Warning: inserting implicit <span>
starsTileServer.html:97:6: Warning: missing </span> before <p>
starsTileServer.html:97:91: Warning: inserting implicit <span>
starsTileServer.html:100:6: Warning: missing </span> before <p>
starsTileServer.html:100:89: Warning: inserting implicit <span>
starsTileServer.html:103:6: Warning: missing </span> before <p>
starsTileServer.html:103:88: Warning: inserting implicit <span>
starsTileServer.html:106:6: Warning: missing </span> before <p>
starsTileServer.html:106:92: Warning: inserting implicit <span>
starsTileServer.html:109:6: Warning: missing </span> before <p>
starsTileServer.html:109:91: Warning: inserting implicit <span>
starsTileServer.html:112:6: Warning: missing </span> before <p>
starsTileServer.html:112:94: Warning: inserting implicit <span>
starsTileServer.html:115:6: Warning: missing </span> before <p>
starsTileServer.html:115:88: Warning: inserting implicit <span>
starsTileServer.html:118:6: Warning: missing </span> before <p>
starsTileServer.html:118:95: Warning: inserting implicit <span>
starsTileServer.html:121:6: Warning: missing </span> before <p>
starsTileServer.html:121:95: Warning: inserting implicit <span>
starsTileServer.html:124:6: Warning: missing </span> before <p>
starsTileServer.html:124:88: Warning: inserting implicit <span>
starsTileServer.html:127:6: Warning: missing </span> before <p>
starsTileServer.html:127:86: Warning: inserting implicit <span>
starsTileServer.html:130:6: Warning: missing </span> before <p>
starsTileServer.html:130:88: Warning: inserting implicit <span>
starsTileServer.html:133:6: Warning: missing </span> before <p>
starsTileServer.html:133:96: Warning: inserting implicit <span>
starsTileServer.html:136:6: Warning: missing </span> before <p>
starsTileServer.html:136:93: Warning: inserting implicit <span>
starsTileServer.html:139:6: Warning: missing </span> before <p>
starsTileServer.html:139:91: Warning: inserting implicit <span>
starsTileServer.html:142:6: Warning: missing </span> before <p>
starsTileServer.html:142:90: Warning: inserting implicit <span>
starsTileServer.html:145:6: Warning: missing </span> before <p>
starsTileServer.html:145:98: Warning: inserting implicit <span>
starsTileServer.html:148:6: Warning: missing </span> before <p>
starsTileServer.html:148:98: Warning: inserting implicit <span>
starsTileServer.html:151:6: Warning: missing </span> before <p>
starsTileServer.html:151:93: Warning: inserting implicit <span>
starsTileServer.html:154:6: Warning: missing </span> before <p>
starsTileServer.html:154:96: Warning: inserting implicit <span>
starsTileServer.html:157:6: Warning: missing </span> before <p>
starsTileServer.html:157:94: Warning: inserting implicit <span>
starsTileServer.html:160:6: Warning: missing </span> before <p>
starsTileServer.html:160:90: Warning: inserting implicit <span>
starsTileServer.html:73:6: Warning: trimming empty <span>
starsTileServer.html:76:6: Warning: trimming empty <span>
starsTileServer.html:79:6: Warning: trimming empty <span>
starsTileServer.html:82:6: Warning: trimming empty <span>
starsTileServer.html:85:6: Warning: trimming empty <span>
starsTileServer.html:88:6: Warning: trimming empty <span>
starsTileServer.html:91:6: Warning: trimming empty <span>
starsTileServer.html:94:6: Warning: trimming empty <span>
starsTileServer.html:97:6: Warning: trimming empty <span>
starsTileServer.html:100:6: Warning: trimming empty <span>
starsTileServer.html:103:6: Warning: trimming empty <span>
starsTileServer.html:106:6: Warning: trimming empty <span>
starsTileServer.html:109:6: Warning: trimming empty <span>
starsTileServer.html:112:6: Warning: trimming empty <span>
starsTileServer.html:115:6: Warning: trimming empty <span>
starsTileServer.html:118:6: Warning: trimming empty <span>
starsTileServer.html:121:6: Warning: trimming empty <span>
starsTileServer.html:124:6: Warning: trimming empty <span>
starsTileServer.html:127:6: Warning: trimming empty <span>
starsTileServer.html:130:6: Warning: trimming empty <span>
starsTileServer.html:133:6: Warning: trimming empty <span>
starsTileServer.html:136:6: Warning: trimming empty <span>
starsTileServer.html:139:6: Warning: trimming empty <span>
starsTileServer.html:142:6: Warning: trimming empty <span>
starsTileServer.html:145:6: Warning: trimming empty <span>
starsTileServer.html:148:6: Warning: trimming empty <span>
starsTileServer.html:151:6: Warning: trimming empty <span>
starsTileServer.html:154:6: Warning: trimming empty <span>
starsTileServer.html:157:6: Warning: trimming empty <span>
starsTileServer.html:160:6: Warning: trimming empty <span>
- checking for non-standard things in the check directory ... OK
- checking for detritus in the temp directory ... OK
- DONE
Status: 1 NOTE