- using R Under development (unstable) (2022-08-11 r82713)
- using platform: x86_64-pc-linux-gnu (64-bit)
- using session charset: UTF-8
- using option ‘--no-stop-on-test-error’
- checking for file ‘retistruct/DESCRIPTION’ ... OK
- this is package ‘retistruct’ version ‘0.6.3’
- checking package namespace information ... OK
- checking package dependencies ... NOTE
Packages suggested but not available for checking:
'gWidgets2RGtk2', 'cairoDevice', 'RGtk2'
- checking if this is a source package ... OK
- checking if there is a namespace ... OK
- checking for executable files ... OK
- checking for hidden files and directories ... OK
- checking for portable file names ... OK
- checking for sufficient/correct file permissions ... OK
- checking whether package ‘retistruct’ can be installed ... [45s/119s] OK
- checking package directory ... OK
- checking DESCRIPTION meta-information ... OK
- checking top-level files ... OK
- checking for left-over files ... OK
- checking index information ... OK
- checking package subdirectories ... OK
- checking R files for non-ASCII characters ... OK
- checking R files for syntax errors ... OK
- checking whether the package can be loaded ... OK
- checking whether the package can be loaded with stated dependencies ... OK
- checking whether the package can be unloaded cleanly ... OK
- checking whether the namespace can be loaded with stated dependencies ... OK
- checking whether the namespace can be unloaded cleanly ... OK
- checking loading without being on the library search path ... OK
- checking use of S3 registration ... OK
- checking dependencies in R code ... NOTE
Namespace in Imports field not imported from: ‘RTriangle’
All declared Imports should be used.
- checking S3 generic/method consistency ... OK
- checking replacement functions ... OK
- checking foreign function calls ... OK
- checking R code for possible problems ... [30s/75s] OK
- checking Rd files ... OK
- checking Rd metadata ... OK
- checking Rd line widths ... OK
- checking Rd cross-references ... OK
- checking for missing documentation entries ... OK
- checking for code/documentation mismatches ... OK
- checking Rd \usage sections ... OK
- checking Rd contents ... OK
- checking for unstated dependencies in examples ... OK
- checking line endings in C/C++/Fortran sources/headers ... OK
- checking pragmas in C/C++ headers and code ... OK
- checking compilation flags used ... OK
- checking compiled code ... OK
- checking examples ... OK
- checking for unstated dependencies in ‘tests’ ... OK
- checking tests ... [75s/198s] OK
Running ‘spelling.R’
Running ‘testthat.R’ [74s/196s]
- checking PDF version of manual ... OK
- checking HTML version of manual ... NOTE
Found the following HTML validation problems:
AnnotatedOutline.html:120:6: Warning: missing </span> before <p>
AnnotatedOutline.html:120:108: Warning: inserting implicit <span>
AnnotatedOutline.html:123:6: Warning: missing </span> before <p>
AnnotatedOutline.html:123:105: Warning: inserting implicit <span>
AnnotatedOutline.html:126:6: Warning: missing </span> before <p>
AnnotatedOutline.html:126:106: Warning: inserting implicit <span>
AnnotatedOutline.html:129:6: Warning: missing </span> before <p>
AnnotatedOutline.html:129:110: Warning: inserting implicit <span>
AnnotatedOutline.html:132:6: Warning: missing </span> before <p>
AnnotatedOutline.html:132:98: Warning: inserting implicit <span>
AnnotatedOutline.html:135:6: Warning: missing </span> before <p>
AnnotatedOutline.html:135:99: Warning: inserting implicit <span>
AnnotatedOutline.html:138:6: Warning: missing </span> before <p>
AnnotatedOutline.html:138:94: Warning: inserting implicit <span>
AnnotatedOutline.html:141:6: Warning: missing </span> before <p>
AnnotatedOutline.html:141:103: Warning: inserting implicit <span>
AnnotatedOutline.html:144:6: Warning: missing </span> before <p>
AnnotatedOutline.html:144:99: Warning: inserting implicit <span>
AnnotatedOutline.html:147:6: Warning: missing </span> before <p>
AnnotatedOutline.html:147:95: Warning: inserting implicit <span>
AnnotatedOutline.html:150:6: Warning: missing </span> before <p>
AnnotatedOutline.html:150:101: Warning: inserting implicit <span>
AnnotatedOutline.html:153:6: Warning: missing </span> before <p>
AnnotatedOutline.html:153:97: Warning: inserting implicit <span>
AnnotatedOutline.html:156:6: Warning: missing </span> before <p>
AnnotatedOutline.html:156:93: Warning: inserting implicit <span>
AnnotatedOutline.html:159:6: Warning: missing </span> before <p>
AnnotatedOutline.html:159:98: Warning: inserting implicit <span>
AnnotatedOutline.html:162:6: Warning: missing </span> before <p>
AnnotatedOutline.html:162:99: Warning: inserting implicit <span>
AnnotatedOutline.html:165:6: Warning: missing </span> before <p>
AnnotatedOutline.html:165:101: Warning: inserting implicit <span>
AnnotatedOutline.html:168:6: Warning: missing </span> before <p>
AnnotatedOutline.html:168:99: Warning: inserting implicit <span>
AnnotatedOutline.html:171:6: Warning: missing </span> before <p>
AnnotatedOutline.html:171:104: Warning: inserting implicit <span>
AnnotatedOutline.html:120:6: Warning: trimming empty <span>
AnnotatedOutline.html:123:6: Warning: trimming empty <span>
AnnotatedOutline.html:126:6: Warning: trimming empty <span>
AnnotatedOutline.html:129:6: Warning: trimming empty <span>
AnnotatedOutline.html:132:6: Warning: trimming empty <span>
AnnotatedOutline.html:135:6: Warning: trimming empty <span>
AnnotatedOutline.html:138:6: Warning: trimming empty <span>
AnnotatedOutline.html:141:6: Warning: trimming empty <span>
AnnotatedOutline.html:144:6: Warning: trimming empty <span>
AnnotatedOutline.html:147:6: Warning: trimming empty <span>
AnnotatedOutline.html:150:6: Warning: trimming empty <span>
AnnotatedOutline.html:153:6: Warning: trimming empty <span>
AnnotatedOutline.html:156:6: Warning: trimming empty <span>
AnnotatedOutline.html:159:6: Warning: trimming empty <span>
AnnotatedOutline.html:162:6: Warning: trimming empty <span>
AnnotatedOutline.html:165:6: Warning: trimming empty <span>
AnnotatedOutline.html:168:6: Warning: trimming empty <span>
AnnotatedOutline.html:171:6: Warning: trimming empty <span>
CountSet.html:62:6: Warning: missing </span> before <p>
CountSet.html:62:101: Warning: inserting implicit <span>
CountSet.html:65:6: Warning: missing </span> before <p>
CountSet.html:65:105: Warning: inserting implicit <span>
CountSet.html:68:6: Warning: missing </span> before <p>
CountSet.html:68:106: Warning: inserting implicit <span>
CountSet.html:71:6: Warning: missing </span> before <p>
CountSet.html:71:101: Warning: inserting implicit <span>
CountSet.html:74:6: Warning: missing </span> before <p>
CountSet.html:74:103: Warning: inserting implicit <span>
CountSet.html:77:6: Warning: missing </span> before <p>
CountSet.html:77:100: Warning: inserting implicit <span>
CountSet.html:62:6: Warning: trimming empty <span>
CountSet.html:65:6: Warning: trimming empty <span>
CountSet.html:68:6: Warning: trimming empty <span>
CountSet.html:71:6: Warning: trimming empty <span>
CountSet.html:74:6: Warning: trimming empty <span>
CountSet.html:77:6: Warning: trimming empty <span>
FeatureSet.html:61:6: Warning: missing </span> before <p>
FeatureSet.html:61:101: Warning: inserting implicit <span>
FeatureSet.html:64:6: Warning: missing </span> before <p>
FeatureSet.html:64:105: Warning: inserting implicit <span>
FeatureSet.html:67:6: Warning: missing </span> before <p>
FeatureSet.html:67:106: Warning: inserting implicit <span>
FeatureSet.html:70:6: Warning: missing </span> before <p>
FeatureSet.html:70:101: Warning: inserting implicit <span>
FeatureSet.html:73:6: Warning: missing </span> before <p>
FeatureSet.html:73:103: Warning: inserting implicit <span>
FeatureSet.html:76:6: Warning: missing </span> before <p>
FeatureSet.html:76:100: Warning: inserting implicit <span>
FeatureSet.html:61:6: Warning: trimming empty <span>
FeatureSet.html:64:6: Warning: trimming empty <span>
FeatureSet.html:67:6: Warning: trimming empty <span>
FeatureSet.html:70:6: Warning: trimming empty <span>
FeatureSet.html:73:6: Warning: trimming empty <span>
FeatureSet.html:76:6: Warning: trimming empty <span>
LandmarkSet.html:61:6: Warning: missing </span> before <p>
LandmarkSet.html:61:101: Warning: inserting implicit <span>
LandmarkSet.html:64:6: Warning: missing </span> before <p>
LandmarkSet.html:64:105: Warning: inserting implicit <span>
LandmarkSet.html:67:6: Warning: missing </span> before <p>
LandmarkSet.html:67:106: Warning: inserting implicit <span>
LandmarkSet.html:70:6: Warning: missing </span> before <p>
LandmarkSet.html:70:101: Warning: inserting implicit <span>
LandmarkSet.html:73:6: Warning: missing </span> before <p>
LandmarkSet.html:73:103: Warning: inserting implicit <span>
LandmarkSet.html:76:6: Warning: missing </span> before <p>
LandmarkSet.html:76:100: Warning: inserting implicit <span>
LandmarkSet.html:61:6: Warning: trimming empty <span>
LandmarkSet.html:64:6: Warning: trimming empty <span>
LandmarkSet.html:67:6: Warning: trimming empty <span>
LandmarkSet.html:70:6: Warning: trimming empty <span>
LandmarkSet.html:73:6: Warning: trimming empty <span>
LandmarkSet.html:76:6: Warning: trimming empty <span>
Outline.html:115:6: Warning: missing </span> before <p>
Outline.html:115:108: Warning: inserting implicit <span>
Outline.html:118:6: Warning: missing </span> before <p>
Outline.html:118:105: Warning: inserting implicit <span>
Outline.html:121:6: Warning: missing </span> before <p>
Outline.html:121:106: Warning: inserting implicit <span>
Outline.html:124:6: Warning: missing </span> before <p>
Outline.html:124:110: Warning: inserting implicit <span>
Outline.html:127:6: Warning: missing </span> before <p>
Outline.html:127:98: Warning: inserting implicit <span>
Outline.html:115:6: Warning: trimming empty <span>
Outline.html:118:6: Warning: trimming empty <span>
Outline.html:121:6: Warning: trimming empty <span>
Outline.html:124:6: Warning: trimming empty <span>
Outline.html:127:6: Warning: trimming empty <span>
PathOutline.html:111:6: Warning: missing </span> before <p>
PathOutline.html:111:108: Warning: inserting implicit <span>
PathOutline.html:114:6: Warning: missing </span> before <p>
PathOutline.html:114:105: Warning: inserting implicit <span>
PathOutline.html:117:6: Warning: missing </span> before <p>
PathOutline.html:117:106: Warning: inserting implicit <span>
PathOutline.html:120:6: Warning: missing </span> before <p>
PathOutline.html:120:110: Warning: inserting implicit <span>
PathOutline.html:123:6: Warning: missing </span> before <p>
PathOutline.html:123:98: Warning: inserting implicit <span>
PathOutline.html:126:6: Warning: missing </span> before <p>
PathOutline.html:126:99: Warning: inserting implicit <span>
PathOutline.html:129:6: Warning: missing </span> before <p>
PathOutline.html:129:94: Warning: inserting implicit <span>
PathOutline.html:132:6: Warning: missing </span> before <p>
PathOutline.html:132:103: Warning: inserting implicit <span>
PathOutline.html:135:6: Warning: missing </span> before <p>
PathOutline.html:135:99: Warning: inserting implicit <span>
PathOutline.html:138:6: Warning: missing </span> before <p>
PathOutline.html:138:95: Warning: inserting implicit <span>
PathOutline.html:141:6: Warning: missing </span> before <p>
PathOutline.html:141:101: Warning: inserting implicit <span>
PathOutline.html:144:6: Warning: missing </span> before <p>
PathOutline.html:144:95: Warning: inserting implicit <span>
PathOutline.html:147:6: Warning: missing </span> before <p>
PathOutline.html:147:96: Warning: inserting implicit <span>
PathOutline.html:150:6: Warning: missing </span> before <p>
PathOutline.html:150:97: Warning: inserting implicit <span>
PathOutline.html:153:6: Warning: missing </span> before <p>
PathOutline.html:153:93: Warning: inserting implicit <span>
PathOutline.html:156:6: Warning: missing </span> before <p>
PathOutline.html:156:98: Warning: inserting implicit <span>
PathOutline.html:111:6: Warning: trimming empty <span>
PathOutline.html:114:6: Warning: trimming empty <span>
PathOutline.html:117:6: Warning: trimming empty <span>
PathOutline.html:120:6: Warning: trimming empty <span>
PathOutline.html:123:6: Warning: trimming empty <span>
PathOutline.html:126:6: Warning: trimming empty <span>
PathOutline.html:129:6: Warning: trimming empty <span>
PathOutline.html:132:6: Warning: trimming empty <span>
PathOutline.html:135:6: Warning: trimming empty <span>
PathOutline.html:138:6: Warning: trimming empty <span>
PathOutline.html:141:6: Warning: trimming empty <span>
PathOutline.html:144:6: Warning: trimming empty <span>
PathOutline.html:147:6: Warning: trimming empty <span>
PathOutline.html:150:6: Warning: trimming empty <span>
PathOutline.html:153:6: Warning: trimming empty <span>
PathOutline.html:156:6: Warning: trimming empty <span>
PointSet.html:60:6: Warning: missing </span> before <p>
PointSet.html:60:101: Warning: inserting implicit <span>
PointSet.html:63:6: Warning: missing </span> before <p>
PointSet.html:63:105: Warning: inserting implicit <span>
PointSet.html:66:6: Warning: missing </span> before <p>
PointSet.html:66:106: Warning: inserting implicit <span>
PointSet.html:69:6: Warning: missing </span> before <p>
PointSet.html:69:101: Warning: inserting implicit <span>
PointSet.html:72:6: Warning: missing </span> before <p>
PointSet.html:72:103: Warning: inserting implicit <span>
PointSet.html:75:6: Warning: missing </span> before <p>
PointSet.html:75:100: Warning: inserting implicit <span>
PointSet.html:60:6: Warning: trimming empty <span>
PointSet.html:63:6: Warning: trimming empty <span>
PointSet.html:66:6: Warning: trimming empty <span>
PointSet.html:69:6: Warning: trimming empty <span>
PointSet.html:72:6: Warning: trimming empty <span>
PointSet.html:75:6: Warning: trimming empty <span>
ReconstructedCountSet.html:75:6: Warning: missing </span> before <p>
ReconstructedCountSet.html:75:101: Warning: inserting implicit <span>
ReconstructedCountSet.html:78:6: Warning: missing </span> before <p>
ReconstructedCountSet.html:78:105: Warning: inserting implicit <span>
ReconstructedCountSet.html:81:6: Warning: missing </span> before <p>
ReconstructedCountSet.html:81:106: Warning: inserting implicit <span>
ReconstructedCountSet.html:84:6: Warning: missing </span> before <p>
ReconstructedCountSet.html:84:101: Warning: inserting implicit <span>
ReconstructedCountSet.html:87:6: Warning: missing </span> before <p>
ReconstructedCountSet.html:87:103: Warning: inserting implicit <span>
ReconstructedCountSet.html:90:6: Warning: missing </span> before <p>
ReconstructedCountSet.html:90:100: Warning: inserting implicit <span>
ReconstructedCountSet.html:75:6: Warning: trimming empty <span>
ReconstructedCountSet.html:78:6: Warning: trimming empty <span>
ReconstructedCountSet.html:81:6: Warning: trimming empty <span>
ReconstructedCountSet.html:84:6: Warning: trimming empty <span>
ReconstructedCountSet.html:87:6: Warning: trimming empty <span>
ReconstructedCountSet.html:90:6: Warning: trimming empty <span>
ReconstructedFeatureSet.html:62:6: Warning: missing </span> before <p>
ReconstructedFeatureSet.html:62:101: Warning: inserting implicit <span>
ReconstructedFeatureSet.html:65:6: Warning: missing </span> before <p>
ReconstructedFeatureSet.html:65:105: Warning: inserting implicit <span>
ReconstructedFeatureSet.html:68:6: Warning: missing </span> before <p>
ReconstructedFeatureSet.html:68:106: Warning: inserting implicit <span>
ReconstructedFeatureSet.html:71:6: Warning: missing </span> before <p>
ReconstructedFeatureSet.html:71:101: Warning: inserting implicit <span>
ReconstructedFeatureSet.html:74:6: Warning: missing </span> before <p>
ReconstructedFeatureSet.html:74:103: Warning: inserting implicit <span>
ReconstructedFeatureSet.html:77:6: Warning: missing </span> before <p>
ReconstructedFeatureSet.html:77:100: Warning: inserting implicit <span>
ReconstructedFeatureSet.html:62:6: Warning: trimming empty <span>
ReconstructedFeatureSet.html:65:6: Warning: trimming empty <span>
ReconstructedFeatureSet.html:68:6: Warning: trimming empty <span>
ReconstructedFeatureSet.html:71:6: Warning: trimming empty <span>
ReconstructedFeatureSet.html:74:6: Warning: trimming empty <span>
ReconstructedFeatureSet.html:77:6: Warning: trimming empty <span>
ReconstructedLandmarkSet.html:56:6: Warning: missing </span> before <p>
ReconstructedLandmarkSet.html:56:101: Warning: inserting implicit <span>
ReconstructedLandmarkSet.html:59:6: Warning: missing </span> before <p>
ReconstructedLandmarkSet.html:59:105: Warning: inserting implicit <span>
ReconstructedLandmarkSet.html:62:6: Warning: missing </span> before <p>
ReconstructedLandmarkSet.html:62:106: Warning: inserting implicit <span>
ReconstructedLandmarkSet.html:65:6: Warning: missing </span> before <p>
ReconstructedLandmarkSet.html:65:101: Warning: inserting implicit <span>
ReconstructedLandmarkSet.html:68:6: Warning: missing </span> before <p>
ReconstructedLandmarkSet.html:68:103: Warning: inserting implicit <span>
ReconstructedLandmarkSet.html:71:6: Warning: missing </span> before <p>
ReconstructedLandmarkSet.html:71:100: Warning: inserting implicit <span>
ReconstructedLandmarkSet.html:74:6: Warning: missing </span> before <p>
ReconstructedLandmarkSet.html:74:112: Warning: inserting implicit <span>
ReconstructedLandmarkSet.html:56:6: Warning: trimming empty <span>
ReconstructedLandmarkSet.html:59:6: Warning: trimming empty <span>
ReconstructedLandmarkSet.html:62:6: Warning: trimming empty <span>
ReconstructedLandmarkSet.html:65:6: Warning: trimming empty <span>
ReconstructedLandmarkSet.html:68:6: Warning: trimming empty <span>
ReconstructedLandmarkSet.html:71:6: Warning: trimming empty <span>
ReconstructedLandmarkSet.html:74:6: Warning: trimming empty <span>
ReconstructedOutline.html:171:6: Warning: missing </span> before <p>
ReconstructedOutline.html:171:108: Warning: inserting implicit <span>
ReconstructedOutline.html:174:6: Warning: missing </span> before <p>
ReconstructedOutline.html:174:106: Warning: inserting implicit <span>
ReconstructedOutline.html:177:6: Warning: missing </span> before <p>
ReconstructedOutline.html:177:110: Warning: inserting implicit <span>
ReconstructedOutline.html:180:6: Warning: missing </span> before <p>
ReconstructedOutline.html:180:98: Warning: inserting implicit <span>
ReconstructedOutline.html:171:6: Warning: trimming empty <span>
ReconstructedOutline.html:174:6: Warning: trimming empty <span>
ReconstructedOutline.html:177:6: Warning: trimming empty <span>
ReconstructedOutline.html:180:6: Warning: trimming empty <span>
ReconstructedPointSet.html:78:6: Warning: missing </span> before <p>
ReconstructedPointSet.html:78:101: Warning: inserting implicit <span>
ReconstructedPointSet.html:81:6: Warning: missing </span> before <p>
ReconstructedPointSet.html:81:105: Warning: inserting implicit <span>
ReconstructedPointSet.html:84:6: Warning: missing </span> before <p>
ReconstructedPointSet.html:84:106: Warning: inserting implicit <span>
ReconstructedPointSet.html:87:6: Warning: missing </span> before <p>
ReconstructedPointSet.html:87:101: Warning: inserting implicit <span>
ReconstructedPointSet.html:90:6: Warning: missing </span> before <p>
ReconstructedPointSet.html:90:103: Warning: inserting implicit <span>
ReconstructedPointSet.html:93:6: Warning: missing </span> before <p>
ReconstructedPointSet.html:93:100: Warning: inserting implicit <span>
ReconstructedPointSet.html:96:6: Warning: missing </span> before <p>
ReconstructedPointSet.html:96:112: Warning: inserting implicit <span>
ReconstructedPointSet.html:78:6: Warning: trimming empty <span>
ReconstructedPointSet.html:81:6: Warning: trimming empty <span>
ReconstructedPointSet.html:84:6: Warning: trimming empty <span>
ReconstructedPointSet.html:87:6: Warning: trimming empty <span>
ReconstructedPointSet.html:90:6: Warning: trimming empty <span>
ReconstructedPointSet.html:93:6: Warning: trimming empty <span>
ReconstructedPointSet.html:96:6: Warning: trimming empty <span>
RetinalOutline.html:76:6: Warning: missing </span> before <p>
RetinalOutline.html:76:108: Warning: inserting implicit <span>
RetinalOutline.html:79:6: Warning: missing </span> before <p>
RetinalOutline.html:79:105: Warning: inserting implicit <span>
RetinalOutline.html:82:6: Warning: missing </span> before <p>
RetinalOutline.html:82:106: Warning: inserting implicit <span>
RetinalOutline.html:85:6: Warning: missing </span> before <p>
RetinalOutline.html:85:110: Warning: inserting implicit <span>
RetinalOutline.html:88:6: Warning: missing </span> before <p>
RetinalOutline.html:88:98: Warning: inserting implicit <span>
RetinalOutline.html:91:6: Warning: missing </span> before <p>
RetinalOutline.html:91:99: Warning: inserting implicit <span>
RetinalOutline.html:94:6: Warning: missing </span> before <p>
RetinalOutline.html:94:94: Warning: inserting implicit <span>
RetinalOutline.html:97:6: Warning: missing </span> before <p>
RetinalOutline.html:97:103: Warning: inserting implicit <span>
RetinalOutline.html:100:6: Warning: missing </span> before <p>
RetinalOutline.html:100:99: Warning: inserting implicit <span>
RetinalOutline.html:103:6: Warning: missing </span> before <p>
RetinalOutline.html:103:95: Warning: inserting implicit <span>
RetinalOutline.html:106:6: Warning: missing </span> before <p>
RetinalOutline.html:106:101: Warning: inserting implicit <span>
RetinalOutline.html:109:6: Warning: missing </span> before <p>
RetinalOutline.html:109:97: Warning: inserting implicit <span>
RetinalOutline.html:112:6: Warning: missing </span> before <p>
RetinalOutline.html:112:93: Warning: inserting implicit <span>
RetinalOutline.html:115:6: Warning: missing </span> before <p>
RetinalOutline.html:115:98: Warning: inserting implicit <span>
RetinalOutline.html:118:6: Warning: missing </span> before <p>
RetinalOutline.html:118:99: Warning: inserting implicit <span>
RetinalOutline.html:121:6: Warning: missing </span> before <p>
RetinalOutline.html:121:101: Warning: inserting implicit <span>
RetinalOutline.html:124:6: Warning: missing </span> before <p>
RetinalOutline.html:124:99: Warning: inserting implicit <span>
RetinalOutline.html:127:6: Warning: missing </span> before <p>
RetinalOutline.html:127:104: Warning: inserting implicit <span>
RetinalOutline.html:130:6: Warning: missing </span> before <p>
RetinalOutline.html:130:102: Warning: inserting implicit <span>
RetinalOutline.html:133:6: Warning: missing </span> before <p>
RetinalOutline.html:133:105: Warning: inserting implicit <span>
RetinalOutline.html:136:6: Warning: missing </span> before <p>
RetinalOutline.html:136:119: Warning: inserting implicit <span>
RetinalOutline.html:139:6: Warning: missing </span> before <p>
RetinalOutline.html:139:116: Warning: inserting implicit <span>
RetinalOutline.html:142:6: Warning: missing </span> before <p>
RetinalOutline.html:142:108: Warning: inserting implicit <span>
RetinalOutline.html:145:6: Warning: missing </span> before <p>
RetinalOutline.html:145:108: Warning: inserting implicit <span>
RetinalOutline.html:148:6: Warning: missing </span> before <p>
RetinalOutline.html:148:104: Warning: inserting implicit <span>
RetinalOutline.html:151:6: Warning: missing </span> before <p>
RetinalOutline.html:151:102: Warning: inserting implicit <span>
RetinalOutline.html:154:6: Warning: missing </span> before <p>
RetinalOutline.html:154:103: Warning: inserting implicit <span>
RetinalOutline.html:157:6: Warning: missing </span> before <p>
RetinalOutline.html:157:110: Warning: inserting implicit <span>
RetinalOutline.html:160:6: Warning: missing </span> before <p>
RetinalOutline.html:160:105: Warning: inserting implicit <span>
RetinalOutline.html:163:6: Warning: missing </span> before <p>
RetinalOutline.html:163:108: Warning: inserting implicit <span>
RetinalOutline.html:166:6: Warning: missing </span> before <p>
RetinalOutline.html:166:104: Warning: inserting implicit <span>
RetinalOutline.html:169:6: Warning: missing </span> before <p>
RetinalOutline.html:169:121: Warning: inserting implicit <span>
RetinalOutline.html:172:6: Warning: missing </span> before <p>
RetinalOutline.html:172:109: Warning: inserting implicit <span>
RetinalOutline.html:175:6: Warning: missing </span> before <p>
RetinalOutline.html:175:105: Warning: inserting implicit <span>
RetinalOutline.html:76:6: Warning: trimming empty <span>
RetinalOutline.html:79:6: Warning: trimming empty <span>
RetinalOutline.html:82:6: Warning: trimming empty <span>
RetinalOutline.html:85:6: Warning: trimming empty <span>
RetinalOutline.html:88:6: Warning: trimming empty <span>
RetinalOutline.html:91:6: Warning: trimming empty <span>
RetinalOutline.html:94:6: Warning: trimming empty <span>
RetinalOutline.html:97:6: Warning: trimming empty <span>
RetinalOutline.html:100:6: Warning: trimming empty <span>
RetinalOutline.html:103:6: Warning: trimming empty <span>
RetinalOutline.html:106:6: Warning: trimming empty <span>
RetinalOutline.html:109:6: Warning: trimming empty <span>
RetinalOutline.html:112:6: Warning: trimming empty <span>
RetinalOutline.html:115:6: Warning: trimming empty <span>
RetinalOutline.html:118:6: Warning: trimming empty <span>
RetinalOutline.html:121:6: Warning: trimming empty <span>
RetinalOutline.html:124:6: Warning: trimming empty <span>
RetinalOutline.html:127:6: Warning: trimming empty <span>
RetinalOutline.html:130:6: Warning: trimming empty <span>
RetinalOutline.html:133:6: Warning: trimming empty <span>
RetinalOutline.html:136:6: Warning: trimming empty <span>
RetinalOutline.html:139:6: Warning: trimming empty <span>
RetinalOutline.html:142:6: Warning: trimming empty <span>
RetinalOutline.html:145:6: Warning: trimming empty <span>
RetinalOutline.html:148:6: Warning: trimming empty <span>
RetinalOutline.html:151:6: Warning: trimming empty <span>
RetinalOutline.html:154:6: Warning: trimming empty <span>
RetinalOutline.html:157:6: Warning: trimming empty <span>
RetinalOutline.html:160:6: Warning: trimming empty <span>
RetinalOutline.html:163:6: Warning: trimming empty <span>
RetinalOutline.html:166:6: Warning: trimming empty <span>
RetinalOutline.html:169:6: Warning: trimming empty <span>
RetinalOutline.html:172:6: Warning: trimming empty <span>
RetinalOutline.html:175:6: Warning: trimming empty <span>
RetinalReconstructedOutline.html:80:6: Warning: missing </span> before <p>
RetinalReconstructedOutline.html:80:108: Warning: inserting implicit <span>
RetinalReconstructedOutline.html:83:6: Warning: missing </span> before <p>
RetinalReconstructedOutline.html:83:106: Warning: inserting implicit <span>
RetinalReconstructedOutline.html:86:6: Warning: missing </span> before <p>
RetinalReconstructedOutline.html:86:110: Warning: inserting implicit <span>
RetinalReconstructedOutline.html:89:6: Warning: missing </span> before <p>
RetinalReconstructedOutline.html:89:98: Warning: inserting implicit <span>
RetinalReconstructedOutline.html:92:6: Warning: missing </span> before <p>
RetinalReconstructedOutline.html:92:108: Warning: inserting implicit <span>
RetinalReconstructedOutline.html:95:6: Warning: missing </span> before <p>
RetinalReconstructedOutline.html:95:109: Warning: inserting implicit <span>
RetinalReconstructedOutline.html:98:6: Warning: missing </span> before <p>
RetinalReconstructedOutline.html:98:110: Warning: inserting implicit <span>
RetinalReconstructedOutline.html:101:6: Warning: missing </span> before <p>
RetinalReconstructedOutline.html:101:117: Warning: inserting implicit <span>
RetinalReconstructedOutline.html:104:6: Warning: missing </span> before <p>
RetinalReconstructedOutline.html:104:115: Warning: inserting implicit <span>
RetinalReconstructedOutline.html:107:6: Warning: missing </span> before <p>
RetinalReconstructedOutline.html:107:114: Warning: inserting implicit <span>
RetinalReconstructedOutline.html:110:6: Warning: missing </span> before <p>
RetinalReconstructedOutline.html:110:118: Warning: inserting implicit <span>
RetinalReconstructedOutline.html:113:6: Warning: missing </span> before <p>
RetinalReconstructedOutline.html:113:114: Warning: inserting implicit <span>
RetinalReconstructedOutline.html:116:6: Warning: missing </span> before <p>
RetinalReconstructedOutline.html:116:121: Warning: inserting implicit <span>
RetinalReconstructedOutline.html:119:6: Warning: missing </span> before <p>
RetinalReconstructedOutline.html:119:113: Warning: inserting implicit <span>
RetinalReconstructedOutline.html:80:6: Warning: trimming empty <span>
RetinalReconstructedOutline.html:83:6: Warning: trimming empty <span>
RetinalReconstructedOutline.html:86:6: Warning: trimming empty <span>
RetinalReconstructedOutline.html:89:6: Warning: trimming empty <span>
RetinalReconstructedOutline.html:92:6: Warning: trimming empty <span>
RetinalReconstructedOutline.html:95:6: Warning: trimming empty <span>
RetinalReconstructedOutline.html:98:6: Warning: trimming empty <span>
RetinalReconstructedOutline.html:101:6: Warning: trimming empty <span>
RetinalReconstructedOutline.html:104:6: Warning: trimming empty <span>
RetinalReconstructedOutline.html:107:6: Warning: trimming empty <span>
RetinalReconstructedOutline.html:110:6: Warning: trimming empty <span>
RetinalReconstructedOutline.html:113:6: Warning: trimming empty <span>
RetinalReconstructedOutline.html:116:6: Warning: trimming empty <span>
RetinalReconstructedOutline.html:119:6: Warning: trimming empty <span>
StitchedOutline.html:75:6: Warning: missing </span> before <p>
StitchedOutline.html:75:108: Warning: inserting implicit <span>
StitchedOutline.html:78:6: Warning: missing </span> before <p>
StitchedOutline.html:78:105: Warning: inserting implicit <span>
StitchedOutline.html:81:6: Warning: missing </span> before <p>
StitchedOutline.html:81:106: Warning: inserting implicit <span>
StitchedOutline.html:84:6: Warning: missing </span> before <p>
StitchedOutline.html:84:110: Warning: inserting implicit <span>
StitchedOutline.html:87:6: Warning: missing </span> before <p>
StitchedOutline.html:87:98: Warning: inserting implicit <span>
StitchedOutline.html:90:6: Warning: missing </span> before <p>
StitchedOutline.html:90:99: Warning: inserting implicit <span>
StitchedOutline.html:93:6: Warning: missing </span> before <p>
StitchedOutline.html:93:94: Warning: inserting implicit <span>
StitchedOutline.html:96:6: Warning: missing </span> before <p>
StitchedOutline.html:96:103: Warning: inserting implicit <span>
StitchedOutline.html:99:6: Warning: missing </span> before <p>
StitchedOutline.html:99:99: Warning: inserting implicit <span>
StitchedOutline.html:102:6: Warning: missing </span> before <p>
StitchedOutline.html:102:95: Warning: inserting implicit <span>
StitchedOutline.html:105:6: Warning: missing </span> before <p>
StitchedOutline.html:105:101: Warning: inserting implicit <span>
StitchedOutline.html:108:6: Warning: missing </span> before <p>
StitchedOutline.html:108:97: Warning: inserting implicit <span>
StitchedOutline.html:111:6: Warning: missing </span> before <p>
StitchedOutline.html:111:93: Warning: inserting implicit <span>
StitchedOutline.html:114:6: Warning: missing </span> before <p>
StitchedOutline.html:114:98: Warning: inserting implicit <span>
StitchedOutline.html:117:6: Warning: missing </span> before <p>
StitchedOutline.html:117:99: Warning: inserting implicit <span>
StitchedOutline.html:120:6: Warning: missing </span> before <p>
StitchedOutline.html:120:101: Warning: inserting implicit <span>
StitchedOutline.html:123:6: Warning: missing </span> before <p>
StitchedOutline.html:123:99: Warning: inserting implicit <span>
StitchedOutline.html:126:6: Warning: missing </span> before <p>
StitchedOutline.html:126:104: Warning: inserting implicit <span>
StitchedOutline.html:129:6: Warning: missing </span> before <p>
StitchedOutline.html:129:102: Warning: inserting implicit <span>
StitchedOutline.html:132:6: Warning: missing </span> before <p>
StitchedOutline.html:132:105: Warning: inserting implicit <span>
StitchedOutline.html:135:6: Warning: missing </span> before <p>
StitchedOutline.html:135:119: Warning: inserting implicit <span>
StitchedOutline.html:138:6: Warning: missing </span> before <p>
StitchedOutline.html:138:116: Warning: inserting implicit <span>
StitchedOutline.html:141:6: Warning: missing </span> before <p>
StitchedOutline.html:141:108: Warning: inserting implicit <span>
StitchedOutline.html:144:6: Warning: missing </span> before <p>
StitchedOutline.html:144:108: Warning: inserting implicit <span>
StitchedOutline.html:147:6: Warning: missing </span> before <p>
StitchedOutline.html:147:104: Warning: inserting implicit <span>
StitchedOutline.html:150:6: Warning: missing </span> before <p>
StitchedOutline.html:150:102: Warning: inserting implicit <span>
StitchedOutline.html:153:6: Warning: missing </span> before <p>
StitchedOutline.html:153:103: Warning: inserting implicit <span>
StitchedOutline.html:156:6: Warning: missing </span> before <p>
StitchedOutline.html:156:110: Warning: inserting implicit <span>
StitchedOutline.html:159:6: Warning: missing </span> before <p>
StitchedOutline.html:159:105: Warning: inserting implicit <span>
StitchedOutline.html:162:6: Warning: missing </span> before <p>
StitchedOutline.html:162:108: Warning: inserting implicit <span>
StitchedOutline.html:165:6: Warning: missing </span> before <p>
StitchedOutline.html:165:104: Warning: inserting implicit <span>
StitchedOutline.html:168:6: Warning: missing </span> before <p>
StitchedOutline.html:168:121: Warning: inserting implicit <span>
StitchedOutline.html:171:6: Warning: missing </span> before <p>
StitchedOutline.html:171:109: Warning: inserting implicit <span>
StitchedOutline.html:75:6: Warning: trimming empty <span>
StitchedOutline.html:78:6: Warning: trimming empty <span>
StitchedOutline.html:81:6: Warning: trimming empty <span>
StitchedOutline.html:84:6: Warning: trimming empty <span>
StitchedOutline.html:87:6: Warning: trimming empty <span>
StitchedOutline.html:90:6: Warning: trimming empty <span>
StitchedOutline.html:93:6: Warning: trimming empty <span>
StitchedOutline.html:96:6: Warning: trimming empty <span>
StitchedOutline.html:99:6: Warning: trimming empty <span>
StitchedOutline.html:102:6: Warning: trimming empty <span>
StitchedOutline.html:105:6: Warning: trimming empty <span>
StitchedOutline.html:108:6: Warning: trimming empty <span>
StitchedOutline.html:111:6: Warning: trimming empty <span>
StitchedOutline.html:114:6: Warning: trimming empty <span>
StitchedOutline.html:117:6: Warning: trimming empty <span>
StitchedOutline.html:120:6: Warning: trimming empty <span>
StitchedOutline.html:123:6: Warning: trimming empty <span>
StitchedOutline.html:126:6: Warning: trimming empty <span>
StitchedOutline.html:129:6: Warning: trimming empty <span>
StitchedOutline.html:132:6: Warning: trimming empty <span>
StitchedOutline.html:135:6: Warning: trimming empty <span>
StitchedOutline.html:138:6: Warning: trimming empty <span>
StitchedOutline.html:141:6: Warning: trimming empty <span>
StitchedOutline.html:144:6: Warning: trimming empty <span>
StitchedOutline.html:147:6: Warning: trimming empty <span>
StitchedOutline.html:150:6: Warning: trimming empty <span>
StitchedOutline.html:153:6: Warning: trimming empty <span>
StitchedOutline.html:156:6: Warning: trimming empty <span>
StitchedOutline.html:159:6: Warning: trimming empty <span>
StitchedOutline.html:162:6: Warning: trimming empty <span>
StitchedOutline.html:165:6: Warning: trimming empty <span>
StitchedOutline.html:168:6: Warning: trimming empty <span>
StitchedOutline.html:171:6: Warning: trimming empty <span>
TriangulatedFragment.html:81:6: Warning: missing </span> before <p>
TriangulatedFragment.html:81:107: Warning: inserting implicit <span>
TriangulatedFragment.html:81:6: Warning: trimming empty <span>
TriangulatedOutline.html:82:6: Warning: missing </span> before <p>
TriangulatedOutline.html:82:108: Warning: inserting implicit <span>
TriangulatedOutline.html:85:6: Warning: missing </span> before <p>
TriangulatedOutline.html:85:105: Warning: inserting implicit <span>
TriangulatedOutline.html:88:6: Warning: missing </span> before <p>
TriangulatedOutline.html:88:106: Warning: inserting implicit <span>
TriangulatedOutline.html:91:6: Warning: missing </span> before <p>
TriangulatedOutline.html:91:110: Warning: inserting implicit <span>
TriangulatedOutline.html:94:6: Warning: missing </span> before <p>
TriangulatedOutline.html:94:98: Warning: inserting implicit <span>
TriangulatedOutline.html:97:6: Warning: missing </span> before <p>
TriangulatedOutline.html:97:99: Warning: inserting implicit <span>
TriangulatedOutline.html:100:6: Warning: missing </span> before <p>
TriangulatedOutline.html:100:94: Warning: inserting implicit <span>
TriangulatedOutline.html:103:6: Warning: missing </span> before <p>
TriangulatedOutline.html:103:103: Warning: inserting implicit <span>
TriangulatedOutline.html:106:6: Warning: missing </span> before <p>
TriangulatedOutline.html:106:99: Warning: inserting implicit <span>
TriangulatedOutline.html:109:6: Warning: missing </span> before <p>
TriangulatedOutline.html:109:95: Warning: inserting implicit <span>
TriangulatedOutline.html:112:6: Warning: missing </span> before <p>
TriangulatedOutline.html:112:101: Warning: inserting implicit <span>
TriangulatedOutline.html:115:6: Warning: missing </span> before <p>
TriangulatedOutline.html:115:97: Warning: inserting implicit <span>
TriangulatedOutline.html:118:6: Warning: missing </span> before <p>
TriangulatedOutline.html:118:93: Warning: inserting implicit <span>
TriangulatedOutline.html:121:6: Warning: missing </span> before <p>
TriangulatedOutline.html:121:98: Warning: inserting implicit <span>
TriangulatedOutline.html:124:6: Warning: missing </span> before <p>
TriangulatedOutline.html:124:99: Warning: inserting implicit <span>
TriangulatedOutline.html:127:6: Warning: missing </span> before <p>
TriangulatedOutline.html:127:101: Warning: inserting implicit <span>
TriangulatedOutline.html:130:6: Warning: missing </span> before <p>
TriangulatedOutline.html:130:99: Warning: inserting implicit <span>
TriangulatedOutline.html:133:6: Warning: missing </span> before <p>
TriangulatedOutline.html:133:104: Warning: inserting implicit <span>
TriangulatedOutline.html:136:6: Warning: missing </span> before <p>
TriangulatedOutline.html:136:102: Warning: inserting implicit <span>
TriangulatedOutline.html:139:6: Warning: missing </span> before <p>
TriangulatedOutline.html:139:105: Warning: inserting implicit <span>
TriangulatedOutline.html:142:6: Warning: missing </span> before <p>
TriangulatedOutline.html:142:119: Warning: inserting implicit <span>
TriangulatedOutline.html:145:6: Warning: missing </span> before <p>
TriangulatedOutline.html:145:116: Warning: inserting implicit <span>
TriangulatedOutline.html:148:6: Warning: missing </span> before <p>
TriangulatedOutline.html:148:108: Warning: inserting implicit <span>
TriangulatedOutline.html:151:6: Warning: missing </span> before <p>
TriangulatedOutline.html:151:108: Warning: inserting implicit <span>
TriangulatedOutline.html:154:6: Warning: missing </span> before <p>
TriangulatedOutline.html:154:104: Warning: inserting implicit <span>
TriangulatedOutline.html:157:6: Warning: missing </span> before <p>
TriangulatedOutline.html:157:102: Warning: inserting implicit <span>
TriangulatedOutline.html:160:6: Warning: missing </span> before <p>
TriangulatedOutline.html:160:103: Warning: inserting implicit <span>
TriangulatedOutline.html:163:6: Warning: missing </span> before <p>
TriangulatedOutline.html:163:105: Warning: inserting implicit <span>
TriangulatedOutline.html:166:6: Warning: missing </span> before <p>
TriangulatedOutline.html:166:110: Warning: inserting implicit <span>
TriangulatedOutline.html:169:6: Warning: missing </span> before <p>
TriangulatedOutline.html:169:105: Warning: inserting implicit <span>
TriangulatedOutline.html:172:6: Warning: missing </span> before <p>
TriangulatedOutline.html:172:108: Warning: inserting implicit <span>
TriangulatedOutline.html:175:6: Warning: missing </span> before <p>
TriangulatedOutline.html:175:104: Warning: inserting implicit <span>
TriangulatedOutline.html:82:6: Warning: trimming empty <span>
TriangulatedOutline.html:85:6: Warning: trimming empty <span>
TriangulatedOutline.html:88:6: Warning: trimming empty <span>
TriangulatedOutline.html:91:6: Warning: trimming empty <span>
TriangulatedOutline.html:94:6: Warning: trimming empty <span>
TriangulatedOutline.html:97:6: Warning: trimming empty <span>
TriangulatedOutline.html:100:6: Warning: trimming empty <span>
TriangulatedOutline.html:103:6: Warning: trimming empty <span>
TriangulatedOutline.html:106:6: Warning: trimming empty <span>
TriangulatedOutline.html:109:6: Warning: trimming empty <span>
TriangulatedOutline.html:112:6: Warning: trimming empty <span>
TriangulatedOutline.html:115:6: Warning: trimming empty <span>
TriangulatedOutline.html:118:6: Warning: trimming empty <span>
TriangulatedOutline.html:121:6: Warning: trimming empty <span>
TriangulatedOutline.html:124:6: Warning: trimming empty <span>
TriangulatedOutline.html:127:6: Warning: trimming empty <span>
TriangulatedOutline.html:130:6: Warning: trimming empty <span>
TriangulatedOutline.html:133:6: Warning: trimming empty <span>
TriangulatedOutline.html:136:6: Warning: trimming empty <span>
TriangulatedOutline.html:139:6: Warning: trimming empty <span>
TriangulatedOutline.html:142:6: Warning: trimming empty <span>
TriangulatedOutline.html:145:6: Warning: trimming empty <span>
TriangulatedOutline.html:148:6: Warning: trimming empty <span>
TriangulatedOutline.html:151:6: Warning: trimming empty <span>
TriangulatedOutline.html:154:6: Warning: trimming empty <span>
TriangulatedOutline.html:157:6: Warning: trimming empty <span>
TriangulatedOutline.html:160:6: Warning: trimming empty <span>
TriangulatedOutline.html:163:6: Warning: trimming empty <span>
TriangulatedOutline.html:166:6: Warning: trimming empty <span>
TriangulatedOutline.html:169:6: Warning: trimming empty <span>
TriangulatedOutline.html:172:6: Warning: trimming empty <span>
TriangulatedOutline.html:175:6: Warning: trimming empty <span>
- checking for non-standard things in the check directory ... OK
- checking for detritus in the temp directory ... OK
- DONE
Status: 3 NOTEs