- using R Under development (unstable) (2023-02-01 r83744)
- using platform: x86_64-pc-linux-gnu (64-bit)
- R was compiled by
gcc (GCC) 12.2.1 20221121 (Red Hat 12.2.1-4)
GNU Fortran (GCC) 12.2.1 20221121 (Red Hat 12.2.1-4)
- running under: Fedora Linux 36 (Workstation Edition)
- using session charset: UTF-8
- using option ‘--no-stop-on-test-error’
- checking for file ‘partykit/DESCRIPTION’ ... OK
- this is package ‘partykit’ version ‘1.2-16’
- checking package namespace information ... OK
- checking package dependencies ... OK
- checking if this is a source package ... OK
- checking if there is a namespace ... OK
- checking for executable files ... OK
- checking for hidden files and directories ... OK
- checking for portable file names ... OK
- checking for sufficient/correct file permissions ... OK
- checking whether package ‘partykit’ can be installed ... [25s/65s] OK
- used C compiler: ‘gcc (GCC) 12.2.1 20221121 (Red Hat 12.2.1-4)’
- checking package directory ... OK
- checking ‘build’ directory ... OK
- checking DESCRIPTION meta-information ... OK
- checking top-level files ... OK
- checking for left-over files ... OK
- checking index information ... OK
- checking package subdirectories ... OK
- checking R files for non-ASCII characters ... OK
- checking R files for syntax errors ... OK
- checking whether the package can be loaded ... OK
- checking whether the package can be loaded with stated dependencies ... OK
- checking whether the package can be unloaded cleanly ... OK
- checking whether the namespace can be loaded with stated dependencies ... OK
- checking whether the namespace can be unloaded cleanly ... OK
- checking loading without being on the library search path ... OK
- checking use of S3 registration ... OK
- checking dependencies in R code ... OK
- checking S3 generic/method consistency ... OK
- checking replacement functions ... OK
- checking foreign function calls ... OK
- checking R code for possible problems ... [53s/133s] OK
- checking Rd files ... OK
- checking Rd metadata ... OK
- checking Rd line widths ... OK
- checking Rd cross-references ... OK
- checking for missing documentation entries ... OK
- checking for code/documentation mismatches ... OK
- checking Rd \usage sections ... OK
- checking Rd contents ... OK
- checking for unstated dependencies in examples ... OK
- checking contents of ‘data’ directory ... OK
- checking data for non-ASCII characters ... OK
- checking LazyData ... OK
- checking data for ASCII and uncompressed saves ... OK
- checking line endings in shell scripts ... OK
- checking line endings in C/C++/Fortran sources/headers ... OK
- checking line endings in Makefiles ... OK
- checking for GNU extensions in Makefiles ... OK
- checking include directives in Makefiles ... OK
- checking pragmas in C/C++ headers and code ... OK
- checking compilation flags used ... OK
- checking compiled code ... OK
- checking sizes of PDF files under ‘inst/doc’ ... OK
- checking installed files from ‘inst/doc’ ... OK
- checking files in ‘vignettes’ ... OK
- checking examples ... [33s/88s] OK
- checking differences from ‘partykit-Ex.Rout’ to ‘partykit-Ex.Rout.save’ ... OK
- checking for unstated dependencies in ‘tests’ ... OK
- checking tests ... [144s/390s] OK
Running ‘bugfixes.R’ [9s/25s]
Comparing ‘bugfixes.Rout’ to ‘bugfixes.Rout.save’ ... OK
Running ‘constparty.R’ [11s/31s]
Comparing ‘constparty.Rout’ to ‘constparty.Rout.save’ ... OK
Running ‘regtest-MIA.R’
Comparing ‘regtest-MIA.Rout’ to ‘regtest-MIA.Rout.save’ ... OK
Running ‘regtest-cforest.R’ [21s/55s]
Comparing ‘regtest-cforest.Rout’ to ‘regtest-cforest.Rout.save’ ... OK
Running ‘regtest-ctree.R’ [4s/11s]
Comparing ‘regtest-ctree.Rout’ to ‘regtest-ctree.Rout.save’ ... OK
Running ‘regtest-glmtree.R’ [61s/171s]
Comparing ‘regtest-glmtree.Rout’ to ‘regtest-glmtree.Rout.save’ ... OK
Running ‘regtest-honesty.R’
Running ‘regtest-lmtree.R’ [5s/14s]
Running ‘regtest-nmax.R’
Comparing ‘regtest-nmax.Rout’ to ‘regtest-nmax.Rout.save’ ... OK
Running ‘regtest-node.R’
Comparing ‘regtest-node.Rout’ to ‘regtest-node.Rout.save’ ... OK
Running ‘regtest-party-random.R’
Running ‘regtest-party.R’ [8s/17s]
Comparing ‘regtest-party.Rout’ to ‘regtest-party.Rout.save’ ... OK
Running ‘regtest-split.R’
Comparing ‘regtest-split.Rout’ to ‘regtest-split.Rout.save’ ... OK
Running ‘regtest-weights.R’ [4s/11s]
Comparing ‘regtest-weights.Rout’ to ‘regtest-weights.Rout.save’ ... OK
- checking for unstated dependencies in vignettes ... OK
- checking package vignettes in ‘inst/doc’ ... OK
- checking running R code from vignettes ... [20s/56s] OK
‘ctree.Rnw’ using ‘UTF-8’... [15s/40s] OK
‘partykit.Rnw’... [5s/13s] OK
- checking re-building of vignette outputs ... [130s/355s] OK
- checking PDF version of manual ... [11s/30s] OK
- checking HTML version of manual ... [5s/11s] OK
- checking for non-standard things in the check directory ... OK
- checking for detritus in the temp directory ... OK
- DONE
Status: OK