- using R Under development (unstable) (2022-08-17 r82724)
- using platform: x86_64-pc-linux-gnu (64-bit)
- using session charset: UTF-8
- using option ‘--no-stop-on-test-error’
- checking for file ‘lgrExtra/DESCRIPTION’ ... OK
- checking extension type ... Package
- this is package ‘lgrExtra’ version ‘0.0.6’
- package encoding: UTF-8
- checking package namespace information ... OK
- checking package dependencies ... OK
- checking if this is a source package ... OK
- checking if there is a namespace ... OK
- checking for executable files ... OK
- checking for hidden files and directories ... OK
- checking for portable file names ... OK
- checking for sufficient/correct file permissions ... OK
- checking whether package ‘lgrExtra’ can be installed ... [21s/26s] OK
- checking package directory ... OK
- checking DESCRIPTION meta-information ... OK
- checking top-level files ... OK
- checking for left-over files ... OK
- checking index information ... OK
- checking package subdirectories ... OK
- checking R files for non-ASCII characters ... OK
- checking R files for syntax errors ... OK
- checking whether the package can be loaded ... OK
- checking whether the package can be loaded with stated dependencies ... OK
- checking whether the package can be unloaded cleanly ... OK
- checking whether the namespace can be loaded with stated dependencies ... OK
- checking whether the namespace can be unloaded cleanly ... OK
- checking loading without being on the library search path ... OK
- checking use of S3 registration ... OK
- checking dependencies in R code ... OK
- checking S3 generic/method consistency ... OK
- checking replacement functions ... OK
- checking foreign function calls ... OK
- checking R code for possible problems ... [8s/10s] OK
- checking Rd files ... OK
- checking Rd metadata ... OK
- checking Rd line widths ... OK
- checking Rd cross-references ... OK
- checking for missing documentation entries ... OK
- checking for code/documentation mismatches ... OK
- checking Rd \usage sections ... OK
- checking Rd contents ... OK
- checking for unstated dependencies in examples ... OK
- checking examples ... OK
- checking for unstated dependencies in ‘tests’ ... OK
- checking tests ... [10s/13s] OK
Running ‘testthat.R’ [10s/12s]
- checking PDF version of manual ... [9s/15s] OK
- checking HTML version of manual ... NOTE
Found the following HTML validation problems:
AppenderDbi.html:146:6: Warning: missing </span> before <p>
AppenderDbi.html:146:92: Warning: inserting implicit <span>
AppenderDbi.html:149:6: Warning: missing </span> before <p>
AppenderDbi.html:149:88: Warning: inserting implicit <span>
AppenderDbi.html:152:6: Warning: missing </span> before <p>
AppenderDbi.html:152:95: Warning: inserting implicit <span>
AppenderDbi.html:155:6: Warning: missing </span> before <p>
AppenderDbi.html:155:93: Warning: inserting implicit <span>
AppenderDbi.html:158:6: Warning: missing </span> before <p>
AppenderDbi.html:158:90: Warning: inserting implicit <span>
AppenderDbi.html:161:6: Warning: missing </span> before <p>
AppenderDbi.html:161:93: Warning: inserting implicit <span>
AppenderDbi.html:164:6: Warning: missing </span> before <p>
AppenderDbi.html:164:92: Warning: inserting implicit <span>
AppenderDbi.html:167:6: Warning: missing </span> before <p>
AppenderDbi.html:167:91: Warning: inserting implicit <span>
AppenderDbi.html:170:6: Warning: missing </span> before <p>
AppenderDbi.html:170:92: Warning: inserting implicit <span>
AppenderDbi.html:173:6: Warning: missing </span> before <p>
AppenderDbi.html:173:101: Warning: inserting implicit <span>
AppenderDbi.html:176:6: Warning: missing </span> before <p>
AppenderDbi.html:176:103: Warning: inserting implicit <span>
AppenderDbi.html:179:6: Warning: missing </span> before <p>
AppenderDbi.html:179:105: Warning: inserting implicit <span>
AppenderDbi.html:182:6: Warning: missing </span> before <p>
AppenderDbi.html:182:105: Warning: inserting implicit <span>
AppenderDbi.html:185:6: Warning: missing </span> before <p>
AppenderDbi.html:185:102: Warning: inserting implicit <span>
AppenderDigest.html:79:6: Warning: missing </span> before <p>
AppenderDigest.html:79:92: Warning: inserting implicit <span>
AppenderDigest.html:82:6: Warning: missing </span> before <p>
AppenderDigest.html:82:88: Warning: inserting implicit <span>
AppenderDigest.html:85:6: Warning: missing </span> before <p>
AppenderDigest.html:85:95: Warning: inserting implicit <span>
AppenderDigest.html:88:6: Warning: missing </span> before <p>
AppenderDigest.html:88:93: Warning: inserting implicit <span>
AppenderDigest.html:91:6: Warning: missing </span> before <p>
AppenderDigest.html:91:90: Warning: inserting implicit <span>
AppenderDigest.html:94:6: Warning: missing </span> before <p>
AppenderDigest.html:94:93: Warning: inserting implicit <span>
AppenderDigest.html:97:6: Warning: missing </span> before <p>
AppenderDigest.html:97:92: Warning: inserting implicit <span>
AppenderDigest.html:100:6: Warning: missing </span> before <p>
AppenderDigest.html:100:91: Warning: inserting implicit <span>
AppenderDigest.html:103:6: Warning: missing </span> before <p>
AppenderDigest.html:103:91: Warning: inserting implicit <span>
AppenderDigest.html:106:6: Warning: missing </span> before <p>
AppenderDigest.html:106:92: Warning: inserting implicit <span>
AppenderDigest.html:109:6: Warning: missing </span> before <p>
AppenderDigest.html:109:101: Warning: inserting implicit <span>
AppenderDigest.html:112:6: Warning: missing </span> before <p>
AppenderDigest.html:112:103: Warning: inserting implicit <span>
AppenderDigest.html:115:6: Warning: missing </span> before <p>
AppenderDigest.html:115:105: Warning: inserting implicit <span>
AppenderDigest.html:118:6: Warning: missing </span> before <p>
AppenderDigest.html:118:105: Warning: inserting implicit <span>
AppenderDigest.html:121:6: Warning: missing </span> before <p>
AppenderDigest.html:121:102: Warning: inserting implicit <span>
AppenderDigest.html:124:6: Warning: missing </span> before <p>
AppenderDigest.html:124:90: Warning: inserting implicit <span>
AppenderDt.html:105:6: Warning: missing </span> before <p>
AppenderDt.html:105:92: Warning: inserting implicit <span>
AppenderDt.html:108:6: Warning: missing </span> before <p>
AppenderDt.html:108:88: Warning: inserting implicit <span>
AppenderDt.html:111:6: Warning: missing </span> before <p>
AppenderDt.html:111:95: Warning: inserting implicit <span>
AppenderDt.html:114:6: Warning: missing </span> before <p>
AppenderDt.html:114:93: Warning: inserting implicit <span>
AppenderDt.html:117:6: Warning: missing </span> before <p>
AppenderDt.html:117:86: Warning: inserting implicit <span>
AppenderDt.html:120:6: Warning: missing </span> before <p>
AppenderDt.html:120:93: Warning: inserting implicit <span>
AppenderElasticSearch.html:97:6: Warning: missing </span> before <p>
AppenderElasticSearch.html:97:92: Warning: inserting implicit <span>
AppenderElasticSearch.html:100:6: Warning: missing </span> before <p>
AppenderElasticSearch.html:100:88: Warning: inserting implicit <span>
AppenderElasticSearch.html:103:6: Warning: missing </span> before <p>
AppenderElasticSearch.html:103:95: Warning: inserting implicit <span>
AppenderElasticSearch.html:106:6: Warning: missing </span> before <p>
AppenderElasticSearch.html:106:93: Warning: inserting implicit <span>
AppenderElasticSearch.html:109:6: Warning: missing </span> before <p>
AppenderElasticSearch.html:109:90: Warning: inserting implicit <span>
AppenderElasticSearch.html:112:6: Warning: missing </span> before <p>
AppenderElasticSearch.html:112:93: Warning: inserting implicit <span>
AppenderElasticSearch.html:115:6: Warning: missing </span> before <p>
AppenderElasticSearch.html:115:92: Warning: inserting implicit <span>
AppenderElasticSearch.html:118:6: Warning: missing </span> before <p>
AppenderElasticSearch.html:118:91: Warning: inserting implicit <span>
AppenderElasticSearch.html:121:6: Warning: missing </span> before <p>
AppenderElasticSearch.html:121:92: Warning: inserting implicit <span>
AppenderElasticSearch.html:124:6: Warning: missing </span> before <p>
AppenderElasticSearch.html:124:101: Warning: inserting implicit <span>
AppenderElasticSearch.html:127:6: Warning: missing </span> before <p>
AppenderElasticSearch.html:127:103: Warning: inserting implicit <span>
AppenderElasticSearch.html:130:6: Warning: missing </span> before <p>
AppenderElasticSearch.html:130:105: Warning: inserting implicit <span>
AppenderElasticSearch.html:133:6: Warning: missing </span> before <p>
AppenderElasticSearch.html:133:105: Warning: inserting implicit <span>
AppenderElasticSearch.html:136:6: Warning: missing </span> before <p>
AppenderElasticSearch.html:136:102: Warning: inserting implicit <span>
AppenderGmail.html:68:6: Warning: missing </span> before <p>
AppenderGmail.html:68:92: Warning: inserting implicit <span>
AppenderGmail.html:71:6: Warning: missing </span> before <p>
AppenderGmail.html:71:88: Warning: inserting implicit <span>
AppenderGmail.html:74:6: Warning: missing </span> before <p>
AppenderGmail.html:74:95: Warning: inserting implicit <span>
AppenderGmail.html:77:6: Warning: missing </span> before <p>
AppenderGmail.html:77:93: Warning: inserting implicit <span>
AppenderGmail.html:80:6: Warning: missing </span> before <p>
AppenderGmail.html:80:90: Warning: inserting implicit <span>
AppenderGmail.html:83:6: Warning: missing </span> before <p>
AppenderGmail.html:83:93: Warning: inserting implicit <span>
AppenderGmail.html:86:6: Warning: missing </span> before <p>
AppenderGmail.html:86:92: Warning: inserting implicit <span>
AppenderGmail.html:89:6: Warning: missing </span> before <p>
AppenderGmail.html:89:91: Warning: inserting implicit <span>
AppenderGmail.html:92:6: Warning: missing </span> before <p>
AppenderGmail.html:92:101: Warning: inserting implicit <span>
AppenderGmail.html:95:6: Warning: missing </span> before <p>
AppenderGmail.html:95:103: Warning: inserting implicit <span>
AppenderGmail.html:98:6: Warning: missing </span> before <p>
AppenderGmail.html:98:105: Warning: inserting implicit <span>
AppenderGmail.html:101:6: Warning: missing </span> before <p>
AppenderGmail.html:101:105: Warning: inserting implicit <span>
AppenderGmail.html:104:6: Warning: missing </span> before <p>
AppenderGmail.html:104:102: Warning: inserting implicit <span>
AppenderGmail.html:107:6: Warning: missing </span> before <p>
AppenderGmail.html:107:90: Warning: inserting implicit <span>
AppenderGmail.html:110:6: Warning: missing </span> before <p>
AppenderGmail.html:110:109: Warning: inserting implicit <span>
AppenderGmail.html:113:6: Warning: missing </span> before <p>
AppenderGmail.html:113:95: Warning: inserting implicit <span>
AppenderGmail.html:116:6: Warning: missing </span> before <p>
AppenderGmail.html:116:96: Warning: inserting implicit <span>
AppenderGmail.html:119:6: Warning: missing </span> before <p>
AppenderGmail.html:119:95: Warning: inserting implicit <span>
AppenderGmail.html:122:6: Warning: missing </span> before <p>
AppenderGmail.html:122:97: Warning: inserting implicit <span>
AppenderGmail.html:125:6: Warning: missing </span> before <p>
AppenderGmail.html:125:97: Warning: inserting implicit <span>
AppenderGmail.html:128:6: Warning: missing </span> before <p>
AppenderGmail.html:128:95: Warning: inserting implicit <span>
AppenderMail.html:98:6: Warning: missing </span> before <p>
AppenderMail.html:98:92: Warning: inserting implicit <span>
AppenderMail.html:101:6: Warning: missing </span> before <p>
AppenderMail.html:101:88: Warning: inserting implicit <span>
AppenderMail.html:104:6: Warning: missing </span> before <p>
AppenderMail.html:104:95: Warning: inserting implicit <span>
AppenderMail.html:107:6: Warning: missing </span> before <p>
AppenderMail.html:107:93: Warning: inserting implicit <span>
AppenderMail.html:110:6: Warning: missing </span> before <p>
AppenderMail.html:110:90: Warning: inserting implicit <span>
AppenderMail.html:113:6: Warning: missing </span> before <p>
AppenderMail.html:113:93: Warning: inserting implicit <span>
AppenderMail.html:116:6: Warning: missing </span> before <p>
AppenderMail.html:116:92: Warning: inserting implicit <span>
AppenderMail.html:119:6: Warning: missing </span> before <p>
AppenderMail.html:119:91: Warning: inserting implicit <span>
AppenderMail.html:122:6: Warning: missing </span> before <p>
AppenderMail.html:122:91: Warning: inserting implicit <span>
AppenderMail.html:125:6: Warning: missing </span> before <p>
AppenderMail.html:125:101: Warning: inserting implicit <span>
AppenderMail.html:128:6: Warning: missing </span> before <p>
AppenderMail.html:128:103: Warning: inserting implicit <span>
AppenderMail.html:131:6: Warning: missing </span> before <p>
AppenderMail.html:131:105: Warning: inserting implicit <span>
AppenderMail.html:134:6: Warning: missing </span> before <p>
AppenderMail.html:134:105: Warning: inserting implicit <span>
AppenderMail.html:137:6: Warning: missing </span> before <p>
AppenderMail.html:137:102: Warning: inserting implicit <span>
AppenderMail.html:140:6: Warning: missing </span> before <p>
AppenderMail.html:140:90: Warning: inserting implicit <span>
AppenderMail.html:143:6: Warning: missing </span> before <p>
AppenderMail.html:143:109: Warning: inserting implicit <span>
AppenderPushbullet.html:100:6: Warning: missing </span> before <p>
AppenderPushbullet.html:100:92: Warning: inserting implicit <span>
AppenderPushbullet.html:103:6: Warning: missing </span> before <p>
AppenderPushbullet.html:103:88: Warning: inserting implicit <span>
AppenderPushbullet.html:106:6: Warning: missing </span> before <p>
AppenderPushbullet.html:106:95: Warning: inserting implicit <span>
AppenderPushbullet.html:109:6: Warning: missing </span> before <p>
AppenderPushbullet.html:109:93: Warning: inserting implicit <span>
AppenderPushbullet.html:112:6: Warning: missing </span> before <p>
AppenderPushbullet.html:112:90: Warning: inserting implicit <span>
AppenderPushbullet.html:115:6: Warning: missing </span> before <p>
AppenderPushbullet.html:115:93: Warning: inserting implicit <span>
AppenderPushbullet.html:118:6: Warning: missing </span> before <p>
AppenderPushbullet.html:118:92: Warning: inserting implicit <span>
AppenderPushbullet.html:121:6: Warning: missing </span> before <p>
AppenderPushbullet.html:121:91: Warning: inserting implicit <span>
AppenderPushbullet.html:124:6: Warning: missing </span> before <p>
AppenderPushbullet.html:124:92: Warning: inserting implicit <span>
AppenderPushbullet.html:127:6: Warning: missing </span> before <p>
AppenderPushbullet.html:127:101: Warning: inserting implicit <span>
AppenderPushbullet.html:130:6: Warning: missing </span> before <p>
AppenderPushbullet.html:130:103: Warning: inserting implicit <span>
AppenderPushbullet.html:133:6: Warning: missing </span> before <p>
AppenderPushbullet.html:133:105: Warning: inserting implicit <span>
AppenderPushbullet.html:136:6: Warning: missing </span> before <p>
AppenderPushbullet.html:136:105: Warning: inserting implicit <span>
AppenderPushbullet.html:139:6: Warning: missing </span> before <p>
AppenderPushbullet.html:139:102: Warning: inserting implicit <span>
AppenderPushbullet.html:142:6: Warning: missing </span> before <p>
AppenderPushbullet.html:142:90: Warning: inserting implicit <span>
AppenderPushbullet.html:145:6: Warning: missing </span> before <p>
AppenderPushbullet.html:145:109: Warning: inserting implicit <span>
AppenderSendmail.html:85:6: Warning: missing </span> before <p>
AppenderSendmail.html:85:92: Warning: inserting implicit <span>
AppenderSendmail.html:88:6: Warning: missing </span> before <p>
AppenderSendmail.html:88:88: Warning: inserting implicit <span>
AppenderSendmail.html:91:6: Warning: missing </span> before <p>
AppenderSendmail.html:91:95: Warning: inserting implicit <span>
AppenderSendmail.html:94:6: Warning: missing </span> before <p>
AppenderSendmail.html:94:93: Warning: inserting implicit <span>
AppenderSendmail.html:97:6: Warning: missing </span> before <p>
AppenderSendmail.html:97:90: Warning: inserting implicit <span>
AppenderSendmail.html:100:6: Warning: missing </span> before <p>
AppenderSendmail.html:100:93: Warning: inserting implicit <span>
AppenderSendmail.html:103:6: Warning: missing </span> before <p>
AppenderSendmail.html:103:92: Warning: inserting implicit <span>
AppenderSendmail.html:106:6: Warning: missing </span> before <p>
AppenderSendmail.html:106:91: Warning: inserting implicit <span>
AppenderSendmail.html:109:6: Warning: missing </span> before <p>
AppenderSendmail.html:109:101: Warning: inserting implicit <span>
AppenderSendmail.html:112:6: Warning: missing </span> before <p>
AppenderSendmail.html:112:103: Warning: inserting implicit <span>
AppenderSendmail.html:115:6: Warning: missing </span> before <p>
AppenderSendmail.html:115:105: Warning: inserting implicit <span>
AppenderSendmail.html:118:6: Warning: missing </span> before <p>
AppenderSendmail.html:118:105: Warning: inserting implicit <span>
AppenderSendmail.html:121:6: Warning: missing </span> before <p>
AppenderSendmail.html:121:102: Warning: inserting implicit <span>
AppenderSendmail.html:124:6: Warning: missing </span> before <p>
AppenderSendmail.html:124:90: Warning: inserting implicit <span>
AppenderSendmail.html:127:6: Warning: missing </span> before <p>
AppenderSendmail.html:127:109: Warning: inserting implicit <span>
AppenderSendmail.html:130:6: Warning: missing </span> before <p>
AppenderSendmail.html:130:95: Warning: inserting implicit <span>
AppenderSendmail.html:133:6: Warning: missing </span> before <p>
AppenderSendmail.html:133:96: Warning: inserting implicit <span>
AppenderSendmail.html:136:6: Warning: missing </span> before <p>
AppenderSendmail.html:136:95: Warning: inserting implicit <span>
AppenderSendmail.html:139:6: Warning: missing </span> before <p>
AppenderSendmail.html:139:97: Warning: inserting implicit <span>
AppenderSendmail.html:142:6: Warning: missing </span> before <p>
AppenderSendmail.html:142:97: Warning: inserting implicit <span>
AppenderSendmail.html:145:6: Warning: missing </span> before <p>
AppenderSendmail.html:145:95: Warning: inserting implicit <span>
AppenderSyslog.html:98:6: Warning: missing </span> before <p>
AppenderSyslog.html:98:92: Warning: inserting implicit <span>
AppenderSyslog.html:101:6: Warning: missing </span> before <p>
AppenderSyslog.html:101:88: Warning: inserting implicit <span>
AppenderSyslog.html:104:6: Warning: missing </span> before <p>
AppenderSyslog.html:104:95: Warning: inserting implicit <span>
AppenderSyslog.html:107:6: Warning: missing </span> before <p>
AppenderSyslog.html:107:93: Warning: inserting implicit <span>
AppenderSyslog.html:110:6: Warning: missing </span> before <p>
AppenderSyslog.html:110:86: Warning: inserting implicit <span>
AppenderSyslog.html:113:6: Warning: missing </span> before <p>
AppenderSyslog.html:113:90: Warning: inserting implicit <span>
AppenderSyslog.html:116:6: Warning: missing </span> before <p>
AppenderSyslog.html:116:93: Warning: inserting implicit <span>
LayoutDbi.html:168:6: Warning: missing </span> before <p>
LayoutDbi.html:168:96: Warning: inserting implicit <span>
LayoutDbi.html:171:6: Warning: missing </span> before <p>
LayoutDbi.html:171:88: Warning: inserting implicit <span>
LayoutDbi.html:174:6: Warning: missing </span> before <p>
LayoutDbi.html:174:94: Warning: inserting implicit <span>
LayoutDbi.html:177:6: Warning: missing </span> before <p>
LayoutDbi.html:177:91: Warning: inserting implicit <span>
LayoutDbi.html:180:6: Warning: missing </span> before <p>
LayoutDbi.html:180:98: Warning: inserting implicit <span>
LayoutDbi.html:183:6: Warning: missing </span> before <p>
LayoutDbi.html:183:101: Warning: inserting implicit <span>
LayoutElasticSearch.html:85:6: Warning: missing </span> before <p>
LayoutElasticSearch.html:85:86: Warning: inserting implicit <span>
Serializer.html:146:1: Warning: <a> anchor "method-clone" already defined
- checking for non-standard things in the check directory ... OK
- checking for detritus in the temp directory ... OK
- DONE
Status: 1 NOTE