- using R Under development (unstable) (2021-01-17 r79842)
- using platform: x86_64-pc-linux-gnu (64-bit)
- using session charset: UTF-8
- using option ‘--no-stop-on-test-error’
- checking for file ‘james.analysis/DESCRIPTION’ ... OK
- checking extension type ... Package
- this is package ‘james.analysis’ version ‘1.0.1’
- checking package namespace information ... OK
- checking package dependencies ... OK
- checking if this is a source package ... OK
- checking if there is a namespace ... OK
- checking for executable files ... OK
- checking for hidden files and directories ... OK
- checking for portable file names ... OK
- checking for sufficient/correct file permissions ... OK
- checking whether package ‘james.analysis’ can be installed ... OK
- checking package directory ... OK
- checking DESCRIPTION meta-information ... OK
- checking top-level files ... OK
- checking for left-over files ... OK
- checking index information ... OK
- checking package subdirectories ... OK
- checking R files for non-ASCII characters ... OK
- checking R files for syntax errors ... OK
- checking whether the package can be loaded ... OK
- checking whether the package can be loaded with stated dependencies ... OK
- checking whether the package can be unloaded cleanly ... OK
- checking whether the namespace can be loaded with stated dependencies ... OK
- checking whether the namespace can be unloaded cleanly ... OK
- checking loading without being on the library search path ... OK
- checking use of S3 registration ... OK
- checking dependencies in R code ... OK
- checking S3 generic/method consistency ... OK
- checking replacement functions ... OK
- checking foreign function calls ... OK
- checking R code for possible problems ... NOTE
boxplot.james: no visible global function definition for ‘mtext’
getBestSolutionValues.james : <anonymous>: no visible global function
definition for ‘tail’
isMinimizing: no visible global function definition for ‘head’
isMinimizing: no visible global function definition for ‘tail’
mergeJAMES.james: no visible global function definition for ‘glob2rx’
plotConvergence.james : <anonymous> : <anonymous>: no visible global
function definition for ‘tail’
plotConvergence.james: no visible global function definition for ‘tail’
plotConvergence.james: no visible global function definition for ‘head’
plotConvergence.james : <anonymous>: no visible global function
definition for ‘tail’
plotConvergence.james: no visible global function definition for
‘matplot’
plotConvergence.james: no visible global function definition for
‘mtext’
summary.james: no visible global function definition for ‘sd’
summary.james: no visible global function definition for ‘median’
summary.james: no visible global function definition for ‘IQR’
Undefined global functions or variables:
IQR glob2rx head matplot median mtext sd tail
Consider adding
importFrom("graphics", "matplot", "mtext")
importFrom("stats", "IQR", "median", "sd")
importFrom("utils", "glob2rx", "head", "tail")
to your NAMESPACE file.
- checking Rd files ... OK
- checking Rd metadata ... OK
- checking Rd line widths ... OK
- checking Rd cross-references ... OK
- checking for missing documentation entries ... OK
- checking for code/documentation mismatches ... OK
- checking Rd \usage sections ... OK
- checking Rd contents ... OK
- checking for unstated dependencies in examples ... OK
- checking contents of ‘data’ directory ... OK
- checking data for non-ASCII characters ... OK
- checking data for ASCII and uncompressed saves ... OK
- checking examples ... OK
- checking for unstated dependencies in ‘tests’ ... OK
- checking tests ... OK
Running ‘testthat.R’
- checking PDF version of manual ... OK
- checking for non-standard things in the check directory ... OK
- checking for detritus in the temp directory ... OK
- DONE
Status: 1 NOTE