- using R Under development (unstable) (2022-05-20 r82390)
- using platform: x86_64-pc-linux-gnu (64-bit)
- using session charset: UTF-8
- using option ‘--no-stop-on-test-error’
- checking for file ‘hydroApps/DESCRIPTION’ ... OK
- checking extension type ... Package
- this is package ‘hydroApps’ version ‘0.1-1’
- package encoding: UTF-8
- checking package namespace information ... OK
- checking package dependencies ... OK
- checking if this is a source package ... OK
- checking if there is a namespace ... OK
- checking for executable files ... OK
- checking for hidden files and directories ... OK
- checking for portable file names ... OK
- checking for sufficient/correct file permissions ... OK
- checking whether package ‘hydroApps’ can be installed ... OK
- checking package directory ... OK
- checking DESCRIPTION meta-information ... OK
- checking top-level files ... OK
- checking for left-over files ... OK
- checking index information ... OK
- checking package subdirectories ... OK
- checking R files for non-ASCII characters ... OK
- checking R files for syntax errors ... OK
- checking whether the package can be loaded ... OK
- checking whether the package can be loaded with stated dependencies ... OK
- checking whether the package can be unloaded cleanly ... OK
- checking whether the namespace can be loaded with stated dependencies ... OK
- checking whether the namespace can be unloaded cleanly ... OK
- checking loading without being on the library search path ... OK
- checking use of S3 registration ... OK
- checking dependencies in R code ... OK
- checking S3 generic/method consistency ... OK
- checking replacement functions ... OK
- checking foreign function calls ... OK
- checking R code for possible problems ... NOTE
ARPIEM2012.Lmom.sample: no visible global function definition for ‘var’
ARPIEM2012.freq: no visible binding for global variable ‘quantile’
ARPIEM2012.sim.Lmoments : ARPIEM2012.sim.Qind_camp: no visible global
function definition for ‘rnorm’
ARPIEM2012.sim.Lmoments : ARPIEM2012.sim.Qind_reg_moltiplicativo: no
visible global function definition for ‘rnorm’
ARPIEM2012.sim.Lmoments : ARPIEM2012.sim.LCV_camp.LCA_camp: no visible
global function definition for ‘rnorm’
ARPIEM2012.sim.Lmoments : ARPIEM2012.sim.LCV_camp.LCA_reg_additivo: no
visible global function definition for ‘rnorm’
ARPIEM2012.sim.Lmoments :
ARPIEM2012.sim.LCV_reg_moltiplicativo.LCA_reg_additivo: no visible
global function definition for ‘rnorm’
Undefined global functions or variables:
quantile rnorm var
Consider adding
importFrom("stats", "quantile", "rnorm", "var")
to your NAMESPACE file.
- checking Rd files ... OK
- checking Rd metadata ... OK
- checking Rd line widths ... OK
- checking Rd cross-references ... OK
- checking for missing documentation entries ... OK
- checking for code/documentation mismatches ... OK
- checking Rd \usage sections ... OK
- checking Rd contents ... OK
- checking for unstated dependencies in examples ... OK
- checking examples ... OK
- checking PDF version of manual ... OK
- checking for non-standard things in the check directory ... OK
- checking for detritus in the temp directory ... OK
- DONE
Status: 1 NOTE