- using R Under development (unstable) (2025-10-31 r88977)
 
- using platform: x86_64-pc-linux-gnu
 
- R was compiled by
    gcc (GCC) 15.1.1 20250521 (Red Hat 15.1.1-2)
    GNU Fortran (GCC) 15.1.1 20250521 (Red Hat 15.1.1-2)
 
- running under: Fedora Linux 42 (Workstation Edition)
 
- using session charset: UTF-8
 
- using option ‘--no-stop-on-test-error’
 
- checking for file ‘gamlss.foreach/DESCRIPTION’ ... OK
 
- checking extension type ... Package
 
- this is package ‘gamlss.foreach’ version ‘1.1-6’
 
- checking package namespace information ... OK
 
- checking package dependencies ... OK
 
- checking if this is a source package ... OK
 
- checking if there is a namespace ... OK
 
- checking for executable files ... OK
 
- checking for hidden files and directories ... OK
 
- checking for portable file names ... OK
 
- checking for sufficient/correct file permissions ... OK
 
- checking whether package ‘gamlss.foreach’ can be installed ... [14s/18s] OK
See the install log for details.
 
- checking package directory ... OK
 
- checking DESCRIPTION meta-information ... OK
 
- checking top-level files ... OK
 
- checking for left-over files ... OK
 
- checking index information ... OK
 
- checking package subdirectories ... OK
 
- checking code files for non-ASCII characters ... OK
 
- checking R files for syntax errors ... OK
 
- checking whether the package can be loaded ... OK
 
- checking whether the package can be loaded with stated dependencies ... OK
 
- checking whether the package can be unloaded cleanly ... OK
 
- checking whether the namespace can be loaded with stated dependencies ... OK
 
- checking whether the namespace can be unloaded cleanly ... OK
 
- checking loading without being on the library search path ... OK
 
- checking use of S3 registration ... OK
 
- checking dependencies in R code ... OK
 
- checking S3 generic/method consistency ... OK
 
- checking replacement functions ... OK
 
- checking foreign function calls ... OK
 
- checking R code for possible problems ... [20s/26s] OK
 
- checking Rd files ... NOTE
checkRd: (-1) pc.Rd:17: Lost braces
    17 | The functions \code{gamlss.pcr()} and \code{gamlss.pc()} are supporting functions. The  are not intended to be called directly by users. The function \code{gamlss.pc()} is using the linear model function \code{lm()} to fit the first principal components while the function code{gamlss.pcr()} uses \code{fitPCR()}.
       |                                                                                                                                                                                                                                                                                      ^
 
- checking Rd metadata ... OK
 
- checking Rd line widths ... OK
 
- checking Rd cross-references ... OK
 
- checking for missing documentation entries ... OK
 
- checking for code/documentation mismatches ... OK
 
- checking Rd \usage sections ... OK
 
- checking Rd contents ... OK
 
- checking for unstated dependencies in examples ... OK
 
- checking examples ... [17s/16s] OK
 
- checking PDF version of manual ... OK
 
- checking HTML version of manual ... OK
 
- checking for non-standard things in the check directory ... OK
 
- checking for detritus in the temp directory ... OK
 
- DONE
 
Status: 1 NOTE