* using log directory ‘/data/gannet/ripley/R/packages/tests-devel/future.apply.Rcheck’ * using R Under development (unstable) (2025-07-04 r88381) * using platform: x86_64-pc-linux-gnu * R was compiled by gcc (GCC) 15.1.1 20250521 (Red Hat 15.1.1-2) GNU Fortran (GCC) 15.1.1 20250521 (Red Hat 15.1.1-2) * running under: Fedora Linux 42 (Workstation Edition) * using session charset: UTF-8 * using option ‘--no-stop-on-test-error’ * checking for file ‘future.apply/DESCRIPTION’ ... OK * this is package ‘future.apply’ version ‘1.20.0’ * package encoding: UTF-8 * checking package namespace information ... OK * checking package dependencies ... OK * checking if this is a source package ... OK * checking if there is a namespace ... OK * checking for executable files ... OK * checking for hidden files and directories ... OK * checking for portable file names ... OK * checking for sufficient/correct file permissions ... OK * checking whether package ‘future.apply’ can be installed ... OK See 'https://www.r-project.org/nosvn/R.check/r-devel-linux-x86_64-fedora-gcc/future.apply-00install.html' for details. * checking package directory ... OK * checking ‘build’ directory ... OK * checking DESCRIPTION meta-information ... OK * checking top-level files ... OK * checking for left-over files ... OK * checking index information ... OK * checking package subdirectories ... OK * checking code files for non-ASCII characters ... OK * checking R files for syntax errors ... OK * checking whether the package can be loaded ... OK * checking whether the package can be loaded with stated dependencies ... OK * checking whether the package can be unloaded cleanly ... OK * checking whether the namespace can be loaded with stated dependencies ... OK * checking whether the namespace can be unloaded cleanly ... OK * checking loading without being on the library search path ... OK * checking whether startup messages can be suppressed ... OK * checking use of S3 registration ... OK * checking dependencies in R code ... OK * checking S3 generic/method consistency ... OK * checking replacement functions ... OK * checking foreign function calls ... OK * checking R code for possible problems ... [12s/15s] OK * checking Rd files ... OK * checking Rd metadata ... OK * checking Rd line widths ... OK * checking Rd cross-references ... OK * checking for missing documentation entries ... OK * checking for code/documentation mismatches ... OK * checking Rd \usage sections ... OK * checking Rd contents ... OK * checking for unstated dependencies in examples ... OK * checking installed files from ‘inst/doc’ ... OK * checking files in ‘vignettes’ ... OK * checking examples ... OK * checking for unstated dependencies in ‘tests’ ... OK * checking tests ... [271s/461s] OK Running ‘test-fold.R’ [10s/13s] Running ‘test-future_Filter.R’ Running ‘test-future_apply.R’ [16s/27s] Running ‘test-future_by.R’ [6s/11s] Running ‘test-future_eapply.R’ Running ‘test-future_kernapply.R’ Running ‘test-future_lapply,RNG.R’ [62s/111s] Running ‘test-future_lapply,globals.R’ [16s/30s] Running ‘test-future_lapply.R’ [38s/56s] Running ‘test-future_mapply,globals.R’ [10s/19s] Running ‘test-future_mapply.R’ [14s/25s] Running ‘test-future_replicate.R’ Running ‘test-future_sapply.R’ [38s/65s] Running ‘test-future_tapply.R’ Running ‘test-future_vapply.R’ [16s/25s] Running ‘test-globals,tricky2.R’ Running ‘test-globals,tricky_recursive.R’ Running ‘test-options,nested.R’ Running ‘test-rng.R’ Running ‘test-stdout.R’ [16s/25s] Running ‘test-utils.R’ * checking for unstated dependencies in vignettes ... OK * checking package vignettes ... OK * checking re-building of vignette outputs ... [15s/20s] OK * checking PDF version of manual ... [8s/10s] OK * checking HTML version of manual ... OK * checking for non-standard things in the check directory ... OK * checking for detritus in the temp directory ... OK * DONE Status: OK