* using log directory ‘/data/gannet/ripley/R/packages/tests-devel/future.Rcheck’ * using R Under development (unstable) (2025-07-04 r88381) * using platform: x86_64-pc-linux-gnu * R was compiled by gcc (GCC) 15.1.1 20250521 (Red Hat 15.1.1-2) GNU Fortran (GCC) 15.1.1 20250521 (Red Hat 15.1.1-2) * running under: Fedora Linux 42 (Workstation Edition) * using session charset: UTF-8 * using option ‘--no-stop-on-test-error’ * checking for file ‘future/DESCRIPTION’ ... OK * this is package ‘future’ version ‘1.58.0’ * package encoding: UTF-8 * checking package namespace information ... OK * checking package dependencies ... OK * checking if this is a source package ... OK * checking if there is a namespace ... OK * checking for executable files ... OK * checking for hidden files and directories ... OK * checking for portable file names ... OK * checking for sufficient/correct file permissions ... OK * checking whether package ‘future’ can be installed ... [20s/26s] OK See 'https://www.r-project.org/nosvn/R.check/r-devel-linux-x86_64-fedora-gcc/future-00install.html' for details. * checking package directory ... OK * checking ‘build’ directory ... OK * checking DESCRIPTION meta-information ... OK * checking top-level files ... OK * checking for left-over files ... OK * checking index information ... OK * checking package subdirectories ... OK * checking code files for non-ASCII characters ... OK * checking R files for syntax errors ... OK * checking whether the package can be loaded ... OK * checking whether the package can be loaded with stated dependencies ... OK * checking whether the package can be unloaded cleanly ... OK * checking whether the namespace can be loaded with stated dependencies ... OK * checking whether the namespace can be unloaded cleanly ... OK * checking loading without being on the library search path ... OK * checking whether startup messages can be suppressed ... OK * checking use of S3 registration ... OK * checking dependencies in R code ... OK * checking S3 generic/method consistency ... OK * checking replacement functions ... OK * checking foreign function calls ... OK * checking R code for possible problems ... [52s/67s] OK * checking Rd files ... OK * checking Rd metadata ... OK * checking Rd line widths ... OK * checking Rd cross-references ... OK * checking for missing documentation entries ... OK * checking for code/documentation mismatches ... OK * checking Rd \usage sections ... OK * checking Rd contents ... OK * checking for unstated dependencies in examples ... OK * checking installed files from ‘inst/doc’ ... OK * checking files in ‘vignettes’ ... OK * checking examples ... [8s/24s] OK * checking for unstated dependencies in ‘tests’ ... OK * checking tests ... [8m/13m] OK Running ‘test-000.R’ Running ‘test-FutureError.R’ Running ‘test-FutureGlobals.R’ Running ‘test-FutureRegistry.R’ Running ‘test-adhoc_native_to_utf8.R’ Running ‘test-backtrace.R’ Running ‘test-bquote.R’ Running ‘test-cancel.R’ Running ‘test-capture_journals.R’ Running ‘test-cluster,worker-termination.R’ Running ‘test-cluster-connection-clashes.R’ Running ‘test-cluster-missing-future-pkg.R’ Running ‘test-demo-fibonacci.R’ [9s/10s] Running ‘test-demo-mandelbrot.R’ Running ‘test-dotdotdot.R’ [7s/13s] Running ‘test-early-signaling.R’ Running ‘test-error_on_warn_2.R’ Running ‘test-future,labels.R’ Running ‘test-future,optsenvvars.R’ Running ‘test-future.R’ Running ‘test-futureAssign.R’ [9s/14s] Running ‘test-futureAssign_OP.R’ [15s/21s] Running ‘test-futureAssign_OP_with_environment.R’ Running ‘test-futureAssign_OP_with_listenv.R’ Running ‘test-futureCall.R’ [7s/15s] Running ‘test-futureOf.R’ Running ‘test-futureOf_with_environment.R’ Running ‘test-futureOf_with_listenv.R’ Running ‘test-futureSessionInfo.R’ Running ‘test-futures.R’ [44s/58s] Running ‘test-globals,NSE.R’ Running ‘test-globals,S4methods.R’ Running ‘test-globals,formulas.R’ [17s/26s] Running ‘test-globals,locals.R’ Running ‘test-globals,manual.R’ [11s/21s] Running ‘test-globals,packages.R’ Running ‘test-globals,resolve.R’ Running ‘test-globals,subassignment.R’ [14s/22s] Running ‘test-globals,toolarge.R’ Running ‘test-globals,tricky.R’ [10s/20s] Running ‘test-globals,tricky2.R’ Running ‘test-globals,tricky_recursive.R’ Running ‘test-globalsOf,tweaks.R’ Running ‘test-immediateCondition.R’ Running ‘test-interrupts-from-worker-itself.R’ Running ‘test-invalid-owner.R’ Running ‘test-makeClusterFuture.R’ [5s/11s] Running ‘test-mandelbrot.R’ Running ‘test-misuse-connections.R’ Running ‘test-mpi.R’ Running ‘test-multicore,multithreading.R’ Running ‘test-multicore,worker-termination.R’ Running ‘test-multisession-libpaths.R’ Running ‘test-nbrOfWorkers.R’ [6s/12s] Running ‘test-nested_futures,mc.cores.R’ [9s/29s] Running ‘test-nested_futures.R’ [12s/23s] Running ‘test-non-exportable,connections.R’ Running ‘test-objectSize.R’ Running ‘test-plan.R’ [6s/22s] Running ‘test-relaying,muffle.R’ Running ‘test-relaying,split.R’ Running ‘test-relaying.R’ Running ‘test-requestCore.R’ Running ‘test-requestNode.R’ Running ‘test-reserved-keyword-functions.R’ Running ‘test-reset.R’ Running ‘test-resolve.R’ [19s/40s] Running ‘test-resolved-non-blocking-test.R’ Running ‘test-rng.R’ [67s/77s] Running ‘test-rng_utils.R’ Running ‘test-sequential.R’ Running ‘test-sessionDetails.R’ Running ‘test-startup-onAttach.R’ Running ‘test-startup-onLoad.R’ Running ‘test-startup-parseCmdArgs.R’ Running ‘test-stdout.R’ [13s/19s] Running ‘test-timeouts.R’ Running ‘test-tweak.R’ Running ‘test-utils.R’ [14s/19s] Running ‘test-uuid.R’ Running ‘test-value-error-cancels-set.R’ Running ‘test-value.R’ [31s/55s] Running ‘test-whichIndex.R’ * checking for unstated dependencies in vignettes ... OK * checking package vignettes ... OK * checking re-building of vignette outputs ... [29s/38s] OK * checking PDF version of manual ... [11s/12s] OK * checking HTML version of manual ... OK * checking for non-standard things in the check directory ... OK * checking for detritus in the temp directory ... OK * DONE Status: OK