* using log directory ‘/data/gannet/ripley/R/packages/tests-devel/fitdistrplus.Rcheck’ * using R Under development (unstable) (2025-07-08 r88392) * using platform: x86_64-pc-linux-gnu * R was compiled by gcc (GCC) 15.1.1 20250521 (Red Hat 15.1.1-2) GNU Fortran (GCC) 15.1.1 20250521 (Red Hat 15.1.1-2) * running under: Fedora Linux 42 (Workstation Edition) * using session charset: UTF-8 * using option ‘--no-stop-on-test-error’ * checking for file ‘fitdistrplus/DESCRIPTION’ ... OK * this is package ‘fitdistrplus’ version ‘1.2-4’ * package encoding: UTF-8 * checking package namespace information ... OK * checking package dependencies ... OK * checking if this is a source package ... OK * checking if there is a namespace ... OK * checking for executable files ... OK * checking for hidden files and directories ... OK * checking for portable file names ... OK * checking for sufficient/correct file permissions ... OK * checking whether package ‘fitdistrplus’ can be installed ... [29s/79s] OK See 'https://www.r-project.org/nosvn/R.check/r-devel-linux-x86_64-fedora-gcc/fitdistrplus-00install.html' for details. * checking package directory ... OK * checking ‘build’ directory ... OK * checking DESCRIPTION meta-information ... OK * checking top-level files ... OK * checking for left-over files ... OK * checking index information ... OK * checking package subdirectories ... OK * checking code files for non-ASCII characters ... OK * checking R files for syntax errors ... OK * checking whether the package can be loaded ... OK * checking whether the package can be loaded with stated dependencies ... OK * checking whether the package can be unloaded cleanly ... OK * checking whether the namespace can be loaded with stated dependencies ... OK * checking whether the namespace can be unloaded cleanly ... OK * checking loading without being on the library search path ... OK * checking use of S3 registration ... OK * checking dependencies in R code ... OK * checking S3 generic/method consistency ... OK * checking replacement functions ... OK * checking foreign function calls ... OK * checking R code for possible problems ... [60s/151s] OK * checking Rd files ... OK * checking Rd metadata ... OK * checking Rd line widths ... OK * checking Rd cross-references ... OK * checking for missing documentation entries ... OK * checking for code/documentation mismatches ... OK * checking Rd \usage sections ... OK * checking Rd contents ... OK * checking for unstated dependencies in examples ... OK * checking contents of ‘data’ directory ... OK * checking data for non-ASCII characters ... OK * checking data for ASCII and uncompressed saves ... OK * checking installed files from ‘inst/doc’ ... OK * checking files in ‘vignettes’ ... OK * checking examples ... [40s/106s] OK * checking for unstated dependencies in ‘tests’ ... OK * checking tests ... [8m/19m] OK Running ‘t-CIcdfplot.R’ [30s/78s] Running ‘t-Surv2fitdistcens.R’ Running ‘t-bootdist.R’ [28s/71s] Running ‘t-bootdistcens.R’ [5s/18s] Running ‘t-cdfcomp.R’ [8s/24s] Running ‘t-cdfcompcens.R’ [9s/26s] Running ‘t-cvg-algo.R’ Running ‘t-denscomp.R’ [8s/20s] Running ‘t-descdist.R’ Running ‘t-detectbound.R’ Running ‘t-fitbench.R’ Running ‘t-fitdist-burr.R’ [28s/72s] Running ‘t-fitdist-customoptim.R’ Running ‘t-fitdist-hessianpb.R’ Running ‘t-fitdist-test-arguments.R’ Running ‘t-fitdist.R’ [21s/54s] Running ‘t-fitdistcens.R’ [7s/20s] Running ‘t-gen-max-spacing-estim.R’ Running ‘t-getparam.R’ Running ‘t-gofstat.R’ Running ‘t-init-actuar.R’ Running ‘t-llplot.R’ [18s/42s] Running ‘t-lnL-surf.R’ Running ‘t-logLik-vcov-coef.R’ Running ‘t-manageparam.R’ [3s/10s] Running ‘t-mgedist.R’ [6s/11s] Running ‘t-mledist-asymptotic-vcov.R’ [17s/38s] Running ‘t-mledist-cens.R’ [4s/10s] Running ‘t-mledist-cvg-NelderMead.R’ Running ‘t-mledist-nocens.R’ [19s/44s] Running ‘t-mledist-paramsupport.R’ [9s/26s] Running ‘t-mmedist-asymptotic-vcov.R’ [18s/48s] Running ‘t-mmedist.R’ [21s/48s] Running ‘t-msedist.R’ [6s/18s] Running ‘t-parallel.R’ Running ‘t-plotdist.R’ Running ‘t-plotdistcens.R’ Running ‘t-ppcomp.R’ [7s/14s] Running ‘t-ppcompcens.R’ [7s/13s] Running ‘t-prefit.R’ [4s/12s] Running ‘t-qme-discrete.R’ [16s/48s] Running ‘t-qmedist-cvg-NelderMead.R’ Running ‘t-qmedist.R’ [10s/27s] Running ‘t-qqcomp.R’ [9s/19s] Running ‘t-qqcompcens.R’ [8s/22s] Running ‘t-quantiledist.R’ [4s/12s] Running ‘t-startfixarg-overall.R’ [6s/16s] Running ‘t-starting-value-scale-rate.R’ Running ‘t-startingvalues-fellerpareto-family.R’ Running ‘t-startingvalues-inv-family.R’ [18s/42s] Running ‘t-startingvalues-invBurr-family.R’ [7s/19s] Running ‘t-startingvalues-invtrgamma-family.R’ Running ‘t-startingvalues-othercont-family.R’ [7s/20s] Running ‘t-startingvalues-trgamma-family.R’ Running ‘t-startingvalues-zeromod-family.R’ [4s/10s] Running ‘t-startingvalues-zerotrunc-family.R’ [4s/12s] Running ‘t-startingvalues.R’ Running ‘t-util-mmedist-vcov.R’ Running ‘t-util-npmle.R’ Running ‘t-util-npsurv-mainfunction.R’ Running ‘t-util-testdensity.R’ Running ‘t-weird-ppcomp-cens.R’ Running ‘t-weird-qqcomp-cens.R’ * checking for unstated dependencies in vignettes ... OK * checking package vignettes ... OK * checking re-building of vignette outputs ... [219s/598s] OK * checking PDF version of manual ... [14s/42s] OK * checking HTML version of manual ... [7s/20s] OK * checking for non-standard things in the check directory ... OK * checking for detritus in the temp directory ... OK * DONE Status: OK