- using R Under development (unstable) (2025-10-22 r88969)
- using platform: x86_64-pc-linux-gnu
- R was compiled by
gcc (GCC) 15.1.1 20250521 (Red Hat 15.1.1-2)
GNU Fortran (GCC) 15.1.1 20250521 (Red Hat 15.1.1-2)
- running under: Fedora Linux 42 (Workstation Edition)
- using session charset: UTF-8
- using option ‘--no-stop-on-test-error’
- checking for file ‘dae/DESCRIPTION’ ... OK
- this is package ‘dae’ version ‘3.2.32’
- checking package namespace information ... OK
- checking package dependencies ... OK
- checking if this is a source package ... OK
- checking if there is a namespace ... OK
- checking for executable files ... OK
- checking for hidden files and directories ... OK
- checking for portable file names ... OK
- checking for sufficient/correct file permissions ... OK
- checking whether package ‘dae’ can be installed ... [28s/81s] OK
See the install log for details.
- checking package directory ... OK
- checking ‘build’ directory ... OK
- checking DESCRIPTION meta-information ... OK
- checking top-level files ... OK
- checking for left-over files ... OK
- checking index information ... OK
- checking package subdirectories ... OK
- checking code files for non-ASCII characters ... OK
- checking R files for syntax errors ... OK
- checking whether the package can be loaded ... [4s/13s] OK
- checking whether the package can be loaded with stated dependencies ... OK
- checking whether the package can be unloaded cleanly ... [3s/12s] OK
- checking whether the namespace can be loaded with stated dependencies ... OK
- checking whether the namespace can be unloaded cleanly ... OK
- checking loading without being on the library search path ... OK
- checking whether startup messages can be suppressed ... OK
- checking use of S3 registration ... OK
- checking dependencies in R code ... OK
- checking S3 generic/method consistency ... OK
- checking replacement functions ... OK
- checking foreign function calls ... OK
- checking R code for possible problems ... [47s/110s] OK
- checking Rd files ... NOTE
checkRd: (-1) dae-package.Rd:17-392: Only 2 columns allowed in this table (row 1 has 1)
checkRd: (-1) dae-package.Rd:17-392: Only 2 columns allowed in this table (row 2 has 1)
checkRd: (-1) dae-package.Rd:17-392: Only 2 columns allowed in this table (row 24 has 1)
checkRd: (-1) dae-package.Rd:17-392: Only 2 columns allowed in this table (row 25 has 1)
checkRd: (-1) dae-package.Rd:17-392: Only 2 columns allowed in this table (row 26 has 1)
checkRd: (-1) dae-package.Rd:17-392: Only 2 columns allowed in this table (row 27 has 1)
checkRd: (-1) dae-package.Rd:17-392: Only 2 columns allowed in this table (row 28 has 1)
checkRd: (-1) dae-package.Rd:17-392: Only 2 columns allowed in this table (row 38 has 1)
checkRd: (-1) dae-package.Rd:17-392: Only 2 columns allowed in this table (row 39 has 1)
checkRd: (-1) dae-package.Rd:17-392: Only 2 columns allowed in this table (row 40 has 1)
checkRd: (-1) dae-package.Rd:17-392: Only 2 columns allowed in this table (row 54 has 1)
checkRd: (-1) dae-package.Rd:17-392: Only 2 columns allowed in this table (row 55 has 1)
checkRd: (-1) dae-package.Rd:17-392: Only 2 columns allowed in this table (row 56 has 1)
checkRd: (-1) dae-package.Rd:17-392: Only 2 columns allowed in this table (row 64 has 1)
checkRd: (-1) dae-package.Rd:17-392: Only 2 columns allowed in this table (row 65 has 1)
checkRd: (-1) dae-package.Rd:17-392: Only 2 columns allowed in this table (row 66 has 1)
checkRd: (-1) dae-package.Rd:17-392: Only 2 columns allowed in this table (row 67 has 1)
checkRd: (-1) dae-package.Rd:17-392: Only 2 columns allowed in this table (row 68 has 1)
checkRd: (-1) dae-package.Rd:17-392: Only 2 columns allowed in this table (row 75 has 1)
checkRd: (-1) dae-package.Rd:17-392: Only 2 columns allowed in this table (row 76 has 1)
checkRd: (-1) dae-package.Rd:17-392: Only 2 columns allowed in this table (row 77 has 1)
checkRd: (-1) dae-package.Rd:17-392: Only 2 columns allowed in this table (row 88 has 1)
checkRd: (-1) dae-package.Rd:17-392: Only 2 columns allowed in this table (row 89 has 1)
checkRd: (-1) dae-package.Rd:17-392: Only 2 columns allowed in this table (row 90 has 1)
checkRd: (-1) dae-package.Rd:17-392: Only 2 columns allowed in this table (row 108 has 1)
checkRd: (-1) dae-package.Rd:17-392: Only 2 columns allowed in this table (row 109 has 1)
checkRd: (-1) dae-package.Rd:17-392: Only 2 columns allowed in this table (row 110 has 1)
checkRd: (-1) dae-package.Rd:17-392: Only 2 columns allowed in this table (row 122 has 1)
checkRd: (-1) dae-package.Rd:17-392: Only 2 columns allowed in this table (row 123 has 1)
checkRd: (-1) dae-package.Rd:17-392: Only 2 columns allowed in this table (row 124 has 1)
checkRd: (-1) dae-package.Rd:17-392: Only 2 columns allowed in this table (row 125 has 1)
checkRd: (-1) dae-package.Rd:17-392: Only 2 columns allowed in this table (row 126 has 1)
checkRd: (-1) dae-package.Rd:17-392: Only 2 columns allowed in this table (row 135 has 1)
checkRd: (-1) dae-package.Rd:17-392: Only 2 columns allowed in this table (row 136 has 1)
checkRd: (-1) dae-package.Rd:17-392: Only 2 columns allowed in this table (row 137 has 1)
checkRd: (-1) dae-package.Rd:17-392: Only 2 columns allowed in this table (row 138 has 1)
checkRd: (-1) dae-package.Rd:17-392: Only 2 columns allowed in this table (row 146 has 1)
checkRd: (-1) dae-package.Rd:17-392: Only 2 columns allowed in this table (row 147 has 1)
checkRd: (-1) dae-package.Rd:17-392: Only 2 columns allowed in this table (row 148 has 1)
checkRd: (-1) dae-package.Rd:17-392: Only 2 columns allowed in this table (row 149 has 1)
checkRd: (-1) dae-package.Rd:17-392: Only 2 columns allowed in this table (row 156 has 1)
checkRd: (-1) dae-package.Rd:17-392: Only 2 columns allowed in this table (row 157 has 1)
checkRd: (-1) dae-package.Rd:17-392: Only 2 columns allowed in this table (row 158 has 1)
checkRd: (-1) dae-package.Rd:17-392: Only 2 columns allowed in this table (row 163 has 1)
checkRd: (-1) dae-package.Rd:17-392: Only 2 columns allowed in this table (row 164 has 1)
checkRd: (-1) dae-package.Rd:17-392: Only 2 columns allowed in this table (row 165 has 1)
checkRd: (-1) dae-package.Rd:17-392: Only 2 columns allowed in this table (row 181 has 1)
checkRd: (-1) dae-package.Rd:17-392: Only 2 columns allowed in this table (row 182 has 1)
checkRd: (-1) dae-package.Rd:17-392: Only 2 columns allowed in this table (row 183 has 1)
checkRd: (-1) dae-package.Rd:17-392: Only 2 columns allowed in this table (row 184 has 1)
checkRd: (-1) dae-package.Rd:17-392: Only 2 columns allowed in this table (row 185 has 1)
checkRd: (-1) dae-package.Rd:17-392: Only 2 columns allowed in this table (row 186 has 1)
checkRd: (-1) dae-package.Rd:17-392: Only 2 columns allowed in this table (row 195 has 1)
checkRd: (-1) dae-package.Rd:17-392: Only 2 columns allowed in this table (row 196 has 1)
checkRd: (-1) dae-package.Rd:17-392: Only 2 columns allowed in this table (row 197 has 1)
checkRd: (-1) dae-package.Rd:17-392: Only 2 columns allowed in this table (row 207 has 1)
checkRd: (-1) dae-package.Rd:17-392: Only 2 columns allowed in this table (row 208 has 1)
checkRd: (-1) dae-package.Rd:17-392: Only 2 columns allowed in this table (row 209 has 1)
checkRd: (-1) dae-package.Rd:17-392: Only 2 columns allowed in this table (row 219 has 1)
checkRd: (-1) dae-package.Rd:17-392: Only 2 columns allowed in this table (row 220 has 1)
checkRd: (-1) dae-package.Rd:17-392: Only 2 columns allowed in this table (row 221 has 1)
checkRd: (-1) dae-package.Rd:17-392: Only 2 columns allowed in this table (row 231 has 1)
checkRd: (-1) dae-package.Rd:17-392: Only 2 columns allowed in this table (row 232 has 1)
checkRd: (-1) dae-package.Rd:17-392: Only 2 columns allowed in this table (row 245 has 1)
checkRd: (-1) dae-package.Rd:17-392: Only 2 columns allowed in this table (row 246 has 1)
checkRd: (-1) dae-package.Rd:17-392: Only 2 columns allowed in this table (row 247 has 1)
- checking Rd metadata ... OK
- checking Rd line widths ... OK
- checking Rd cross-references ... OK
- checking for missing documentation entries ... OK
- checking for code/documentation mismatches ... OK
- checking Rd \usage sections ... OK
- checking Rd contents ... OK
- checking for unstated dependencies in examples ... OK
- checking contents of ‘data’ directory ... OK
- checking data for non-ASCII characters ... OK
- checking data for ASCII and uncompressed saves ... OK
- checking sizes of PDF files under ‘inst/doc’ ... OK
- checking installed files from ‘inst/doc’ ... OK
- checking files in ‘vignettes’ ... OK
- checking examples ... [16s/33s] OK
- checking for unstated dependencies in ‘tests’ ... OK
- checking tests ... [9s/26s] OK
Running ‘testthat.R’ [9s/24s]
- checking for unstated dependencies in vignettes ... OK
- checking package vignettes ... OK
- checking re-building of vignette outputs ... [17s/43s] OK
- checking PDF version of manual ... [24s/80s] OK
- checking HTML version of manual ... [13s/48s] OK
- checking for non-standard things in the check directory ... OK
- checking for detritus in the temp directory ... OK
- DONE
Status: 1 NOTE