- using R Under development (unstable) (2022-08-11 r82713)
- using platform: x86_64-pc-linux-gnu (64-bit)
- using session charset: UTF-8
- using option ‘--no-stop-on-test-error’
- checking for file ‘d4storagehub4R/DESCRIPTION’ ... OK
- this is package ‘d4storagehub4R’ version ‘0.4’
- package encoding: UTF-8
- checking package namespace information ... OK
- checking package dependencies ... OK
- checking if this is a source package ... OK
- checking if there is a namespace ... OK
- checking for executable files ... OK
- checking for hidden files and directories ... OK
- checking for portable file names ... OK
- checking for sufficient/correct file permissions ... OK
- checking whether package ‘d4storagehub4R’ can be installed ... [7s/18s] OK
- checking package directory ... OK
- checking DESCRIPTION meta-information ... OK
- checking top-level files ... OK
- checking for left-over files ... OK
- checking index information ... OK
- checking package subdirectories ... OK
- checking R files for non-ASCII characters ... OK
- checking R files for syntax errors ... OK
- checking whether the package can be loaded ... OK
- checking whether the package can be loaded with stated dependencies ... OK
- checking whether the package can be unloaded cleanly ... OK
- checking whether the namespace can be loaded with stated dependencies ... OK
- checking whether the namespace can be unloaded cleanly ... OK
- checking loading without being on the library search path ... OK
- checking use of S3 registration ... OK
- checking dependencies in R code ... OK
- checking S3 generic/method consistency ... OK
- checking replacement functions ... OK
- checking foreign function calls ... OK
- checking R code for possible problems ... [5s/14s] OK
- checking Rd files ... OK
- checking Rd metadata ... OK
- checking Rd line widths ... OK
- checking Rd cross-references ... OK
- checking for missing documentation entries ... OK
- checking for code/documentation mismatches ... OK
- checking Rd \usage sections ... OK
- checking Rd contents ... OK
- checking for unstated dependencies in examples ... OK
- checking examples ... OK
- checking for unstated dependencies in ‘tests’ ... OK
- checking tests ... OK
Running ‘test-all.R’
- checking PDF version of manual ... OK
- checking HTML version of manual ... NOTE
Found the following HTML validation problems:
StoragehubManager.html:129:5: Warning: missing </span> before </li>
StoragehubManager.html:130:5: Warning: inserting implicit <span>
StoragehubManager.html:130:5: Warning: missing </span> before </li>
StoragehubManager.html:131:5: Warning: inserting implicit <span>
StoragehubManager.html:131:5: Warning: missing </span> before </li>
StoragehubManager.html:132:5: Warning: inserting implicit <span>
StoragehubManager.html:132:5: Warning: missing </span> before </li>
StoragehubManager.html:133:5: Warning: inserting implicit <span>
StoragehubManager.html:133:5: Warning: missing </span> before </li>
StoragehubManager.html:134:5: Warning: inserting implicit <span>
StoragehubManager.html:134:5: Warning: missing </span> before </li>
StoragehubManager.html:139:1: Warning: inserting implicit <span>
StoragehubManager.html:139:1: Warning: missing </span> before <h4>
StoragehubManager.html:143:5: Warning: inserting implicit <span>
StoragehubManager.html:145:4: Warning: inserting implicit <span>
StoragehubManager.html:149:1: Warning: inserting implicit <span>
StoragehubManager.html:149:1: Warning: missing </span> before <h5>
StoragehubManager.html:149:5: Warning: inserting implicit <span>
StoragehubManager.html:151:16: Warning: inserting implicit <span>
StoragehubManager.html:151:16: Warning: missing </span> before <pre>
StoragehubManager.html:160:5: Warning: inserting implicit <span>
StoragehubManager.html:163:1: Warning: inserting implicit <span>
StoragehubManager.html:163:1: Warning: missing </span> before <dl>
StoragehubManager.html:165:5: Warning: inserting implicit <span>
StoragehubManager.html:165:32: Warning: inserting implicit <span>
StoragehubManager.html:165:32: Warning: missing </span> before <p>
StoragehubManager.html:165:35: Warning: inserting implicit <span>
StoragehubManager.html:167:5: Warning: inserting implicit <span>
StoragehubManager.html:167:37: Warning: inserting implicit <span>
StoragehubManager.html:167:37: Warning: missing </span> before <p>
StoragehubManager.html:167:40: Warning: inserting implicit <span>
StoragehubManager.html:169:5: Warning: inserting implicit <span>
StoragehubManager.html:169:33: Warning: inserting implicit <span>
StoragehubManager.html:169:33: Warning: missing </span> before <p>
StoragehubManager.html:169:36: Warning: inserting implicit <span>
StoragehubManager.html:172:5: Warning: inserting implicit <span>
StoragehubManager.html:172:42: Warning: inserting implicit <span>
StoragehubManager.html:172:42: Warning: missing </span> before <p>
StoragehubManager.html:172:45: Warning: inserting implicit <span>
StoragehubManager.html:149:1: Warning: trimming empty <span>
StoragehubManager.html:151:16: Warning: trimming empty <span>
StoragehubManager.html:163:1: Warning: trimming empty <span>
StoragehubManager.html:165:32: Warning: trimming empty <span>
StoragehubManager.html:167:37: Warning: trimming empty <span>
StoragehubManager.html:169:33: Warning: trimming empty <span>
StoragehubManager.html:172:42: Warning: trimming empty <span>
- checking for non-standard things in the check directory ... OK
- checking for detritus in the temp directory ... OK
- DONE
Status: 1 NOTE