- using R Under development (unstable) (2025-10-31 r88977)
 
- using platform: x86_64-pc-linux-gnu
 
- R was compiled by
    gcc (GCC) 15.1.1 20250521 (Red Hat 15.1.1-2)
    GNU Fortran (GCC) 15.1.1 20250521 (Red Hat 15.1.1-2)
 
- running under: Fedora Linux 42 (Workstation Edition)
 
- using session charset: UTF-8
 
- using option ‘--no-stop-on-test-error’
 
- checking for file ‘cpr/DESCRIPTION’ ... OK
 
- this is package ‘cpr’ version ‘0.4.0’
 
- package encoding: UTF-8
 
- checking package namespace information ... OK
 
- checking package dependencies ... OK
 
- checking if this is a source package ... OK
 
- checking if there is a namespace ... OK
 
- checking for executable files ... OK
 
- checking for hidden files and directories ... OK
 
- checking for portable file names ... OK
 
- checking for sufficient/correct file permissions ... OK
 
- checking whether package ‘cpr’ can be installed ... [84s/66s] OK
See the install log for details.
 
- used C++ compiler: ‘g++ (GCC) 15.1.1 20250521 (Red Hat 15.1.1-2)’
 
- checking package directory ... OK
 
- checking ‘build’ directory ... OK
 
- checking DESCRIPTION meta-information ... OK
 
- checking top-level files ... OK
 
- checking for left-over files ... OK
 
- checking index information ... OK
 
- checking package subdirectories ... OK
 
- checking code files for non-ASCII characters ... OK
 
- checking R files for syntax errors ... OK
 
- checking whether the package can be loaded ... OK
 
- checking whether the package can be loaded with stated dependencies ... OK
 
- checking whether the package can be unloaded cleanly ... OK
 
- checking whether the namespace can be loaded with stated dependencies ... OK
 
- checking whether the namespace can be unloaded cleanly ... OK
 
- checking loading without being on the library search path ... OK
 
- checking use of S3 registration ... OK
 
- checking dependencies in R code ... OK
 
- checking S3 generic/method consistency ... OK
 
- checking replacement functions ... OK
 
- checking foreign function calls ... OK
 
- checking R code for possible problems ... [12s/16s] OK
 
- checking Rd files ... OK
 
- checking Rd metadata ... OK
 
- checking Rd line widths ... OK
 
- checking Rd cross-references ... OK
 
- checking for missing documentation entries ... OK
 
- checking for code/documentation mismatches ... OK
 
- checking Rd \usage sections ... OK
 
- checking Rd contents ... OK
 
- checking for unstated dependencies in examples ... OK
 
- checking contents of ‘data’ directory ... OK
 
- checking data for non-ASCII characters ... OK
 
- checking LazyData ... OK
 
- checking data for ASCII and uncompressed saves ... OK
 
- checking line endings in C/C++/Fortran sources/headers ... OK
 
- checking line endings in Makefiles ... OK
 
- checking compilation flags in Makevars ... OK
 
- checking for GNU extensions in Makefiles ... OK
 
- checking for portable use of $(BLAS_LIBS) and $(LAPACK_LIBS) ... OK
 
- checking use of PKG_*FLAGS in Makefiles ... OK
 
- checking use of SHLIB_OPENMP_*FLAGS in Makefiles ... OK
 
- checking pragmas in C/C++ headers and code ... OK
 
- checking compilation flags used ... OK
 
- checking compiled code ... OK
 
- checking installed files from ‘inst/doc’ ... OK
 
- checking files in ‘vignettes’ ... OK
 
- checking examples ... [82s/111s] OK
 
- checking for unstated dependencies in ‘tests’ ... OK
 
- checking tests ... [173s/231s] OK
  Running ‘test-bsplineD.R’
  Running ‘test-bsplines.R’
  Running ‘test-btensor.R’
  Running ‘test-build_tensor.R’
  Running ‘test-cn.R’ [13s/16s]
  Running ‘test-cnr.R’ [8s/12s]
  Running ‘test-coef_vcov.R’
  Running ‘test-cp.R’ [40s/50s]
  Running ‘test-cp_diff.R’
  Running ‘test-cp_value.R’
  Running ‘test-cpr.R’
  Running ‘test-datasets.R’
  Running ‘test-generate_cp_formula_data.R’
  Running ‘test-get_spline.R’
  Running ‘test-get_surface.R’
  Running ‘test-iknots_or_df.R’
  Running ‘test-influence_of_iknots.R’
  Running ‘test-insert_a_knot.R’
  Running ‘test-knot_expr.R’
  Running ‘test-loglikelihood.R’
  Running ‘test-matrix_rank.R’
  Running ‘test-modify-formula-and-data.R’
  Running ‘test-newknots.R’
  Running ‘test-order_statistics.R’
  Running ‘test-plot.cpr_bs.R’
  Running ‘test-plot.cpr_cn.R’
  Running ‘test-plot.cpr_cnr.R’
  Running ‘test-plot.cpr_cp.R’
  Running ‘test-plot.cpr_cpr.R’
  Running ‘test-predict.R’ [19s/25s]
  Running ‘test-recover-known-spline.R’ [12s/17s]
  Running ‘test-summary.cpr_cn.R’
  Running ‘test-summary.cpr_cnr.R’ [8s/13s]
  Running ‘test-summary.cpr_cp.R’ [10s/13s]
  Running ‘test-summary.cpr_cpr.R’
  Running ‘test-trimmed_quantile.R’
  Running ‘test-update_bsplines.R’ [13s/16s]
  Running ‘test-wiggle.R’
 
- checking for unstated dependencies in vignettes ... OK
 
- checking package vignettes ... OK
 
- checking re-building of vignette outputs ... [248s/330s] OK
 
- checking PDF version of manual ... [11s/15s] OK
 
- checking HTML version of manual ... OK
 
- checking for non-standard things in the check directory ... OK
 
- checking for detritus in the temp directory ... OK
 
- DONE
 
Status: OK