* using log directory ‘/data/gannet/ripley/R/packages/tests-devel/copula.Rcheck’ * using R Under development (unstable) (2025-07-04 r88381) * using platform: x86_64-pc-linux-gnu * R was compiled by gcc (GCC) 15.1.1 20250521 (Red Hat 15.1.1-2) GNU Fortran (GCC) 15.1.1 20250521 (Red Hat 15.1.1-2) * running under: Fedora Linux 42 (Workstation Edition) * using session charset: UTF-8 * using option ‘--no-stop-on-test-error’ * checking for file ‘copula/DESCRIPTION’ ... OK * this is package ‘copula’ version ‘1.1-6’ * package encoding: UTF-8 * checking package namespace information ... OK * checking package dependencies ... OK * checking if this is a source package ... OK * checking if there is a namespace ... OK * checking for executable files ... OK * checking for hidden files and directories ... OK * checking for portable file names ... OK * checking for sufficient/correct file permissions ... OK * checking whether package ‘copula’ can be installed ... [73s/117s] OK See 'https://www.r-project.org/nosvn/R.check/r-devel-linux-x86_64-fedora-gcc/copula-00install.html' for details. * used C compiler: ‘gcc (GCC) 15.1.1 20250521 (Red Hat 15.1.1-2)’ * checking package directory ... OK * checking ‘build’ directory ... OK * checking DESCRIPTION meta-information ... OK * checking top-level files ... OK * checking for left-over files ... OK * checking index information ... OK * checking package subdirectories ... OK * checking code files for non-ASCII characters ... OK * checking R files for syntax errors ... OK * checking whether the package can be loaded ... OK * checking whether the package can be loaded with stated dependencies ... OK * checking whether the package can be unloaded cleanly ... OK * checking whether the namespace can be loaded with stated dependencies ... OK * checking whether the namespace can be unloaded cleanly ... OK * checking loading without being on the library search path ... OK * checking use of S3 registration ... OK * checking dependencies in R code ... OK * checking S3 generic/method consistency ... OK * checking replacement functions ... OK * checking foreign function calls ... OK * checking R code for possible problems ... [122s/272s] OK * checking Rd files ... OK * checking Rd metadata ... OK * checking Rd line widths ... OK * checking Rd cross-references ... OK * checking for missing documentation entries ... OK * checking for code/documentation mismatches ... OK * checking Rd \usage sections ... OK * checking Rd contents ... OK * checking for unstated dependencies in examples ... OK * checking contents of ‘data’ directory ... OK * checking data for non-ASCII characters ... OK * checking data for ASCII and uncompressed saves ... OK * checking R/sysdata.rda ... OK * checking line endings in C/C++/Fortran sources/headers ... OK * checking line endings in Makefiles ... OK * checking compilation flags in Makevars ... OK * checking for GNU extensions in Makefiles ... OK * checking for portable use of $(BLAS_LIBS) and $(LAPACK_LIBS) ... OK * checking use of PKG_*FLAGS in Makefiles ... OK * checking use of SHLIB_OPENMP_*FLAGS in Makefiles ... OK * checking pragmas in C/C++ headers and code ... OK * checking compilation flags used ... OK * checking compiled code ... OK * checking sizes of PDF files under ‘inst/doc’ ... OK * checking installed files from ‘inst/doc’ ... OK * checking files in ‘vignettes’ ... OK * checking examples ... [99s/145s] OK * checking for unstated dependencies in ‘tests’ ... OK * checking tests ... [235s/325s] OK Running ‘Stirling-etc.R’ Running ‘copula-play.R’ [35s/54s] Running ‘dC-dc-ex.R’ Running ‘estim-ex.R’ [11s/14s] Running ‘explicitCop-ex.R’ [27s/36s] Running ‘fitting-ex.R’ [27s/37s] Running ‘fixedPar-ex.R’ [11s/15s] Running ‘ggraph-tst.R’ [13s/18s] Running ‘khoudraji-ex.R’ [29s/36s] Running ‘misc.R’ Running ‘mixCop-tst.R’ Running ‘moments.R’ Running ‘nac-experi.R’ [17s/26s] Running ‘pdf.R’ [16s/23s] Running ‘retstable-ex.R’ Running ‘rstable-ex.R’ [7s/11s] Running ‘tail-pcopula.R’ [9s/13s] Comparing ‘tail-pcopula.Rout’ to ‘tail-pcopula.Rout.save’ ... OK * checking for unstated dependencies in vignettes ... OK * checking package vignettes ... OK * checking re-building of vignette outputs ... [429s/586s] OK * checking PDF version of manual ... [23s/32s] OK * checking HTML version of manual ... [17s/24s] OK * checking for non-standard things in the check directory ... OK * checking for detritus in the temp directory ... OK * DONE Status: OK