- using R Under development (unstable) (2025-10-31 r88977)
 
- using platform: x86_64-pc-linux-gnu
 
- R was compiled by
    gcc (GCC) 15.1.1 20250521 (Red Hat 15.1.1-2)
    GNU Fortran (GCC) 15.1.1 20250521 (Red Hat 15.1.1-2)
 
- running under: Fedora Linux 42 (Workstation Edition)
 
- using session charset: UTF-8
 
- using option ‘--no-stop-on-test-error’
 
- checking for file ‘clusterHD/DESCRIPTION’ ... OK
 
- checking extension type ... Package
 
- this is package ‘clusterHD’ version ‘1.0.2’
 
- package encoding: UTF-8
 
- checking package namespace information ... OK
 
- checking package dependencies ... OK
 
- checking if this is a source package ... OK
 
- checking if there is a namespace ... OK
 
- checking for executable files ... OK
 
- checking for hidden files and directories ... OK
 
- checking for portable file names ... OK
 
- checking for sufficient/correct file permissions ... OK
 
- checking whether package ‘clusterHD’ can be installed ... [39s/64s] OK
See the install log for details.
 
- used C++ compiler: ‘g++ (GCC) 15.1.1 20250521 (Red Hat 15.1.1-2)’
 
- checking C++ specification ... NOTE
  Specified C++11: please drop specification unless essential
 
- checking package directory ... OK
 
- checking DESCRIPTION meta-information ... OK
 
- checking top-level files ... OK
 
- checking for left-over files ... OK
 
- checking index information ... OK
 
- checking package subdirectories ... OK
 
- checking code files for non-ASCII characters ... OK
 
- checking R files for syntax errors ... OK
 
- checking whether the package can be loaded ... OK
 
- checking whether the package can be loaded with stated dependencies ... OK
 
- checking whether the package can be unloaded cleanly ... OK
 
- checking whether the namespace can be loaded with stated dependencies ... OK
 
- checking whether the namespace can be unloaded cleanly ... OK
 
- checking loading without being on the library search path ... OK
 
- checking use of S3 registration ... OK
 
- checking dependencies in R code ... OK
 
- checking S3 generic/method consistency ... OK
 
- checking replacement functions ... OK
 
- checking foreign function calls ... OK
 
- checking R code for possible problems ... [8s/19s] OK
 
- checking Rd files ... NOTE
checkRd: (-1) HTKmeans.Rd:62: Lost braces
    62 | \item{centers }{A matrix of cluster centres.}
       |      ^
checkRd: (-1) HTKmeans.Rd:62: Lost braces
    62 | \item{centers }{A matrix of cluster centres.}
       |                ^
checkRd: (-1) HTKmeans.Rd:63: Lost braces
    63 | \item{cluster }{A vector of integers (from 1:\code{k}) indicating the cluster to which each point is allocated.}
       |      ^
checkRd: (-1) HTKmeans.Rd:63: Lost braces
    63 | \item{cluster }{A vector of integers (from 1:\code{k}) indicating the cluster to which each point is allocated.}
       |                ^
checkRd: (-1) HTKmeans.Rd:64: Lost braces
    64 | \item{itnb }{The number of iterations executed until convergence}
       |      ^
checkRd: (-1) HTKmeans.Rd:64: Lost braces
    64 | \item{itnb }{The number of iterations executed until convergence}
       |             ^
checkRd: (-1) HTKmeans.Rd:65: Lost braces
    65 | \item{converged }{Whether the algorithm stopped by converging or through reaching the maximum number of itertions.}
       |      ^
checkRd: (-1) HTKmeans.Rd:65: Lost braces
    65 | \item{converged }{Whether the algorithm stopped by converging or through reaching the maximum number of itertions.}
       |                  ^
 
- checking Rd metadata ... OK
 
- checking Rd line widths ... OK
 
- checking Rd cross-references ... OK
 
- checking for missing documentation entries ... OK
 
- checking for code/documentation mismatches ... OK
 
- checking Rd \usage sections ... OK
 
- checking Rd contents ... OK
 
- checking for unstated dependencies in examples ... OK
 
- checking line endings in C/C++/Fortran sources/headers ... OK
 
- checking line endings in Makefiles ... OK
 
- checking compilation flags in Makevars ... OK
 
- checking for GNU extensions in Makefiles ... OK
 
- checking for portable use of $(BLAS_LIBS) and $(LAPACK_LIBS) ... OK
 
- checking use of PKG_*FLAGS in Makefiles ... OK
 
- checking use of SHLIB_OPENMP_*FLAGS in Makefiles ... OK
 
- checking pragmas in C/C++ headers and code ... OK
 
- checking compilation flags used ... OK
 
- checking compiled code ... OK
 
- checking examples ... OK
 
- checking PDF version of manual ... [7s/22s] OK
 
- checking HTML version of manual ... OK
 
- checking for non-standard things in the check directory ... OK
 
- checking for detritus in the temp directory ... OK
 
- DONE
 
Status: 2 NOTEs