- using R Under development (unstable) (2023-09-01 r85045)
- using platform: x86_64-pc-linux-gnu
- R was compiled by
gcc-13 (GCC) 13.2.0
GNU Fortran (GCC) 13.2.0
- running under: Fedora Linux 36 (Workstation Edition)
- using session charset: UTF-8
- using option ‘--no-stop-on-test-error’
- checking for file ‘bfast/DESCRIPTION’ ... OK
- this is package ‘bfast’ version ‘1.6.1’
- checking package namespace information ... OK
- checking package dependencies ... OK
- checking if this is a source package ... OK
- checking if there is a namespace ... OK
- checking for executable files ... OK
- checking for hidden files and directories ... OK
- checking for portable file names ... OK
- checking for sufficient/correct file permissions ... OK
- checking whether package ‘bfast’ can be installed ... [41s/53s] OK
See the install log for details.
- used C++ compiler: ‘g++-13 (GCC) 13.2.0’
- checking package directory ... OK
- checking DESCRIPTION meta-information ... OK
- checking top-level files ... OK
- checking for left-over files ... OK
- checking index information ... OK
- checking package subdirectories ... OK
- checking R files for non-ASCII characters ... OK
- checking R files for syntax errors ... OK
- checking whether the package can be loaded ... OK
- checking whether the package can be loaded with stated dependencies ... OK
- checking whether the package can be unloaded cleanly ... OK
- checking whether the namespace can be loaded with stated dependencies ... OK
- checking whether the namespace can be unloaded cleanly ... OK
- checking loading without being on the library search path ... OK
- checking whether startup messages can be suppressed ... OK
- checking use of S3 registration ... OK
- checking dependencies in R code ... OK
- checking S3 generic/method consistency ... OK
- checking replacement functions ... OK
- checking foreign function calls ... OK
- checking R code for possible problems ... [22s/31s] OK
- checking Rd files ... OK
- checking Rd metadata ... OK
- checking Rd line widths ... OK
- checking Rd cross-references ... OK
- checking for missing documentation entries ... OK
- checking for code/documentation mismatches ... OK
- checking Rd \usage sections ... OK
- checking Rd contents ... OK
- checking for unstated dependencies in examples ... OK
- checking contents of ‘data’ directory ... OK
- checking data for non-ASCII characters ... OK
- checking LazyData ... OK
- checking data for ASCII and uncompressed saves ... OK
- checking line endings in C/C++/Fortran sources/headers ... OK
- checking pragmas in C/C++ headers and code ... OK
- checking compilation flags used ... OK
- checking compiled code ... OK
- checking examples ... [25s/31s] OK
- checking differences from ‘bfast-Ex.Rout’ to ‘bfast-Ex.Rout.save’ ... OK
544,551d543
< The legacy packages maptools, rgdal, and rgeos, underpinning the sp package,
< which was just loaded, will retire in October 2023.
< Please refer to R-spatial evolution reports for details, especially
< https://r-spatial.org/r/2023/05/15/evolution4.html.
< It may be desirable to make the sf package available;
< package maintainers should consider adding sf to Suggests:.
< The sp package is now running under evolution status 2
< (status 2 uses the sf package in place of rgdal)
796a789
>
817a811
>
930a925
>
951a947
>
- checking PDF version of manual ... [8s/14s] OK
- checking HTML version of manual ... OK
- checking for non-standard things in the check directory ... OK
- checking for detritus in the temp directory ... OK
- DONE
Status: OK