- using R Under development (unstable) (2025-10-22 r88969)
- using platform: x86_64-pc-linux-gnu
- R was compiled by
gcc (GCC) 15.1.1 20250521 (Red Hat 15.1.1-2)
GNU Fortran (GCC) 15.1.1 20250521 (Red Hat 15.1.1-2)
- running under: Fedora Linux 42 (Workstation Edition)
- using session charset: UTF-8
- using option ‘--no-stop-on-test-error’
- checking for file ‘asremlPlus/DESCRIPTION’ ... OK
- this is package ‘asremlPlus’ version ‘4.4.51’
- checking package namespace information ... OK
- checking package dependencies ... INFO
Package which this enhances but not available for checking: ‘asreml’
- checking if this is a source package ... OK
- checking if there is a namespace ... OK
- checking for executable files ... OK
- checking for hidden files and directories ... OK
- checking for portable file names ... OK
- checking for sufficient/correct file permissions ... OK
- checking whether package ‘asremlPlus’ can be installed ... [50s/122s] OK
See the install log for details.
- checking package directory ... OK
- checking ‘build’ directory ... OK
- checking DESCRIPTION meta-information ... OK
- checking top-level files ... OK
- checking for left-over files ... OK
- checking index information ... OK
- checking package subdirectories ... OK
- checking code files for non-ASCII characters ... OK
- checking R files for syntax errors ... OK
- checking whether the package can be loaded ... [6s/19s] OK
- checking whether the package can be loaded with stated dependencies ... [4s/10s] OK
- checking whether the package can be unloaded cleanly ... [5s/14s] OK
- checking whether the namespace can be loaded with stated dependencies ... [4s/12s] OK
- checking whether the namespace can be unloaded cleanly ... [6s/21s] OK
- checking loading without being on the library search path ... [6s/13s] OK
- checking whether startup messages can be suppressed ... OK
- checking use of S3 registration ... OK
- checking dependencies in R code ... OK
- checking S3 generic/method consistency ... OK
- checking replacement functions ... OK
- checking foreign function calls ... OK
- checking R code for possible problems ... [102s/212s] OK
- checking Rd files ... [4s/11s] NOTE
checkRd: (-1) asremlPlus-package.Rd:19-322: Only 2 columns allowed in this table (row 1 has 1)
checkRd: (-1) asremlPlus-package.Rd:19-322: Only 2 columns allowed in this table (row 2 has 1)
checkRd: (-1) asremlPlus-package.Rd:19-322: Only 2 columns allowed in this table (row 9 has 1)
checkRd: (-1) asremlPlus-package.Rd:19-322: Only 2 columns allowed in this table (row 10 has 1)
checkRd: (-1) asremlPlus-package.Rd:19-322: Only 2 columns allowed in this table (row 11 has 1)
checkRd: (-1) asremlPlus-package.Rd:19-322: Only 2 columns allowed in this table (row 35 has 1)
checkRd: (-1) asremlPlus-package.Rd:19-322: Only 2 columns allowed in this table (row 36 has 1)
checkRd: (-1) asremlPlus-package.Rd:19-322: Only 2 columns allowed in this table (row 37 has 1)
checkRd: (-1) asremlPlus-package.Rd:19-322: Only 2 columns allowed in this table (row 71 has 1)
checkRd: (-1) asremlPlus-package.Rd:19-322: Only 2 columns allowed in this table (row 72 has 1)
checkRd: (-1) asremlPlus-package.Rd:19-322: Only 2 columns allowed in this table (row 73 has 1)
checkRd: (-1) asremlPlus-package.Rd:19-322: Only 2 columns allowed in this table (row 83 has 1)
checkRd: (-1) asremlPlus-package.Rd:19-322: Only 2 columns allowed in this table (row 84 has 1)
checkRd: (-1) asremlPlus-package.Rd:19-322: Only 2 columns allowed in this table (row 85 has 1)
checkRd: (-1) asremlPlus-package.Rd:19-322: Only 2 columns allowed in this table (row 139 has 1)
checkRd: (-1) asremlPlus-package.Rd:19-322: Only 2 columns allowed in this table (row 140 has 1)
checkRd: (-1) asremlPlus-package.Rd:19-322: Only 2 columns allowed in this table (row 147 has 1)
checkRd: (-1) asremlPlus-package.Rd:19-322: Only 2 columns allowed in this table (row 148 has 1)
checkRd: (-1) asremlPlus-package.Rd:19-322: Only 2 columns allowed in this table (row 149 has 1)
checkRd: (-1) asremlPlus-package.Rd:19-322: Only 2 columns allowed in this table (row 200 has 1)
checkRd: (-1) asremlPlus-package.Rd:19-322: Only 2 columns allowed in this table (row 201 has 1)
checkRd: (-1) asremlPlus-package.Rd:19-322: Only 2 columns allowed in this table (row 202 has 1)
- checking Rd metadata ... OK
- checking Rd line widths ... OK
- checking Rd cross-references ... OK
- checking for missing documentation entries ... OK
- checking for code/documentation mismatches ... OK
- checking Rd \usage sections ... OK
- checking Rd contents ... OK
- checking for unstated dependencies in examples ... OK
- checking contents of ‘data’ directory ... OK
- checking data for non-ASCII characters ... OK
- checking LazyData ... OK
- checking data for ASCII and uncompressed saves ... OK
- checking sizes of PDF files under ‘inst/doc’ ... OK
- checking installed files from ‘inst/doc’ ... OK
- checking files in ‘vignettes’ ... OK
- checking examples ... [45s/116s] OK
- checking for unstated dependencies in ‘tests’ ... OK
- checking tests ... OK
Running ‘testthat.R’
- checking for unstated dependencies in vignettes ... OK
- checking package vignettes ... OK
- checking re-building of vignette outputs ... [21s/43s] OK
- checking PDF version of manual ... [36s/96s] OK
- checking HTML version of manual ... [23s/71s] OK
- checking for non-standard things in the check directory ... OK
- checking for detritus in the temp directory ... OK
- DONE
Status: 1 NOTE