- using R Under development (unstable) (2023-03-17 r84002)
- using platform: x86_64-pc-linux-gnu (64-bit)
- R was compiled by
gcc (GCC) 12.2.1 20221121 (Red Hat 12.2.1-4)
GNU Fortran (GCC) 12.2.1 20221121 (Red Hat 12.2.1-4)
- running under: Fedora Linux 36 (Workstation Edition)
- using session charset: UTF-8
- using option ‘--no-stop-on-test-error’
- checking for file ‘SensoMineR/DESCRIPTION’ ... OK
- this is package ‘SensoMineR’ version ‘1.26’
- package encoding: latin1
- checking package namespace information ... OK
- checking package dependencies ... OK
- checking if this is a source package ... OK
- checking if there is a namespace ... OK
- checking for executable files ... OK
- checking for hidden files and directories ... OK
- checking for portable file names ... OK
- checking for sufficient/correct file permissions ... OK
- checking whether package ‘SensoMineR’ can be installed ... [36s/99s] OK
- checking package directory ... OK
- checking DESCRIPTION meta-information ... OK
- checking top-level files ... OK
- checking for left-over files ... OK
- checking index information ... OK
- checking package subdirectories ... OK
- checking R files for non-ASCII characters ... OK
- checking R files for syntax errors ... OK
- checking whether the package can be loaded ... [5s/11s] OK
- checking whether the package can be loaded with stated dependencies ... [5s/11s] OK
- checking whether the package can be unloaded cleanly ... [5s/12s] OK
- checking whether the namespace can be loaded with stated dependencies ... OK
- checking whether the namespace can be unloaded cleanly ... [5s/12s] OK
- checking loading without being on the library search path ... OK
- checking use of S3 registration ... OK
- checking dependencies in R code ... OK
- checking S3 generic/method consistency ... OK
- checking replacement functions ... OK
- checking foreign function calls ... OK
- checking R code for possible problems ... [85s/207s] OK
- checking Rd files ... NOTE
checkRd: (-1) fahst.rd:39: Escaped LaTeX specials: \^
checkRd: (-1) fahst.rd:36: Escaped LaTeX specials: \^
checkRd: (-1) fasnt.rd:46: Escaped LaTeX specials: \^
checkRd: (-1) fasnt.rd:42: Escaped LaTeX specials: \^
checkRd: (-1) fasnt.rd:43: Escaped LaTeX specials: \^
checkRd: (-1) fast.Rd:49: Escaped LaTeX specials: \^
checkRd: (-1) fast.Rd:44: Escaped LaTeX specials: \^
checkRd: (-1) fast.Rd:45: Escaped LaTeX specials: \^
checkRd: (-1) fast.Rd:46: Escaped LaTeX specials: \^
checkRd: (-1) hsortplot.rd:24: Escaped LaTeX specials: \^
checkRd: (-1) nappesortplot.Rd:30: Escaped LaTeX specials: \^
checkRd: (-1) nappesortplot.Rd:28: Escaped LaTeX specials: \^
checkRd: (-1) plot.fahst.rd:45: Escaped LaTeX specials: \^
checkRd: (-1) plot.fasnt.Rd:47: Escaped LaTeX specials: \^
checkRd: (-1) plot.fast.Rd:45: Escaped LaTeX specials: \^
checkRd: (-1) print.fahst.rd:22: Escaped LaTeX specials: \^
checkRd: (-1) print.fasnt.Rd:22: Escaped LaTeX specials: \^
checkRd: (-1) print.fast.Rd:22: Escaped LaTeX specials: \^
- checking Rd metadata ... OK
- checking Rd line widths ... OK
- checking Rd cross-references ... OK
- checking for missing documentation entries ... OK
- checking for code/documentation mismatches ... OK
- checking Rd \usage sections ... OK
- checking Rd contents ... OK
- checking for unstated dependencies in examples ... OK
- checking contents of ‘data’ directory ... OK
- checking data for non-ASCII characters ... OK
- checking data for ASCII and uncompressed saves ... OK
- checking examples ... [33s/87s] OK
- checking PDF version of manual ... [12s/32s] OK
- checking HTML version of manual ... [5s/13s] OK
- checking for non-standard things in the check directory ... OK
- checking for detritus in the temp directory ... OK
- DONE
Status: 1 NOTE