- using R Under development (unstable) (2018-04-14 r74601)
- using platform: x86_64-pc-linux-gnu (64-bit)
- using session charset: UTF-8
- using option ‘--no-stop-on-test-error’
- checking for file ‘MAPLES/DESCRIPTION’ ... OK
- checking extension type ... Package
- this is package ‘MAPLES’ version ‘1.0’
- checking package namespace information ... OK
- checking package dependencies ... OK
- checking if this is a source package ... OK
- checking if there is a namespace ... OK
- checking for executable files ... OK
- checking for hidden files and directories ... OK
- checking for portable file names ... OK
- checking for sufficient/correct file permissions ... OK
- checking whether package ‘MAPLES’ can be installed ... OK
- checking installed package size ... OK
- checking package directory ... OK
- checking DESCRIPTION meta-information ... OK
- checking top-level files ... OK
- checking for left-over files ... OK
- checking index information ... OK
- checking package subdirectories ... OK
- checking R files for non-ASCII characters ... OK
- checking R files for syntax errors ... OK
- checking whether the package can be loaded ... OK
- checking whether the package can be loaded with stated dependencies ... OK
- checking whether the package can be unloaded cleanly ... OK
- checking whether the namespace can be loaded with stated dependencies ... OK
- checking whether the namespace can be unloaded cleanly ... OK
- checking loading without being on the library search path ... OK
- checking use of S3 registration ... OK
- checking dependencies in R code ... NOTE
'library' or 'require' call to ‘mgcv’ which was already attached by Depends.
Please remove these calls from your code.
- checking S3 generic/method consistency ... OK
- checking replacement functions ... OK
- checking foreign function calls ... OK
- checking R code for possible problems ... [12s/14s] NOTE
ageprofile: no visible global function definition for ‘model.frame’
ageprofile: no visible binding for global variable ‘poisson’
ageprofile: no visible global function definition for ‘predict.gam’
ageprofile: no visible global function definition for ‘as.formula’
ageprofile: no visible global function definition for ‘summary.gam’
ageprofile: no visible global function definition for ‘contrasts<-’
ageprofile: no visible global function definition for ‘anova.gam’
plotap: no visible global function definition for ‘dev.new’
plotap: no visible global function definition for ‘plot’
plotap: no visible global function definition for ‘lines’
plotap: no visible global function definition for ‘points’
plotap: no visible global function definition for ‘legend’
splitter: no visible global function definition for ‘reshape’
tabm: no visible global function definition for ‘coef’
tabm: no visible global function definition for ‘AIC’
Undefined global functions or variables:
AIC anova.gam as.formula coef contrasts<- dev.new legend lines
model.frame plot points poisson predict.gam reshape summary.gam
Consider adding
importFrom("grDevices", "dev.new")
importFrom("graphics", "legend", "lines", "plot", "points")
importFrom("stats", "AIC", "as.formula", "coef", "contrasts<-",
"model.frame", "poisson", "reshape")
to your NAMESPACE file.
- checking Rd files ... OK
- checking Rd metadata ... OK
- checking Rd line widths ... OK
- checking Rd cross-references ... OK
- checking for missing documentation entries ... OK
- checking for code/documentation mismatches ... OK
- checking Rd \usage sections ... OK
- checking Rd contents ... OK
- checking for unstated dependencies in examples ... OK
- checking contents of ‘data’ directory ... OK
- checking data for non-ASCII characters ... OK
- checking data for ASCII and uncompressed saves ... OK
- checking examples ... [29s/35s] OK
- checking PDF version of manual ... OK
- DONE
Status: 2 NOTEs