- using R Under development (unstable) (2023-06-02 r84486)
- using platform: x86_64-pc-linux-gnu
- R was compiled by
gcc-13 (GCC) 13.1.0
GNU Fortran (GCC) 13.1.0
- running under: Fedora Linux 36 (Workstation Edition)
- using session charset: UTF-8
- using option ‘--no-stop-on-test-error’
- checking for file ‘EnvStats/DESCRIPTION’ ... OK
- checking extension type ... Package
- this is package ‘EnvStats’ version ‘2.7.0’
- checking package namespace information ... OK
- checking package dependencies ... OK
- checking if this is a source package ... OK
- checking if there is a namespace ... OK
- checking for executable files ... OK
- checking for hidden files and directories ... OK
- checking for portable file names ... OK
- checking for sufficient/correct file permissions ... OK
- checking whether package ‘EnvStats’ can be installed ... [101s/135s] OK
- checking package directory ... OK
- checking DESCRIPTION meta-information ... OK
- checking top-level files ... OK
- checking for left-over files ... OK
- checking index information ... OK
- checking package subdirectories ... OK
- checking R files for non-ASCII characters ... OK
- checking R files for syntax errors ... OK
- checking whether the package can be loaded ... OK
- checking whether the package can be loaded with stated dependencies ... OK
- checking whether the package can be unloaded cleanly ... OK
- checking whether the namespace can be loaded with stated dependencies ... OK
- checking whether the namespace can be unloaded cleanly ... OK
- checking loading without being on the library search path ... OK
- checking use of S3 registration ... OK
- checking dependencies in R code ... OK
- checking S3 generic/method consistency ... OK
- checking replacement functions ... OK
- checking foreign function calls ... OK
- checking R code for possible problems ... [229s/303s] OK
- checking Rd files ... [29s/37s] NOTE
checkRd: (-1) calibrate.Rd:151: Escaped LaTeX specials: \&
checkRd: (-1) cdfCompareCensored.Rd:299: Escaped LaTeX specials: \&
checkRd: (-1) detectionLimitCalibrate.Rd:149: Escaped LaTeX specials: \&
checkRd: (-1) ecdfPlotCensored.Rd:169: Escaped LaTeX specials: \&
checkRd: (-1) egammaAltCensored.Rd:344: Escaped LaTeX specials: \&
checkRd: (-1) egammaCensored.Rd:340: Escaped LaTeX specials: \&
checkRd: (-1) elnormAltCensored.Rd:694: Escaped LaTeX specials: \&
checkRd: (-1) elnormCensored.Rd:270: Escaped LaTeX specials: \&
checkRd: (-1) enormCensored.Rd:852: Escaped LaTeX specials: \&
checkRd: (-1) enparCensored.Rd:343: Escaped LaTeX specials: \&
checkRd: (-1) enparCensored.Rd:358: Escaped LaTeX specials: \&
checkRd: (-1) epoisCensored.Rd:354: Escaped LaTeX specials: \&
checkRd: (-1) ppointsCensored.Rd:406: Escaped LaTeX specials: \&
checkRd: (-1) predIntGammaSimultaneous.Rd:170: Escaped LaTeX specials: \&
checkRd: (-1) predIntGammaSimultaneous.Rd:171: Escaped LaTeX specials: \&
checkRd: (-1) predIntLnormSimultaneous.Rd:136: Escaped LaTeX specials: \&
checkRd: (-1) predIntLnormSimultaneous.Rd:137: Escaped LaTeX specials: \&
checkRd: (-1) predIntNormSimultaneous.Rd:204: Escaped LaTeX specials: \&
checkRd: (-1) predIntNormSimultaneous.Rd:205: Escaped LaTeX specials: \&
checkRd: (-1) predIntNormSimultaneousK.Rd:277: Escaped LaTeX specials: \&
checkRd: (-1) predIntNormSimultaneousK.Rd:278: Escaped LaTeX specials: \&
checkRd: (-1) qqPlotCensored.Rd:261: Escaped LaTeX specials: \&
checkRd: (-1) twoSampleLinearRankTest.Rd:276: Escaped LaTeX specials: \&
checkRd: (-1) twoSampleLinearRankTestCensored.Rd:324: Escaped LaTeX specials: \&
checkRd: (-1) twoSampleLinearRankTestCensored.Rd:331: Escaped LaTeX specials: \&
- checking Rd metadata ... OK
- checking Rd line widths ... OK
- checking Rd cross-references ... OK
- checking for missing documentation entries ... OK
- checking for code/documentation mismatches ... OK
- checking Rd \usage sections ... OK
- checking Rd contents ... OK
- checking for unstated dependencies in examples ... OK
- checking contents of ‘data’ directory ... OK
- checking data for non-ASCII characters ... OK
- checking LazyData ... OK
- checking data for ASCII and uncompressed saves ... OK
- checking examples ... [102s/130s] OK
- checking for unstated dependencies in ‘tests’ ... OK
- checking tests ... OK
Running ‘tinytest.R’
- checking PDF version of manual ... [84s/108s] OK
- checking HTML version of manual ... [95s/135s] OK
- checking for non-standard things in the check directory ... OK
- checking for detritus in the temp directory ... OK
- DONE
Status: 1 NOTE