* using log directory ‘/data/gannet/ripley/R/packages/tests-devel/DPQ.Rcheck’ * using R Under development (unstable) (2025-07-08 r88392) * using platform: x86_64-pc-linux-gnu * R was compiled by gcc (GCC) 15.1.1 20250521 (Red Hat 15.1.1-2) GNU Fortran (GCC) 15.1.1 20250521 (Red Hat 15.1.1-2) * running under: Fedora Linux 42 (Workstation Edition) * using session charset: UTF-8 * using option ‘--no-stop-on-test-error’ * checking for file ‘DPQ/DESCRIPTION’ ... OK * this is package ‘DPQ’ version ‘0.6-0’ * package encoding: UTF-8 * checking package namespace information ... OK * checking package dependencies ... OK * checking if this is a source package ... OK * checking if there is a namespace ... OK * checking for executable files ... OK * checking for hidden files and directories ... OK * checking for portable file names ... OK * checking for sufficient/correct file permissions ... OK * checking whether package ‘DPQ’ can be installed ... [32s/68s] OK See 'https://www.r-project.org/nosvn/R.check/r-devel-linux-x86_64-fedora-gcc/DPQ-00install.html' for details. * used C compiler: ‘gcc (GCC) 15.1.1 20250521 (Red Hat 15.1.1-2)’ * used Fortran compiler: ‘GNU Fortran (GCC) 15.1.1 20250521 (Red Hat 15.1.1-2)’ * checking package directory ... OK * checking ‘build’ directory ... OK * checking DESCRIPTION meta-information ... OK * checking top-level files ... OK * checking for left-over files ... OK * checking index information ... OK * checking package subdirectories ... OK * checking code files for non-ASCII characters ... OK * checking R files for syntax errors ... OK * checking whether the package can be loaded ... OK * checking whether the package can be loaded with stated dependencies ... OK * checking whether the package can be unloaded cleanly ... OK * checking whether the namespace can be loaded with stated dependencies ... OK * checking whether the namespace can be unloaded cleanly ... OK * checking loading without being on the library search path ... OK * checking use of S3 registration ... OK * checking dependencies in R code ... OK * checking S3 generic/method consistency ... OK * checking replacement functions ... OK * checking foreign function calls ... OK * checking R code for possible problems ... [54s/129s] OK * checking Rd files ... OK * checking Rd metadata ... OK * checking Rd line widths ... OK * checking Rd cross-references ... OK * checking for missing documentation entries ... OK * checking for code/documentation mismatches ... OK * checking Rd \usage sections ... OK * checking Rd contents ... OK * checking for unstated dependencies in examples ... OK * checking contents of ‘data’ directory ... OK * checking data for non-ASCII characters ... OK * checking data for ASCII and uncompressed saves ... OK * checking line endings in C/C++/Fortran sources/headers ... OK * checking pragmas in C/C++ headers and code ... OK * checking compilation flags used ... OK * checking compiled code ... OK * checking usage of KIND in Fortran files ... OK * checking sizes of PDF files under ‘inst/doc’ ... OK * checking installed files from ‘inst/doc’ ... OK * checking files in ‘vignettes’ ... OK * checking examples ... [35s/87s] OK * checking for unstated dependencies in ‘tests’ ... OK * checking tests ... [6m/14m] OK Running ‘bd0-tst.R’ [42s/96s] Running ‘chisq-nonc-ex.R’ [38s/101s] Running ‘dgamma-tst.R’ Running ‘dnbinom-tst.R’ [25s/64s] Running ‘dnchisq-tst.R’ Running ‘dt-ex.R’ [16s/43s] Running ‘expm1x-tst.R’ [4s/13s] Running ‘hyper-dist-ex.R’ [36s/88s] Running ‘log4p1p-exp.R’ [5s/12s] Running ‘pnbeta-tst.R’ Running ‘pnt-prec.R’ [10s/29s] Running ‘pow-tst.R’ [6s/18s] Running ‘ppois-ex.R’ Running ‘pqnorm_extreme.R’ [9s/19s] Running ‘qPoisBinom-ex.R’ Running ‘qbeta-dist.R’ [9s/19s] Running ‘qbeta-tst.R’ Running ‘qgamma-ex.R’ [21s/46s] Running ‘stirlerr-tst.R’ [73s/173s] Running ‘t-nonc-tst.R’ [25s/61s] Running ‘wienergerm-pchisq-tst.R’ Running ‘wienergerm_nchisq.R’ [8s/22s] * checking for unstated dependencies in vignettes ... OK * checking package vignettes ... OK * checking re-building of vignette outputs ... [58s/165s] OK * checking PDF version of manual ... [22s/66s] OK * checking HTML version of manual ... [11s/28s] OK * checking for non-standard things in the check directory ... OK * checking for detritus in the temp directory ... OK * DONE Status: OK