- using R Under development (unstable) (2022-08-15 r82721)
- using platform: x86_64-pc-linux-gnu (64-bit)
- using session charset: UTF-8
- using option ‘--no-stop-on-test-error’
- checking for file ‘rtext/DESCRIPTION’ ... OK
- this is package ‘rtext’ version ‘0.1.22’
- checking package namespace information ... OK
- checking package dependencies ... OK
- checking if this is a source package ... OK
- checking if there is a namespace ... OK
- checking for executable files ... OK
- checking for hidden files and directories ... OK
- checking for portable file names ... OK
- checking for sufficient/correct file permissions ... OK
- checking whether package ‘rtext’ can be installed ... [39s/153s] OK
- checking installed package size ... OK
- checking package directory ... OK
- checking DESCRIPTION meta-information ... OK
- checking top-level files ... OK
- checking for left-over files ... OK
- checking index information ... OK
- checking package subdirectories ... OK
- checking R files for non-ASCII characters ... OK
- checking R files for syntax errors ... OK
- checking whether the package can be loaded ... OK
- checking whether the package can be loaded with stated dependencies ... OK
- checking whether the package can be unloaded cleanly ... OK
- checking whether the namespace can be loaded with stated dependencies ... OK
- checking whether the namespace can be unloaded cleanly ... OK
- checking loading without being on the library search path ... OK
- checking use of S3 registration ... OK
- checking dependencies in R code ... NOTE
Namespaces in Imports field not imported from:
‘RSQLite’ ‘stats’
All declared Imports should be used.
- checking S3 generic/method consistency ... OK
- checking replacement functions ... OK
- checking foreign function calls ... OK
- checking R code for possible problems ... [8s/33s] OK
- checking Rd files ... OK
- checking Rd metadata ... OK
- checking Rd line widths ... OK
- checking Rd cross-references ... OK
- checking for missing documentation entries ... OK
- checking for code/documentation mismatches ... OK
- checking Rd \usage sections ... OK
- checking Rd contents ... OK
- checking for unstated dependencies in examples ... OK
- checking contents of ‘data’ directory ... OK
- checking data for non-ASCII characters ... NOTE
Note: found 2 marked UTF-8 strings
- checking LazyData ... OK
- checking data for ASCII and uncompressed saves ... OK
- checking line endings in C/C++/Fortran sources/headers ... OK
- checking pragmas in C/C++ headers and code ... OK
- checking compilation flags used ... OK
- checking compiled code ... OK
- checking examples ... OK
- checking for unstated dependencies in ‘tests’ ... OK
- checking tests ... [47s/204s] OK
Running ‘test-all.R’ [46s/203s]
- checking PDF version of manual ... [9s/28s] OK
- checking HTML version of manual ... NOTE
Found the following HTML validation problems:
rtext.html:110:6: Warning: missing </span> before <p>
rtext.html:110:96: Warning: inserting implicit <span>
rtext.html:113:6: Warning: missing </span> before <p>
rtext.html:113:94: Warning: inserting implicit <span>
rtext.html:116:6: Warning: missing </span> before <p>
rtext.html:116:93: Warning: inserting implicit <span>
rtext.html:119:6: Warning: missing </span> before <p>
rtext.html:119:98: Warning: inserting implicit <span>
rtext.html:122:6: Warning: missing </span> before <p>
rtext.html:122:98: Warning: inserting implicit <span>
rtext.html:125:6: Warning: missing </span> before <p>
rtext.html:125:92: Warning: inserting implicit <span>
rtext.html:128:6: Warning: missing </span> before <p>
rtext.html:128:97: Warning: inserting implicit <span>
rtext.html:131:6: Warning: missing </span> before <p>
rtext.html:131:97: Warning: inserting implicit <span>
rtext.html:134:6: Warning: missing </span> before <p>
rtext.html:134:103: Warning: inserting implicit <span>
rtext.html:137:6: Warning: missing </span> before <p>
rtext.html:137:95: Warning: inserting implicit <span>
rtext.html:140:6: Warning: missing </span> before <p>
rtext.html:140:92: Warning: inserting implicit <span>
rtext.html:143:6: Warning: missing </span> before <p>
rtext.html:143:95: Warning: inserting implicit <span>
rtext.html:146:6: Warning: missing </span> before <p>
rtext.html:146:96: Warning: inserting implicit <span>
rtext.html:149:6: Warning: missing </span> before <p>
rtext.html:149:92: Warning: inserting implicit <span>
rtext.html:152:6: Warning: missing </span> before <p>
rtext.html:152:88: Warning: inserting implicit <span>
rtext.html:155:6: Warning: missing </span> before <p>
rtext.html:155:94: Warning: inserting implicit <span>
rtext.html:158:6: Warning: missing </span> before <p>
rtext.html:158:92: Warning: inserting implicit <span>
rtext.html:161:6: Warning: missing </span> before <p>
rtext.html:161:98: Warning: inserting implicit <span>
rtext.html:164:6: Warning: missing </span> before <p>
rtext.html:164:93: Warning: inserting implicit <span>
rtext.html:167:6: Warning: missing </span> before <p>
rtext.html:167:92: Warning: inserting implicit <span>
rtext.html:170:6: Warning: missing </span> before <p>
rtext.html:170:92: Warning: inserting implicit <span>
rtext.html:173:6: Warning: missing </span> before <p>
rtext.html:173:96: Warning: inserting implicit <span>
rtext.html:176:6: Warning: missing </span> before <p>
rtext.html:176:99: Warning: inserting implicit <span>
rtext.html:179:6: Warning: missing </span> before <p>
rtext.html:179:96: Warning: inserting implicit <span>
rtext.html:182:6: Warning: missing </span> before <p>
rtext.html:182:99: Warning: inserting implicit <span>
rtext.html:185:6: Warning: missing </span> before <p>
rtext.html:185:107: Warning: inserting implicit <span>
rtext.html:188:6: Warning: missing </span> before <p>
rtext.html:188:107: Warning: inserting implicit <span>
rtext.html:191:6: Warning: missing </span> before <p>
rtext.html:191:111: Warning: inserting implicit <span>
rtext.html:194:6: Warning: missing </span> before <p>
rtext.html:194:107: Warning: inserting implicit <span>
rtext.html:110:6: Warning: trimming empty <span>
rtext.html:113:6: Warning: trimming empty <span>
rtext.html:116:6: Warning: trimming empty <span>
rtext.html:119:6: Warning: trimming empty <span>
rtext.html:122:6: Warning: trimming empty <span>
rtext.html:125:6: Warning: trimming empty <span>
rtext.html:128:6: Warning: trimming empty <span>
rtext.html:131:6: Warning: trimming empty <span>
rtext.html:134:6: Warning: trimming empty <span>
rtext.html:137:6: Warning: trimming empty <span>
rtext.html:140:6: Warning: trimming empty <span>
rtext.html:143:6: Warning: trimming empty <span>
rtext.html:146:6: Warning: trimming empty <span>
rtext.html:149:6: Warning: trimming empty <span>
rtext.html:152:6: Warning: trimming empty <span>
rtext.html:155:6: Warning: trimming empty <span>
rtext.html:158:6: Warning: trimming empty <span>
rtext.html:161:6: Warning: trimming empty <span>
rtext.html:164:6: Warning: trimming empty <span>
rtext.html:167:6: Warning: trimming empty <span>
rtext.html:170:6: Warning: trimming empty <span>
rtext.html:173:6: Warning: trimming empty <span>
rtext.html:176:6: Warning: trimming empty <span>
rtext.html:179:6: Warning: trimming empty <span>
rtext.html:182:6: Warning: trimming empty <span>
rtext.html:185:6: Warning: trimming empty <span>
rtext.html:188:6: Warning: trimming empty <span>
rtext.html:191:6: Warning: trimming empty <span>
rtext.html:194:6: Warning: trimming empty <span>
rtext_base.html:106:6: Warning: missing </span> before <p>
rtext_base.html:106:96: Warning: inserting implicit <span>
rtext_base.html:109:6: Warning: missing </span> before <p>
rtext_base.html:109:94: Warning: inserting implicit <span>
rtext_base.html:112:6: Warning: missing </span> before <p>
rtext_base.html:112:93: Warning: inserting implicit <span>
rtext_base.html:115:6: Warning: missing </span> before <p>
rtext_base.html:115:98: Warning: inserting implicit <span>
rtext_base.html:118:6: Warning: missing </span> before <p>
rtext_base.html:118:98: Warning: inserting implicit <span>
rtext_base.html:106:6: Warning: trimming empty <span>
rtext_base.html:109:6: Warning: trimming empty <span>
rtext_base.html:112:6: Warning: trimming empty <span>
rtext_base.html:115:6: Warning: trimming empty <span>
rtext_base.html:118:6: Warning: trimming empty <span>
rtext_export.html:76:6: Warning: missing </span> before <p>
rtext_export.html:76:96: Warning: inserting implicit <span>
rtext_export.html:79:6: Warning: missing </span> before <p>
rtext_export.html:79:94: Warning: inserting implicit <span>
rtext_export.html:82:6: Warning: missing </span> before <p>
rtext_export.html:82:93: Warning: inserting implicit <span>
rtext_export.html:85:6: Warning: missing </span> before <p>
rtext_export.html:85:98: Warning: inserting implicit <span>
rtext_export.html:88:6: Warning: missing </span> before <p>
rtext_export.html:88:98: Warning: inserting implicit <span>
rtext_export.html:91:6: Warning: missing </span> before <p>
rtext_export.html:91:92: Warning: inserting implicit <span>
rtext_export.html:94:6: Warning: missing </span> before <p>
rtext_export.html:94:97: Warning: inserting implicit <span>
rtext_export.html:97:6: Warning: missing </span> before <p>
rtext_export.html:97:97: Warning: inserting implicit <span>
rtext_export.html:100:6: Warning: missing </span> before <p>
rtext_export.html:100:103: Warning: inserting implicit <span>
rtext_export.html:103:6: Warning: missing </span> before <p>
rtext_export.html:103:95: Warning: inserting implicit <span>
rtext_export.html:106:6: Warning: missing </span> before <p>
rtext_export.html:106:92: Warning: inserting implicit <span>
rtext_export.html:109:6: Warning: missing </span> before <p>
rtext_export.html:109:95: Warning: inserting implicit <span>
rtext_export.html:112:6: Warning: missing </span> before <p>
rtext_export.html:112:96: Warning: inserting implicit <span>
rtext_export.html:115:6: Warning: missing </span> before <p>
rtext_export.html:115:92: Warning: inserting implicit <span>
rtext_export.html:118:6: Warning: missing </span> before <p>
rtext_export.html:118:88: Warning: inserting implicit <span>
rtext_export.html:121:6: Warning: missing </span> before <p>
rtext_export.html:121:94: Warning: inserting implicit <span>
rtext_export.html:124:6: Warning: missing </span> before <p>
rtext_export.html:124:92: Warning: inserting implicit <span>
rtext_export.html:127:6: Warning: missing </span> before <p>
rtext_export.html:127:98: Warning: inserting implicit <span>
rtext_export.html:130:6: Warning: missing </span> before <p>
rtext_export.html:130:93: Warning: inserting implicit <span>
rtext_export.html:133:6: Warning: missing </span> before <p>
rtext_export.html:133:92: Warning: inserting implicit <span>
rtext_export.html:136:6: Warning: missing </span> before <p>
rtext_export.html:136:92: Warning: inserting implicit <span>
rtext_export.html:76:6: Warning: trimming empty <span>
rtext_export.html:79:6: Warning: trimming empty <span>
rtext_export.html:82:6: Warning: trimming empty <span>
rtext_export.html:85:6: Warning: trimming empty <span>
rtext_export.html:88:6: Warning: trimming empty <span>
rtext_export.html:91:6: Warning: trimming empty <span>
rtext_export.html:94:6: Warning: trimming empty <span>
rtext_export.html:97:6: Warning: trimming empty <span>
rtext_export.html:100:6: Warning: trimming empty <span>
rtext_export.html:103:6: Warning: trimming empty <span>
rtext_export.html:106:6: Warning: trimming empty <span>
rtext_export.html:109:6: Warning: trimming empty <span>
rtext_export.html:112:6: Warning: trimming empty <span>
rtext_export.html:115:6: Warning: trimming empty <span>
rtext_export.html:118:6: Warning: trimming empty <span>
rtext_export.html:121:6: Warning: trimming empty <span>
rtext_export.html:124:6: Warning: trimming empty <span>
rtext_export.html:127:6: Warning: trimming empty <span>
rtext_export.html:130:6: Warning: trimming empty <span>
rtext_export.html:133:6: Warning: trimming empty <span>
rtext_export.html:136:6: Warning: trimming empty <span>
rtext_loadsave.html:70:6: Warning: missing </span> before <p>
rtext_loadsave.html:70:96: Warning: inserting implicit <span>
rtext_loadsave.html:73:6: Warning: missing </span> before <p>
rtext_loadsave.html:73:94: Warning: inserting implicit <span>
rtext_loadsave.html:76:6: Warning: missing </span> before <p>
rtext_loadsave.html:76:93: Warning: inserting implicit <span>
rtext_loadsave.html:79:6: Warning: missing </span> before <p>
rtext_loadsave.html:79:98: Warning: inserting implicit <span>
rtext_loadsave.html:82:6: Warning: missing </span> before <p>
rtext_loadsave.html:82:98: Warning: inserting implicit <span>
rtext_loadsave.html:85:6: Warning: missing </span> before <p>
rtext_loadsave.html:85:92: Warning: inserting implicit <span>
rtext_loadsave.html:88:6: Warning: missing </span> before <p>
rtext_loadsave.html:88:97: Warning: inserting implicit <span>
rtext_loadsave.html:91:6: Warning: missing </span> before <p>
rtext_loadsave.html:91:97: Warning: inserting implicit <span>
rtext_loadsave.html:94:6: Warning: missing </span> before <p>
rtext_loadsave.html:94:103: Warning: inserting implicit <span>
rtext_loadsave.html:97:6: Warning: missing </span> before <p>
rtext_loadsave.html:97:95: Warning: inserting implicit <span>
rtext_loadsave.html:100:6: Warning: missing </span> before <p>
rtext_loadsave.html:100:92: Warning: inserting implicit <span>
rtext_loadsave.html:103:6: Warning: missing </span> before <p>
rtext_loadsave.html:103:95: Warning: inserting implicit <span>
rtext_loadsave.html:106:6: Warning: missing </span> before <p>
rtext_loadsave.html:106:96: Warning: inserting implicit <span>
rtext_loadsave.html:109:6: Warning: missing </span> before <p>
rtext_loadsave.html:109:92: Warning: inserting implicit <span>
rtext_loadsave.html:112:6: Warning: missing </span> before <p>
rtext_loadsave.html:112:88: Warning: inserting implicit <span>
rtext_loadsave.html:115:6: Warning: missing </span> before <p>
rtext_loadsave.html:115:94: Warning: inserting implicit <span>
rtext_loadsave.html:118:6: Warning: missing </span> before <p>
rtext_loadsave.html:118:92: Warning: inserting implicit <span>
rtext_loadsave.html:121:6: Warning: missing </span> before <p>
rtext_loadsave.html:121:98: Warning: inserting implicit <span>
rtext_loadsave.html:124:6: Warning: missing </span> before <p>
rtext_loadsave.html:124:93: Warning: inserting implicit <span>
rtext_loadsave.html:70:6: Warning: trimming empty <span>
rtext_loadsave.html:73:6: Warning: trimming empty <span>
rtext_loadsave.html:76:6: Warning: trimming empty <span>
rtext_loadsave.html:79:6: Warning: trimming empty <span>
rtext_loadsave.html:82:6: Warning: trimming empty <span>
rtext_loadsave.html:85:6: Warning: trimming empty <span>
rtext_loadsave.html:88:6: Warning: trimming empty <span>
rtext_loadsave.html:91:6: Warning: trimming empty <span>
rtext_loadsave.html:94:6: Warning: trimming empty <span>
rtext_loadsave.html:97:6: Warning: trimming empty <span>
rtext_loadsave.html:100:6: Warning: trimming empty <span>
rtext_loadsave.html:103:6: Warning: trimming empty <span>
rtext_loadsave.html:106:6: Warning: trimming empty <span>
rtext_loadsave.html:109:6: Warning: trimming empty <span>
rtext_loadsave.html:112:6: Warning: trimming empty <span>
rtext_loadsave.html:115:6: Warning: trimming empty <span>
rtext_loadsave.html:118:6: Warning: trimming empty <span>
rtext_loadsave.html:121:6: Warning: trimming empty <span>
rtext_loadsave.html:124:6: Warning: trimming empty <span>
rtext_tokenize.html:76:6: Warning: missing </span> before <p>
rtext_tokenize.html:76:96: Warning: inserting implicit <span>
rtext_tokenize.html:79:6: Warning: missing </span> before <p>
rtext_tokenize.html:79:94: Warning: inserting implicit <span>
rtext_tokenize.html:82:6: Warning: missing </span> before <p>
rtext_tokenize.html:82:93: Warning: inserting implicit <span>
rtext_tokenize.html:85:6: Warning: missing </span> before <p>
rtext_tokenize.html:85:98: Warning: inserting implicit <span>
rtext_tokenize.html:88:6: Warning: missing </span> before <p>
rtext_tokenize.html:88:98: Warning: inserting implicit <span>
rtext_tokenize.html:91:6: Warning: missing </span> before <p>
rtext_tokenize.html:91:92: Warning: inserting implicit <span>
rtext_tokenize.html:94:6: Warning: missing </span> before <p>
rtext_tokenize.html:94:97: Warning: inserting implicit <span>
rtext_tokenize.html:97:6: Warning: missing </span> before <p>
rtext_tokenize.html:97:97: Warning: inserting implicit <span>
rtext_tokenize.html:100:6: Warning: missing </span> before <p>
rtext_tokenize.html:100:103: Warning: inserting implicit <span>
rtext_tokenize.html:103:6: Warning: missing </span> before <p>
rtext_tokenize.html:103:95: Warning: inserting implicit <span>
rtext_tokenize.html:106:6: Warning: missing </span> before <p>
rtext_tokenize.html:106:92: Warning: inserting implicit <span>
rtext_tokenize.html:109:6: Warning: missing </span> before <p>
rtext_tokenize.html:109:95: Warning: inserting implicit <span>
rtext_tokenize.html:112:6: Warning: missing </span> before <p>
rtext_tokenize.html:112:96: Warning: inserting implicit <span>
rtext_tokenize.html:115:6: Warning: missing </span> before <p>
rtext_tokenize.html:115:92: Warning: inserting implicit <span>
rtext_tokenize.html:118:6: Warning: missing </span> before <p>
rtext_tokenize.html:118:88: Warning: inserting implicit <span>
rtext_tokenize.html:121:6: Warning: missing </span> before <p>
rtext_tokenize.html:121:94: Warning: inserting implicit <span>
rtext_tokenize.html:124:6: Warning: missing </span> before <p>
rtext_tokenize.html:124:92: Warning: inserting implicit <span>
rtext_tokenize.html:127:6: Warning: missing </span> before <p>
rtext_tokenize.html:127:98: Warning: inserting implicit <span>
rtext_tokenize.html:130:6: Warning: missing </span> before <p>
rtext_tokenize.html:130:93: Warning: inserting implicit <span>
rtext_tokenize.html:133:6: Warning: missing </span> before <p>
rtext_tokenize.html:133:92: Warning: inserting implicit <span>
rtext_tokenize.html:136:6: Warning: missing </span> before <p>
rtext_tokenize.html:136:92: Warning: inserting implicit <span>
rtext_tokenize.html:139:6: Warning: missing </span> before <p>
rtext_tokenize.html:139:96: Warning: inserting implicit <span>
rtext_tokenize.html:142:6: Warning: missing </span> before <p>
rtext_tokenize.html:142:99: Warning: inserting implicit <span>
rtext_tokenize.html:145:6: Warning: missing </span> before <p>
rtext_tokenize.html:145:96: Warning: inserting implicit <span>
rtext_tokenize.html:148:6: Warning: missing </span> before <p>
rtext_tokenize.html:148:99: Warning: inserting implicit <span>
rtext_tokenize.html:76:6: Warning: trimming empty <span>
rtext_tokenize.html:79:6: Warning: trimming empty <span>
rtext_tokenize.html:82:6: Warning: trimming empty <span>
rtext_tokenize.html:85:6: Warning: trimming empty <span>
rtext_tokenize.html:88:6: Warning: trimming empty <span>
rtext_tokenize.html:91:6: Warning: trimming empty <span>
rtext_tokenize.html:94:6: Warning: trimming empty <span>
rtext_tokenize.html:97:6: Warning: trimming empty <span>
rtext_tokenize.html:100:6: Warning: trimming empty <span>
rtext_tokenize.html:103:6: Warning: trimming empty <span>
rtext_tokenize.html:106:6: Warning: trimming empty <span>
rtext_tokenize.html:109:6: Warning: trimming empty <span>
rtext_tokenize.html:112:6: Warning: trimming empty <span>
rtext_tokenize.html:115:6: Warning: trimming empty <span>
rtext_tokenize.html:118:6: Warning: trimming empty <span>
rtext_tokenize.html:121:6: Warning: trimming empty <span>
rtext_tokenize.html:124:6: Warning: trimming empty <span>
rtext_tokenize.html:127:6: Warning: trimming empty <span>
rtext_tokenize.html:130:6: Warning: trimming empty <span>
rtext_tokenize.html:133:6: Warning: trimming empty <span>
rtext_tokenize.html:136:6: Warning: trimming empty <span>
rtext_tokenize.html:139:6: Warning: trimming empty <span>
rtext_tokenize.html:142:6: Warning: trimming empty <span>
rtext_tokenize.html:145:6: Warning: trimming empty <span>
rtext_tokenize.html:148:6: Warning: trimming empty <span>
- checking for non-standard things in the check directory ... OK
- checking for detritus in the temp directory ... OK
- DONE
Status: 3 NOTEs