- using R Under development (unstable) (2025-10-22 r88968)
 
- using platform: x86_64-pc-linux-gnu
 
- R was compiled by
    clang version 21.1.4
    flang version 21.1.4
 
- running under: Fedora Linux 42 (Workstation Edition)
 
- using session charset: UTF-8
 
- using option ‘--no-stop-on-test-error’
 
- checking for file ‘rbedrock/DESCRIPTION’ ... OK
 
- this is package ‘rbedrock’ version ‘0.4.1’
 
- package encoding: UTF-8
 
- checking package namespace information ... OK
 
- checking package dependencies ... OK
 
- checking if this is a source package ... OK
 
- checking if there is a namespace ... OK
 
- checking for executable files ... OK
 
- checking for hidden files and directories ... OK
 
- checking for portable file names ... OK
 
- checking for sufficient/correct file permissions ... OK
 
- checking whether package ‘rbedrock’ can be installed ... [162s/192s] OK
See the install log for details.
 
- used C compiler: ‘clang version 21.1.4’
 
- used C++ compiler: ‘clang version 21.1.4’
 
- checking installed package size ... OK
 
- checking package directory ... OK
 
- checking DESCRIPTION meta-information ... OK
 
- checking top-level files ... OK
 
- checking for left-over files ... OK
 
- checking index information ... OK
 
- checking package subdirectories ... OK
 
- checking code files for non-ASCII characters ... OK
 
- checking R files for syntax errors ... OK
 
- checking whether the package can be loaded ... OK
 
- checking whether the package can be loaded with stated dependencies ... OK
 
- checking whether the package can be unloaded cleanly ... OK
 
- checking whether the namespace can be loaded with stated dependencies ... OK
 
- checking whether the namespace can be unloaded cleanly ... OK
 
- checking loading without being on the library search path ... OK
 
- checking whether startup messages can be suppressed ... OK
 
- checking use of S3 registration ... OK
 
- checking dependencies in R code ... OK
 
- checking S3 generic/method consistency ... OK
 
- checking replacement functions ... OK
 
- checking foreign function calls ... OK
 
- checking R code for possible problems ... [21s/25s] OK
 
- checking Rd files ... OK
 
- checking Rd metadata ... OK
 
- checking Rd line widths ... OK
 
- checking Rd cross-references ... INFO
Undeclared package ‘withr’ in Rd xrefs
 
- checking for missing documentation entries ... OK
 
- checking for code/documentation mismatches ... OK
 
- checking Rd \usage sections ... OK
 
- checking Rd contents ... OK
 
- checking for unstated dependencies in examples ... OK
 
- checking contents of ‘data’ directory ... OK
 
- checking data for non-ASCII characters ... OK
 
- checking LazyData ... OK
 
- checking data for ASCII and uncompressed saves ... OK
 
- checking line endings in shell scripts ... OK
 
- checking line endings in C/C++/Fortran sources/headers ... OK
 
- checking line endings in Makefiles ... OK
 
- checking compilation flags in Makevars ... OK
 
- checking for GNU extensions in Makefiles ... INFO
GNU make is a SystemRequirements.
 
- checking for portable use of $(BLAS_LIBS) and $(LAPACK_LIBS) ... OK
 
- checking use of PKG_*FLAGS in Makefiles ... OK
 
- checking use of SHLIB_OPENMP_*FLAGS in Makefiles ... OK
 
- checking include directives in Makefiles ... OK
 
- checking pragmas in C/C++ headers and code ... OK
 
- checking compilation flags used ... OK
 
- checking compiled code ... OK
 
- checking examples ... OK
 
- checking for unstated dependencies in ‘tests’ ... OK
 
- checking tests ... [15s/19s] OK
  Running ‘spelling.R’
  Running ‘testthat.R’ [15s/17s]
 
- checking PDF version of manual ... [9s/12s] OK
 
- checking HTML version of manual ... OK
 
- checking for non-standard things in the check directory ... OK
 
- checking for detritus in the temp directory ... OK
 
- DONE
 
Status: OK