- using R Under development (unstable) (2022-08-14 r82716)
- using platform: x86_64-pc-linux-gnu (64-bit)
- using session charset: UTF-8
- using option ‘--no-stop-on-test-error’
- checking for file ‘raveio/DESCRIPTION’ ... OK
- checking extension type ... Package
- this is package ‘raveio’ version ‘0.0.7’
- package encoding: UTF-8
- checking package namespace information ... OK
- checking package dependencies ... OK
- checking if this is a source package ... OK
- checking if there is a namespace ... OK
- checking for executable files ... OK
- checking for hidden files and directories ... OK
- checking for portable file names ... OK
- checking for sufficient/correct file permissions ... OK
- checking whether package ‘raveio’ can be installed ... [33s/84s] OK
- checking installed package size ... OK
- checking package directory ... OK
- checking DESCRIPTION meta-information ... OK
- checking top-level files ... OK
- checking for left-over files ... OK
- checking index information ... OK
- checking package subdirectories ... OK
- checking R files for non-ASCII characters ... OK
- checking R files for syntax errors ... OK
- checking whether the package can be loaded ... OK
- checking whether the package can be loaded with stated dependencies ... OK
- checking whether the package can be unloaded cleanly ... OK
- checking whether the namespace can be loaded with stated dependencies ... OK
- checking whether the namespace can be unloaded cleanly ... OK
- checking loading without being on the library search path ... OK
- checking use of S3 registration ... OK
- checking dependencies in R code ... OK
- checking S3 generic/method consistency ... OK
- checking replacement functions ... OK
- checking foreign function calls ... OK
- checking R code for possible problems ... [39s/123s] OK
- checking Rd files ... OK
- checking Rd metadata ... OK
- checking Rd line widths ... OK
- checking Rd cross-references ... OK
- checking for missing documentation entries ... OK
- checking for code/documentation mismatches ... OK
- checking Rd \usage sections ... OK
- checking Rd contents ... OK
- checking for unstated dependencies in examples ... OK
- checking examples ... [10s/32s] OK
- checking for unstated dependencies in ‘tests’ ... OK
- checking tests ... [7s/14s] OK
Running ‘testthat.R’ [6s/13s]
- checking PDF version of manual ... [18s/47s] OK
- checking HTML version of manual ... [5s/12s] NOTE
Found the following HTML validation problems:
ECoGTensor.html:54:5: Warning: missing </span> before </li>
ECoGTensor.html:55:5: Warning: inserting implicit <span>
ECoGTensor.html:55:5: Warning: missing </span> before </li>
ECoGTensor.html:56:5: Warning: inserting implicit <span>
ECoGTensor.html:56:5: Warning: missing </span> before </li>
ECoGTensor.html:57:5: Warning: inserting implicit <span>
ECoGTensor.html:57:5: Warning: missing </span> before </li>
ECoGTensor.html:58:5: Warning: inserting implicit <span>
ECoGTensor.html:58:5: Warning: missing </span> before </li>
ECoGTensor.html:59:5: Warning: inserting implicit <span>
ECoGTensor.html:59:5: Warning: missing </span> before </li>
ECoGTensor.html:60:5: Warning: inserting implicit <span>
ECoGTensor.html:60:5: Warning: missing </span> before </li>
ECoGTensor.html:61:5: Warning: inserting implicit <span>
ECoGTensor.html:61:5: Warning: missing </span> before </li>
ECoGTensor.html:62:5: Warning: inserting implicit <span>
ECoGTensor.html:62:5: Warning: missing </span> before </li>
ECoGTensor.html:63:5: Warning: inserting implicit <span>
ECoGTensor.html:63:5: Warning: missing </span> before </li>
ECoGTensor.html:68:1: Warning: inserting implicit <span>
ECoGTensor.html:68:1: Warning: missing </span> before <h4>
ECoGTensor.html:72:5: Warning: inserting implicit <span>
ECoGTensor.html:74:4: Warning: inserting implicit <span>
ECoGTensor.html:78:1: Warning: inserting implicit <span>
ECoGTensor.html:78:1: Warning: missing </span> before <h5>
ECoGTensor.html:78:5: Warning: inserting implicit <span>
ECoGTensor.html:80:16: Warning: inserting implicit <span>
ECoGTensor.html:80:16: Warning: missing </span> before <pre>
ECoGTensor.html:84:5: Warning: inserting implicit <span>
ECoGTensor.html:87:1: Warning: inserting implicit <span>
ECoGTensor.html:87:1: Warning: missing </span> before <dl>
ECoGTensor.html:89:5: Warning: inserting implicit <span>
ECoGTensor.html:89:40: Warning: inserting implicit <span>
ECoGTensor.html:89:40: Warning: missing </span> before <p>
ECoGTensor.html:89:43: Warning: inserting implicit <span>
ECoGTensor.html:91:5: Warning: inserting implicit <span>
ECoGTensor.html:91:37: Warning: inserting implicit <span>
ECoGTensor.html:91:37: Warning: missing </span> before <p>
ECoGTensor.html:91:40: Warning: inserting implicit <span>
ECoGTensor.html:99:5: Warning: inserting implicit <span>
ECoGTensor.html:101:4: Warning: inserting implicit <span>
ECoGTensor.html:106:1: Warning: inserting implicit <span>
ECoGTensor.html:106:1: Warning: missing </span> before <hr>
ECoGTensor.html:107:1: Warning: inserting implicit <span>
ECoGTensor.html:107:1: Warning: missing </span> before <h4>
ECoGTensor.html:111:5: Warning: inserting implicit <span>
ECoGTensor.html:113:4: Warning: inserting implicit <span>
ECoGTensor.html:117:1: Warning: inserting implicit <span>
ECoGTensor.html:117:1: Warning: missing </span> before <h5>
ECoGTensor.html:117:5: Warning: inserting implicit <span>
ECoGTensor.html:119:16: Warning: inserting implicit <span>
ECoGTensor.html:119:16: Warning: missing </span> before <pre>
ECoGTensor.html:134:5: Warning: inserting implicit <span>
ECoGTensor.html:137:1: Warning: inserting implicit <span>
ECoGTensor.html:137:1: Warning: missing </span> before <dl>
ECoGTensor.html:139:5: Warning: inserting implicit <span>
ECoGTensor.html:139:31: Warning: inserting implicit <span>
ECoGTensor.html:139:31: Warning: missing </span> before <p>
ECoGTensor.html:139:34: Warning: inserting implicit <span>
ECoGTensor.html:141:5: Warning: inserting implicit <span>
ECoGTensor.html:141:30: Warning: inserting implicit <span>
ECoGTensor.html:141:30: Warning: missing </span> before <p>
ECoGTensor.html:141:33: Warning: inserting implicit <span>
ECoGTensor.html:143:5: Warning: inserting implicit <span>
ECoGTensor.html:143:35: Warning: inserting implicit <span>
ECoGTensor.html:143:35: Warning: missing </span> before <p>
ECoGTensor.html:143:38: Warning: inserting implicit <span>
ECoGTensor.html:145:5: Warning: inserting implicit <span>
ECoGTensor.html:145:35: Warning: inserting implicit <span>
ECoGTensor.html:145:35: Warning: missing </span> before <p>
ECoGTensor.html:145:38: Warning: inserting implicit <span>
ECoGTensor.html:148:5: Warning: inserting implicit <span>
ECoGTensor.html:148:33: Warning: inserting implicit <span>
ECoGTensor.html:148:33: Warning: missing </span> before <p>
ECoGTensor.html:148:36: Warning: inserting implicit <span>
ECoGTensor.html:150:5: Warning: inserting implicit <span>
ECoGTensor.html:150:36: Warning: inserting implicit <span>
ECoGTensor.html:150:36: Warning: missing </span> before <p>
ECoGTensor.html:150:39: Warning: inserting implicit <span>
ECoGTensor.html:153:5: Warning: inserting implicit <span>
ECoGTensor.html:153:36: Warning: inserting implicit <span>
ECoGTensor.html:153:36: Warning: missing </span> before <p>
ECoGTensor.html:153:39: Warning: inserting implicit <span>
ECoGTensor.html:155:5: Warning: inserting implicit <span>
ECoGTensor.html:155:38: Warning: inserting implicit <span>
ECoGTensor.html:155:38: Warning: missing </span> before <p>
ECoGTensor.html:155:41: Warning: inserting implicit <span>
ECoGTensor.html:158:5: Warning: inserting implicit <span>
ECoGTensor.html:158:36: Warning: inserting implicit <span>
ECoGTensor.html:158:36: Warning: missing </span> before <p>
ECoGTensor.html:158:39: Warning: inserting implicit <span>
ECoGTensor.html:161:5: Warning: inserting implicit <span>
ECoGTensor.html:161:30: Warning: inserting implicit <span>
ECoGTensor.html:161:30: Warning: missing </span> before <p>
ECoGTensor.html:161:33: Warning: inserting implicit <span>
ECoGTensor.html:169:5: Warning: inserting implicit <span>
ECoGTensor.html:171:4: Warning: inserting implicit <span>
ECoGTensor.html:177:1: Warning: inserting implicit <span>
ECoGTensor.html:177:1: Warning: missing </span> before <h3>
ECoGTensor.html:177:5: Warning: inserting implicit <span>
ECoGTensor.html:179:4: Warning: inserting implicit <span>
ECoGTensor.html:183:1: Warning: inserting implicit <span>
ECoGTensor.html:78:1: Warning: trimming empty <span>
ECoGTensor.html:80:16: Warning: trimming empty <span>
ECoGTensor.html:87:1: Warning: trimming empty <span>
ECoGTensor.html:89:40: Warning: trimming empty <span>
ECoGTensor.html:91:37: Warning: trimming empty <span>
ECoGTensor.html:106:1: Warning: trimming empty <span>
ECoGTensor.html:117:1: Warning: trimming empty <span>
ECoGTensor.html:119:16: Warning: trimming empty <span>
ECoGTensor.html:137:1: Warning: trimming empty <span>
ECoGTensor.html:139:31: Warning: trimming empty <span>
ECoGTensor.html:141:30: Warning: trimming empty <span>
ECoGTensor.html:143:35: Warning: trimming empty <span>
ECoGTensor.html:145:35: Warning: trimming empty <span>
ECoGTensor.html:148:33: Warning: trimming empty <span>
ECoGTensor.html:150:36: Warning: trimming empty <span>
ECoGTensor.html:153:36: Warning: trimming empty <span>
ECoGTensor.html:155:38: Warning: trimming empty <span>
ECoGTensor.html:158:36: Warning: trimming empty <span>
ECoGTensor.html:161:30: Warning: trimming empty <span>
ECoGTensor.html:177:1: Warning: trimming empty <span>
ECoGTensor.html:183:1: Warning: trimming empty <span>
LFP_electrode.html:112:5: Warning: missing </span> before </li>
LFP_electrode.html:117:1: Warning: inserting implicit <span>
LFP_electrode.html:117:1: Warning: missing </span> before <h4>
LFP_electrode.html:121:5: Warning: inserting implicit <span>
LFP_electrode.html:123:4: Warning: inserting implicit <span>
LFP_electrode.html:127:1: Warning: inserting implicit <span>
LFP_electrode.html:127:1: Warning: missing </span> before <h5>
LFP_electrode.html:127:5: Warning: inserting implicit <span>
LFP_electrode.html:129:16: Warning: inserting implicit <span>
LFP_electrode.html:129:16: Warning: missing </span> before <pre>
LFP_electrode.html:133:1: Warning: inserting implicit <span>
LFP_electrode.html:133:1: Warning: missing </span> before <h4>
LFP_electrode.html:137:5: Warning: inserting implicit <span>
LFP_electrode.html:139:4: Warning: inserting implicit <span>
LFP_electrode.html:143:1: Warning: inserting implicit <span>
LFP_electrode.html:143:1: Warning: missing </span> before <h5>
LFP_electrode.html:143:5: Warning: inserting implicit <span>
LFP_electrode.html:145:16: Warning: inserting implicit <span>
LFP_electrode.html:145:16: Warning: missing </span> before <pre>
LFP_electrode.html:149:5: Warning: inserting implicit <span>
LFP_electrode.html:152:1: Warning: inserting implicit <span>
LFP_electrode.html:152:1: Warning: missing </span> before <dl>
LFP_electrode.html:154:5: Warning: inserting implicit <span>
LFP_electrode.html:154:36: Warning: inserting implicit <span>
LFP_electrode.html:154:36: Warning: missing </span> before <p>
LFP_electrode.html:154:39: Warning: inserting implicit <span>
LFP_electrode.html:162:1: Warning: inserting implicit <span>
LFP_electrode.html:162:1: Warning: missing </span> before <h4>
LFP_electrode.html:166:5: Warning: inserting implicit <span>
LFP_electrode.html:168:4: Warning: inserting implicit <span>
LFP_electrode.html:172:1: Warning: inserting implicit <span>
LFP_electrode.html:172:1: Warning: missing </span> before <h5>
LFP_electrode.html:172:5: Warning: inserting implicit <span>
LFP_electrode.html:174:16: Warning: inserting implicit <span>
LFP_electrode.html:174:16: Warning: missing </span> before <pre>
LFP_electrode.html:178:5: Warning: inserting implicit <span>
LFP_electrode.html:181:1: Warning: inserting implicit <span>
LFP_electrode.html:181:1: Warning: missing </span> before <dl>
LFP_electrode.html:183:5: Warning: inserting implicit <span>
LFP_electrode.html:183:56: Warning: inserting implicit <span>
LFP_electrode.html:183:56: Warning: missing </span> before <p>
LFP_electrode.html:183:59: Warning: inserting implicit <span>
LFP_electrode.html:192:1: Warning: inserting implicit <span>
LFP_electrode.html:192:1: Warning: missing </span> before <h4>
LFP_electrode.html:196:5: Warning: inserting implicit <span>
LFP_electrode.html:198:4: Warning: inserting implicit <span>
LFP_electrode.html:202:1: Warning: inserting implicit <span>
LFP_electrode.html:202:1: Warning: missing </span> before <h5>
LFP_electrode.html:202:5: Warning: inserting implicit <span>
LFP_electrode.html:204:16: Warning: inserting implicit <span>
LFP_electrode.html:204:16: Warning: missing </span> before <pre>
LFP_electrode.html:208:5: Warning: inserting implicit <span>
LFP_electrode.html:211:1: Warning: inserting implicit <span>
LFP_electrode.html:211:1: Warning: missing </span> before <dl>
LFP_electrode.html:213:5: Warning: inserting implicit <span>
LFP_electrode.html:213:33: Warning: inserting implicit <span>
LFP_electrode.html:213:33: Warning: missing </span> before <p>
LFP_electrode.html:213:36: Warning: inserting implicit <span>
LFP_electrode.html:221:5: Warning: inserting implicit <span>
LFP_electrode.html:223:4: Warning: inserting implicit <span>
LFP_electrode.html:228:1: Warning: inserting implicit <span>
LFP_electrode.html:228:1: Warning: missing </span> before <hr>
LFP_electrode.html:229:1: Warning: inserting implicit <span>
LFP_electrode.html:229:1: Warning: missing </span> before <h4>
LFP_electrode.html:233:5: Warning: inserting implicit <span>
LFP_electrode.html:235:4: Warning: inserting implicit <span>
LFP_electrode.html:239:1: Warning: inserting implicit <span>
LFP_electrode.html:239:1: Warning: missing </span> before <h5>
LFP_electrode.html:239:5: Warning: inserting implicit <span>
LFP_electrode.html:241:16: Warning: inserting implicit <span>
LFP_electrode.html:241:16: Warning: missing </span> before <pre>
LFP_electrode.html:245:5: Warning: inserting implicit <span>
LFP_electrode.html:248:1: Warning: inserting implicit <span>
LFP_electrode.html:248:1: Warning: missing </span> before <dl>
LFP_electrode.html:250:5: Warning: inserting implicit <span>
LFP_electrode.html:250:33: Warning: inserting implicit <span>
LFP_electrode.html:250:33: Warning: missing </span> before <p>
LFP_electrode.html:250:36: Warning: inserting implicit <span>
LFP_electrode.html:252:5: Warning: inserting implicit <span>
LFP_electrode.html:252:32: Warning: inserting implicit <span>
LFP_electrode.html:252:32: Warning: missing </span> before <p>
LFP_electrode.html:252:35: Warning: inserting implicit <span>
LFP_electrode.html:260:1: Warning: inserting implicit <span>
LFP_electrode.html:260:1: Warning: missing </span> before <h4>
LFP_electrode.html:264:5: Warning: inserting implicit <span>
LFP_electrode.html:266:4: Warning: inserting implicit <span>
LFP_electrode.html:270:1: Warning: inserting implicit <span>
LFP_electrode.html:270:1: Warning: missing </span> before <h5>
LFP_electrode.html:270:5: Warning: inserting implicit <span>
LFP_electrode.html:272:16: Warning: inserting implicit <span>
LFP_electrode.html:272:16: Warning: missing </span> before <pre>
LFP_electrode.html:276:5: Warning: inserting implicit <span>
LFP_electrode.html:279:1: Warning: inserting implicit <span>
LFP_electrode.html:279:1: Warning: missing </span> before <dl>
LFP_electrode.html:281:5: Warning: inserting implicit <span>
LFP_electrode.html:281:31: Warning: inserting implicit <span>
LFP_electrode.html:281:31: Warning: missing </span> before <p>
LFP_electrode.html:281:34: Warning: inserting implicit <span>
LFP_electrode.html:283:5: Warning: inserting implicit <span>
LFP_electrode.html:283:33: Warning: inserting implicit <span>
LFP_electrode.html:283:33: Warning: missing </span> before <p>
LFP_electrode.html:283:36: Warning: inserting implicit <span>
LFP_electrode.html:291:1: Warning: inserting implicit <span>
LFP_electrode.html:291:1: Warning: missing </span> before <h4>
LFP_electrode.html:295:5: Warning: inserting implicit <span>
LFP_electrode.html:297:4: Warning: inserting implicit <span>
LFP_electrode.html:301:1: Warning: inserting implicit <span>
LFP_electrode.html:301:1: Warning: missing </span> before <h5>
LFP_electrode.html:301:5: Warning: inserting implicit <span>
LFP_electrode.html:303:16: Warning: inserting implicit <span>
LFP_electrode.html:303:16: Warning: missing </span> before <pre>
LFP_electrode.html:307:5: Warning: inserting implicit <span>
LFP_electrode.html:310:1: Warning: inserting implicit <span>
LFP_electrode.html:310:1: Warning: missing </span> before <dl>
LFP_electrode.html:312:5: Warning: inserting implicit <span>
LFP_electrode.html:312:33: Warning: inserting implicit <span>
LFP_electrode.html:312:33: Warning: missing </span> before <p>
LFP_electrode.html:312:36: Warning: inserting implicit <span>
LFP_electrode.html:320:1: Warning: inserting implicit <span>
LFP_electrode.html:320:1: Warning: missing </span> before <h4>
LFP_electrode.html:324:5: Warning: inserting implicit <span>
LFP_electrode.html:326:4: Warning: inserting implicit <span>
LFP_electrode.html:330:1: Warning: inserting implicit <span>
LFP_electrode.html:330:1: Warning: missing </span> before <h5>
LFP_electrode.html:330:5: Warning: inserting implicit <span>
LFP_electrode.html:332:16: Warning: inserting implicit <span>
LFP_electrode.html:332:16: Warning: missing </span> before <pre>
LFP_electrode.html:338:5: Warning: inserting implicit <span>
LFP_electrode.html:341:1: Warning: inserting implicit <span>
LFP_electrode.html:341:1: Warning: missing </span> before <dl>
LFP_electrode.html:343:5: Warning: inserting implicit <span>
LFP_electrode.html:343:31: Warning: inserting implicit <span>
LFP_electrode.html:343:31: Warning: missing </span> before <p>
LFP_electrode.html:343:34: Warning: inserting implicit <span>
LFP_electrode.html:354:1: Warning: inserting implicit <span>
LFP_electrode.html:354:1: Warning: missing </span> before <h4>
LFP_electrode.html:358:5: Warning: inserting implicit <span>
LFP_electrode.html:360:4: Warning: inserting implicit <span>
LFP_electrode.html:365:1: Warning: inserting implicit <span>
LFP_electrode.html:365:1: Warning: missing </span> before <h5>
LFP_electrode.html:365:5: Warning: inserting implicit <span>
LFP_electrode.html:367:16: Warning: inserting implicit <span>
LFP_electrode.html:367:16: Warning: missing </span> before <pre>
LFP_electrode.html:375:5: Warning: inserting implicit <span>
LFP_electrode.html:378:1: Warning: inserting implicit <span>
LFP_electrode.html:378:1: Warning: missing </span> before <dl>
LFP_electrode.html:380:5: Warning: inserting implicit <span>
LFP_electrode.html:380:33: Warning: inserting implicit <span>
LFP_electrode.html:380:33: Warning: missing </span> before <p>
LFP_electrode.html:380:36: Warning: inserting implicit <span>
LFP_electrode.html:382:5: Warning: inserting implicit <span>
LFP_electrode.html:382:31: Warning: inserting implicit <span>
LFP_electrode.html:382:31: Warning: missing </span> before <p>
LFP_electrode.html:382:34: Warning: inserting implicit <span>
LFP_electrode.html:387:5: Warning: inserting implicit <span>
LFP_electrode.html:387:35: Warning: inserting implicit <span>
LFP_electrode.html:387:35: Warning: missing </span> before <p>
LFP_electrode.html:387:38: Warning: inserting implicit <span>
LFP_electrode.html:395:5: Warning: inserting implicit <span>
LFP_electrode.html:397:4: Warning: inserting implicit <span>
LFP_electrode.html:404:1: Warning: inserting implicit <span>
LFP_electrode.html:404:1: Warning: missing </span> before <hr>
LFP_electrode.html:405:1: Warning: inserting implicit <span>
LFP_electrode.html:405:1: Warning: missing </span> before <h4>
LFP_electrode.html:409:5: Warning: inserting implicit <span>
LFP_electrode.html:411:4: Warning: inserting implicit <span>
LFP_electrode.html:415:1: Warning: inserting implicit <span>
LFP_electrode.html:415:1: Warning: missing </span> before <h5>
LFP_electrode.html:415:5: Warning: inserting implicit <span>
LFP_electrode.html:417:16: Warning: inserting implicit <span>
LFP_electrode.html:417:16: Warning: missing </span> before <pre>
LFP_electrode.html:421:5: Warning: inserting implicit <span>
LFP_electrode.html:424:1: Warning: inserting implicit <span>
LFP_electrode.html:424:1: Warning: missing </span> before <dl>
LFP_electrode.html:426:5: Warning: inserting implicit <span>
LFP_electrode.html:426:30: Warning: inserting implicit <span>
LFP_electrode.html:426:30: Warning: missing </span> before <p>
LFP_electrode.html:426:33: Warning: inserting implicit <span>
LFP_electrode.html:434:1: Warning: inserting implicit <span>
LFP_electrode.html:434:1: Warning: missing </span> before <h4>
LFP_electrode.html:438:5: Warning: inserting implicit <span>
LFP_electrode.html:440:4: Warning: inserting implicit <span>
LFP_electrode.html:444:1: Warning: inserting implicit <span>
LFP_electrode.html:444:1: Warning: missing </span> before <h5>
LFP_electrode.html:444:5: Warning: inserting implicit <span>
LFP_electrode.html:446:16: Warning: inserting implicit <span>
LFP_electrode.html:446:16: Warning: missing </span> before <pre>
LFP_electrode.html:450:5: Warning: inserting implicit <span>
LFP_electrode.html:453:1: Warning: inserting implicit <span>
LFP_electrode.html:453:1: Warning: missing </span> before <dl>
LFP_electrode.html:455:5: Warning: inserting implicit <span>
LFP_electrode.html:455:30: Warning: inserting implicit <span>
LFP_electrode.html:455:30: Warning: missing </span> before <p>
LFP_electrode.html:455:33: Warning: inserting implicit <span>
LFP_electrode.html:463:1: Warning: inserting implicit <span>
LFP_electrode.html:463:1: Warning: missing </span> before <h4>
LFP_electrode.html:467:5: Warning: inserting implicit <span>
LFP_electrode.html:469:4: Warning: inserting implicit <span>
LFP_electrode.html:473:1: Warning: inserting implicit <span>
LFP_electrode.html:473:1: Warning: missing </span> before <h5>
LFP_electrode.html:473:5: Warning: inserting implicit <span>
LFP_electrode.html:475:16: Warning: inserting implicit <span>
LFP_electrode.html:475:16: Warning: missing </span> before <pre>
LFP_electrode.html:479:5: Warning: inserting implicit <span>
LFP_electrode.html:482:1: Warning: inserting implicit <span>
LFP_electrode.html:482:1: Warning: missing </span> before <dl>
LFP_electrode.html:484:5: Warning: inserting implicit <span>
LFP_electrode.html:484:31: Warning: inserting implicit <span>
LFP_electrode.html:484:31: Warning: missing </span> before <p>
LFP_electrode.html:484:34: Warning: inserting implicit <span>
LFP_electrode.html:493:5: Warning: inserting implicit <span>
LFP_electrode.html:127:1: Warning: trimming empty <span>
LFP_electrode.html:129:16: Warning: trimming empty <span>
LFP_electrode.html:143:1: Warning: trimming empty <span>
LFP_electrode.html:145:16: Warning: trimming empty <span>
LFP_electrode.html:152:1: Warning: trimming empty <span>
LFP_electrode.html:154:36: Warning: trimming empty <span>
LFP_electrode.html:172:1: Warning: trimming empty <span>
LFP_electrode.html:174:16: Warning: trimming empty <span>
LFP_electrode.html:181:1: Warning: trimming empty <span>
LFP_electrode.html:183:56: Warning: trimming empty <span>
LFP_electrode.html:202:1: Warning: trimming empty <span>
LFP_electrode.html:204:16: Warning: trimming empty <span>
LFP_electrode.html:211:1: Warning: trimming empty <span>
LFP_electrode.html:213:33: Warning: trimming empty <span>
LFP_electrode.html:228:1: Warning: trimming empty <span>
LFP_electrode.html:239:1: Warning: trimming empty <span>
LFP_electrode.html:241:16: Warning: trimming empty <span>
LFP_electrode.html:248:1: Warning: trimming empty <span>
LFP_electrode.html:250:33: Warning: trimming empty <span>
LFP_electrode.html:252:32: Warning: trimming empty <span>
LFP_electrode.html:270:1: Warning: trimming empty <span>
LFP_electrode.html:272:16: Warning: trimming empty <span>
LFP_electrode.html:279:1: Warning: trimming empty <span>
LFP_electrode.html:281:31: Warning: trimming empty <span>
LFP_electrode.html:283:33: Warning: trimming empty <span>
LFP_electrode.html:301:1: Warning: trimming empty <span>
LFP_electrode.html:303:16: Warning: trimming empty <span>
LFP_electrode.html:310:1: Warning: trimming empty <span>
LFP_electrode.html:312:33: Warning: trimming empty <span>
LFP_electrode.html:330:1: Warning: trimming empty <span>
LFP_electrode.html:332:16: Warning: trimming empty <span>
LFP_electrode.html:341:1: Warning: trimming empty <span>
LFP_electrode.html:343:31: Warning: trimming empty <span>
LFP_electrode.html:365:1: Warning: trimming empty <span>
LFP_electrode.html:367:16: Warning: trimming empty <span>
LFP_electrode.html:378:1: Warning: trimming empty <span>
LFP_electrode.html:380:33: Warning: trimming empty <span>
LFP_electrode.html:382:31: Warning: trimming empty <span>
LFP_electrode.html:387:35: Warning: trimming empty <span>
LFP_electrode.html:404:1: Warning: trimming empty <span>
LFP_electrode.html:415:1: Warning: trimming empty <span>
LFP_electrode.html:417:16: Warning: trimming empty <span>
LFP_electrode.html:424:1: Warning: trimming empty <span>
LFP_electrode.html:426:30: Warning: trimming empty <span>
LFP_electrode.html:444:1: Warning: trimming empty <span>
LFP_electrode.html:446:16: Warning: trimming empty <span>
LFP_electrode.html:453:1: Warning: trimming empty <span>
LFP_electrode.html:455:30: Warning: trimming empty <span>
LFP_electrode.html:473:1: Warning: trimming empty <span>
LFP_electrode.html:475:16: Warning: trimming empty <span>
LFP_electrode.html:482:1: Warning: trimming empty <span>
LFP_electrode.html:484:31: Warning: trimming empty <span>
LFP_reference.html:114:5: Warning: missing </span> before </li>
LFP_reference.html:119:1: Warning: inserting implicit <span>
LFP_reference.html:119:1: Warning: missing </span> before <h4>
LFP_reference.html:123:5: Warning: inserting implicit <span>
LFP_reference.html:125:4: Warning: inserting implicit <span>
LFP_reference.html:129:1: Warning: inserting implicit <span>
LFP_reference.html:129:1: Warning: missing </span> before <h5>
LFP_reference.html:129:5: Warning: inserting implicit <span>
LFP_reference.html:131:16: Warning: inserting implicit <span>
LFP_reference.html:131:16: Warning: missing </span> before <pre>
LFP_reference.html:135:1: Warning: inserting implicit <span>
LFP_reference.html:135:1: Warning: missing </span> before <h4>
LFP_reference.html:139:5: Warning: inserting implicit <span>
LFP_reference.html:141:4: Warning: inserting implicit <span>
LFP_reference.html:145:1: Warning: inserting implicit <span>
LFP_reference.html:145:1: Warning: missing </span> before <h5>
LFP_reference.html:145:5: Warning: inserting implicit <span>
LFP_reference.html:147:16: Warning: inserting implicit <span>
LFP_reference.html:147:16: Warning: missing </span> before <pre>
LFP_reference.html:151:5: Warning: inserting implicit <span>
LFP_reference.html:154:1: Warning: inserting implicit <span>
LFP_reference.html:154:1: Warning: missing </span> before <dl>
LFP_reference.html:156:5: Warning: inserting implicit <span>
LFP_reference.html:156:36: Warning: inserting implicit <span>
LFP_reference.html:156:36: Warning: missing </span> before <p>
LFP_reference.html:156:39: Warning: inserting implicit <span>
LFP_reference.html:164:1: Warning: inserting implicit <span>
LFP_reference.html:164:1: Warning: missing </span> before <h4>
LFP_reference.html:168:5: Warning: inserting implicit <span>
LFP_reference.html:170:4: Warning: inserting implicit <span>
LFP_reference.html:174:1: Warning: inserting implicit <span>
LFP_reference.html:174:1: Warning: missing </span> before <h5>
LFP_reference.html:174:5: Warning: inserting implicit <span>
LFP_reference.html:176:16: Warning: inserting implicit <span>
LFP_reference.html:176:16: Warning: missing </span> before <pre>
LFP_reference.html:180:5: Warning: inserting implicit <span>
LFP_reference.html:183:1: Warning: inserting implicit <span>
LFP_reference.html:183:1: Warning: missing </span> before <dl>
LFP_reference.html:185:5: Warning: inserting implicit <span>
LFP_reference.html:185:42: Warning: inserting implicit <span>
LFP_reference.html:185:42: Warning: missing </span> before <p>
LFP_reference.html:185:45: Warning: inserting implicit <span>
LFP_reference.html:194:1: Warning: inserting implicit <span>
LFP_reference.html:194:1: Warning: missing </span> before <h4>
LFP_reference.html:198:5: Warning: inserting implicit <span>
LFP_reference.html:200:4: Warning: inserting implicit <span>
LFP_reference.html:204:1: Warning: inserting implicit <span>
LFP_reference.html:204:1: Warning: missing </span> before <h5>
LFP_reference.html:204:5: Warning: inserting implicit <span>
LFP_reference.html:206:16: Warning: inserting implicit <span>
LFP_reference.html:206:16: Warning: missing </span> before <pre>
LFP_reference.html:210:5: Warning: inserting implicit <span>
LFP_reference.html:213:1: Warning: inserting implicit <span>
LFP_reference.html:213:1: Warning: missing </span> before <dl>
LFP_reference.html:215:5: Warning: inserting implicit <span>
LFP_reference.html:215:33: Warning: inserting implicit <span>
LFP_reference.html:215:33: Warning: missing </span> before <p>
LFP_reference.html:215:36: Warning: inserting implicit <span>
LFP_reference.html:223:5: Warning: inserting implicit <span>
LFP_reference.html:225:4: Warning: inserting implicit <span>
LFP_reference.html:230:1: Warning: inserting implicit <span>
LFP_reference.html:230:1: Warning: missing </span> before <hr>
LFP_reference.html:231:1: Warning: inserting implicit <span>
LFP_reference.html:231:1: Warning: missing </span> before <h4>
LFP_reference.html:235:5: Warning: inserting implicit <span>
LFP_reference.html:237:4: Warning: inserting implicit <span>
LFP_reference.html:241:1: Warning: inserting implicit <span>
LFP_reference.html:241:1: Warning: missing </span> before <h5>
LFP_reference.html:241:5: Warning: inserting implicit <span>
LFP_reference.html:243:16: Warning: inserting implicit <span>
LFP_reference.html:243:16: Warning: missing </span> before <pre>
LFP_reference.html:247:5: Warning: inserting implicit <span>
LFP_reference.html:250:1: Warning: inserting implicit <span>
LFP_reference.html:250:1: Warning: missing </span> before <dl>
LFP_reference.html:252:5: Warning: inserting implicit <span>
LFP_reference.html:252:33: Warning: inserting implicit <span>
LFP_reference.html:252:33: Warning: missing </span> before <p>
LFP_reference.html:252:36: Warning: inserting implicit <span>
LFP_reference.html:254:5: Warning: inserting implicit <span>
LFP_reference.html:254:32: Warning: inserting implicit <span>
LFP_reference.html:254:32: Warning: missing </span> before <p>
LFP_reference.html:254:35: Warning: inserting implicit <span>
LFP_reference.html:262:1: Warning: inserting implicit <span>
LFP_reference.html:262:1: Warning: missing </span> before <h4>
LFP_reference.html:266:5: Warning: inserting implicit <span>
LFP_reference.html:268:4: Warning: inserting implicit <span>
LFP_reference.html:272:1: Warning: inserting implicit <span>
LFP_reference.html:272:1: Warning: missing </span> before <h5>
LFP_reference.html:272:5: Warning: inserting implicit <span>
LFP_reference.html:274:16: Warning: inserting implicit <span>
LFP_reference.html:274:16: Warning: missing </span> before <pre>
LFP_reference.html:278:5: Warning: inserting implicit <span>
LFP_reference.html:281:1: Warning: inserting implicit <span>
LFP_reference.html:281:1: Warning: missing </span> before <dl>
LFP_reference.html:283:5: Warning: inserting implicit <span>
LFP_reference.html:283:31: Warning: inserting implicit <span>
LFP_reference.html:283:31: Warning: missing </span> before <p>
LFP_reference.html:283:34: Warning: inserting implicit <span>
LFP_reference.html:285:5: Warning: inserting implicit <span>
LFP_reference.html:285:33: Warning: inserting implicit <span>
LFP_reference.html:285:33: Warning: missing </span> before <p>
LFP_reference.html:285:36: Warning: inserting implicit <span>
LFP_reference.html:293:1: Warning: inserting implicit <span>
LFP_reference.html:293:1: Warning: missing </span> before <h4>
LFP_reference.html:297:5: Warning: inserting implicit <span>
LFP_reference.html:299:4: Warning: inserting implicit <span>
LFP_reference.html:303:1: Warning: inserting implicit <span>
LFP_reference.html:303:1: Warning: missing </span> before <h5>
LFP_reference.html:303:5: Warning: inserting implicit <span>
LFP_reference.html:305:16: Warning: inserting implicit <span>
LFP_reference.html:305:16: Warning: missing </span> before <pre>
LFP_reference.html:309:5: Warning: inserting implicit <span>
LFP_reference.html:312:1: Warning: inserting implicit <span>
LFP_reference.html:312:1: Warning: missing </span> before <dl>
LFP_reference.html:314:5: Warning: inserting implicit <span>
LFP_reference.html:314:33: Warning: inserting implicit <span>
LFP_reference.html:314:33: Warning: missing </span> before <p>
LFP_reference.html:314:36: Warning: inserting implicit <span>
LFP_reference.html:322:1: Warning: inserting implicit <span>
LFP_reference.html:322:1: Warning: missing </span> before <h4>
LFP_reference.html:326:5: Warning: inserting implicit <span>
LFP_reference.html:328:4: Warning: inserting implicit <span>
LFP_reference.html:332:1: Warning: inserting implicit <span>
LFP_reference.html:332:1: Warning: missing </span> before <h5>
LFP_reference.html:332:5: Warning: inserting implicit <span>
LFP_reference.html:334:16: Warning: inserting implicit <span>
LFP_reference.html:334:16: Warning: missing </span> before <pre>
LFP_reference.html:340:5: Warning: inserting implicit <span>
LFP_reference.html:343:1: Warning: inserting implicit <span>
LFP_reference.html:343:1: Warning: missing </span> before <dl>
LFP_reference.html:345:5: Warning: inserting implicit <span>
LFP_reference.html:345:31: Warning: inserting implicit <span>
LFP_reference.html:345:31: Warning: missing </span> before <p>
LFP_reference.html:345:34: Warning: inserting implicit <span>
LFP_reference.html:354:1: Warning: inserting implicit <span>
LFP_reference.html:354:1: Warning: missing </span> before <h4>
LFP_reference.html:358:5: Warning: inserting implicit <span>
LFP_reference.html:360:4: Warning: inserting implicit <span>
LFP_reference.html:365:1: Warning: inserting implicit <span>
LFP_reference.html:365:1: Warning: missing </span> before <h5>
LFP_reference.html:365:5: Warning: inserting implicit <span>
LFP_reference.html:367:16: Warning: inserting implicit <span>
LFP_reference.html:367:16: Warning: missing </span> before <pre>
LFP_reference.html:375:5: Warning: inserting implicit <span>
LFP_reference.html:378:1: Warning: inserting implicit <span>
LFP_reference.html:378:1: Warning: missing </span> before <dl>
LFP_reference.html:380:5: Warning: inserting implicit <span>
LFP_reference.html:380:33: Warning: inserting implicit <span>
LFP_reference.html:380:33: Warning: missing </span> before <p>
LFP_reference.html:380:36: Warning: inserting implicit <span>
LFP_reference.html:382:5: Warning: inserting implicit <span>
LFP_reference.html:382:31: Warning: inserting implicit <span>
LFP_reference.html:382:31: Warning: missing </span> before <p>
LFP_reference.html:382:34: Warning: inserting implicit <span>
LFP_reference.html:387:5: Warning: inserting implicit <span>
LFP_reference.html:387:35: Warning: inserting implicit <span>
LFP_reference.html:387:35: Warning: missing </span> before <p>
LFP_reference.html:387:38: Warning: inserting implicit <span>
LFP_reference.html:395:5: Warning: inserting implicit <span>
LFP_reference.html:397:4: Warning: inserting implicit <span>
LFP_reference.html:404:1: Warning: inserting implicit <span>
LFP_reference.html:404:1: Warning: missing </span> before <hr>
LFP_reference.html:405:1: Warning: inserting implicit <span>
LFP_reference.html:405:1: Warning: missing </span> before <h4>
LFP_reference.html:409:5: Warning: inserting implicit <span>
LFP_reference.html:411:4: Warning: inserting implicit <span>
LFP_reference.html:415:1: Warning: inserting implicit <span>
LFP_reference.html:415:1: Warning: missing </span> before <h5>
LFP_reference.html:415:5: Warning: inserting implicit <span>
LFP_reference.html:417:16: Warning: inserting implicit <span>
LFP_reference.html:417:16: Warning: missing </span> before <pre>
LFP_reference.html:421:5: Warning: inserting implicit <span>
LFP_reference.html:424:1: Warning: inserting implicit <span>
LFP_reference.html:424:1: Warning: missing </span> before <dl>
LFP_reference.html:426:5: Warning: inserting implicit <span>
LFP_reference.html:426:30: Warning: inserting implicit <span>
LFP_reference.html:426:30: Warning: missing </span> before <p>
LFP_reference.html:426:33: Warning: inserting implicit <span>
LFP_reference.html:434:1: Warning: inserting implicit <span>
LFP_reference.html:434:1: Warning: missing </span> before <h4>
LFP_reference.html:438:5: Warning: inserting implicit <span>
LFP_reference.html:440:4: Warning: inserting implicit <span>
LFP_reference.html:444:1: Warning: inserting implicit <span>
LFP_reference.html:444:1: Warning: missing </span> before <h5>
LFP_reference.html:444:5: Warning: inserting implicit <span>
LFP_reference.html:446:16: Warning: inserting implicit <span>
LFP_reference.html:446:16: Warning: missing </span> before <pre>
LFP_reference.html:450:5: Warning: inserting implicit <span>
LFP_reference.html:453:1: Warning: inserting implicit <span>
LFP_reference.html:453:1: Warning: missing </span> before <dl>
LFP_reference.html:455:5: Warning: inserting implicit <span>
LFP_reference.html:455:30: Warning: inserting implicit <span>
LFP_reference.html:455:30: Warning: missing </span> before <p>
LFP_reference.html:455:33: Warning: inserting implicit <span>
LFP_reference.html:463:1: Warning: inserting implicit <span>
LFP_reference.html:463:1: Warning: missing </span> before <h4>
LFP_reference.html:467:5: Warning: inserting implicit <span>
LFP_reference.html:469:4: Warning: inserting implicit <span>
LFP_reference.html:473:1: Warning: inserting implicit <span>
LFP_reference.html:473:1: Warning: missing </span> before <h5>
LFP_reference.html:473:5: Warning: inserting implicit <span>
LFP_reference.html:475:16: Warning: inserting implicit <span>
LFP_reference.html:475:16: Warning: missing </span> before <pre>
LFP_reference.html:479:5: Warning: inserting implicit <span>
LFP_reference.html:482:1: Warning: inserting implicit <span>
LFP_reference.html:482:1: Warning: missing </span> before <dl>
LFP_reference.html:484:5: Warning: inserting implicit <span>
LFP_reference.html:484:31: Warning: inserting implicit <span>
LFP_reference.html:484:31: Warning: missing </span> before <p>
LFP_reference.html:484:34: Warning: inserting implicit <span>
LFP_reference.html:493:5: Warning: inserting implicit <span>
LFP_reference.html:129:1: Warning: trimming empty <span>
LFP_reference.html:131:16: Warning: trimming empty <span>
LFP_reference.html:145:1: Warning: trimming empty <span>
LFP_reference.html:147:16: Warning: trimming empty <span>
LFP_reference.html:154:1: Warning: trimming empty <span>
LFP_reference.html:156:36: Warning: trimming empty <span>
LFP_reference.html:174:1: Warning: trimming empty <span>
LFP_reference.html:176:16: Warning: trimming empty <span>
LFP_reference.html:183:1: Warning: trimming empty <span>
LFP_reference.html:185:42: Warning: trimming empty <span>
LFP_reference.html:204:1: Warning: trimming empty <span>
LFP_reference.html:206:16: Warning: trimming empty <span>
LFP_reference.html:213:1: Warning: trimming empty <span>
LFP_reference.html:215:33: Warning: trimming empty <span>
LFP_reference.html:230:1: Warning: trimming empty <span>
LFP_reference.html:241:1: Warning: trimming empty <span>
LFP_reference.html:243:16: Warning: trimming empty <span>
LFP_reference.html:250:1: Warning: trimming empty <span>
LFP_reference.html:252:33: Warning: trimming empty <span>
LFP_reference.html:254:32: Warning: trimming empty <span>
LFP_reference.html:272:1: Warning: trimming empty <span>
LFP_reference.html:274:16: Warning: trimming empty <span>
LFP_reference.html:281:1: Warning: trimming empty <span>
LFP_reference.html:283:31: Warning: trimming empty <span>
LFP_reference.html:285:33: Warning: trimming empty <span>
LFP_reference.html:303:1: Warning: trimming empty <span>
LFP_reference.html:305:16: Warning: trimming empty <span>
LFP_reference.html:312:1: Warning: trimming empty <span>
LFP_reference.html:314:33: Warning: trimming empty <span>
LFP_reference.html:332:1: Warning: trimming empty <span>
LFP_reference.html:334:16: Warning: trimming empty <span>
LFP_reference.html:343:1: Warning: trimming empty <span>
LFP_reference.html:345:31: Warning: trimming empty <span>
LFP_reference.html:365:1: Warning: trimming empty <span>
LFP_reference.html:367:16: Warning: trimming empty <span>
LFP_reference.html:378:1: Warning: trimming empty <span>
LFP_reference.html:380:33: Warning: trimming empty <span>
LFP_reference.html:382:31: Warning: trimming empty <span>
LFP_reference.html:387:35: Warning: trimming empty <span>
LFP_reference.html:404:1: Warning: trimming empty <span>
LFP_reference.html:415:1: Warning: trimming empty <span>
LFP_reference.html:417:16: Warning: trimming empty <span>
LFP_reference.html:424:1: Warning: trimming empty <span>
LFP_reference.html:426:30: Warning: trimming empty <span>
LFP_reference.html:444:1: Warning: trimming empty <span>
LFP_reference.html:446:16: Warning: trimming empty <span>
LFP_reference.html:453:1: Warning: trimming empty <span>
LFP_reference.html:455:30: Warning: trimming empty <span>
LFP_reference.html:473:1: Warning: trimming empty <span>
LFP_reference.html:475:16: Warning: trimming empty <span>
LFP_reference.html:482:1: Warning: trimming empty <span>
LFP_reference.html:484:31: Warning: trimming empty <span>
- checking for non-standard things in the check directory ... OK
- checking for detritus in the temp directory ... OK
- DONE
Status: 1 NOTE