- using R Under development (unstable) (2021-02-26 r80040)
- using platform: x86_64-pc-linux-gnu (64-bit)
- using session charset: UTF-8
- using option ‘--no-stop-on-test-error’
- checking for file ‘poLCA/DESCRIPTION’ ... OK
- checking extension type ... Package
- this is package ‘poLCA’ version ‘1.4.1’
- checking package namespace information ... OK
- checking package dependencies ... OK
- checking if this is a source package ... OK
- checking if there is a namespace ... OK
- checking for executable files ... OK
- checking for hidden files and directories ... OK
- checking for portable file names ... OK
- checking for sufficient/correct file permissions ... OK
- checking whether package ‘poLCA’ can be installed ... OK
- checking installed package size ... OK
- checking package directory ... OK
- checking DESCRIPTION meta-information ... OK
- checking top-level files ... OK
- checking for left-over files ... OK
- checking index information ... OK
- checking package subdirectories ... OK
- checking R files for non-ASCII characters ... OK
- checking R files for syntax errors ... OK
- checking whether the package can be loaded ... OK
- checking whether the package can be loaded with stated dependencies ... OK
- checking whether the package can be unloaded cleanly ... OK
- checking whether the namespace can be loaded with stated dependencies ... OK
- checking whether the namespace can be unloaded cleanly ... OK
- checking loading without being on the library search path ... OK
- checking use of S3 registration ... OK
- checking dependencies in R code ... NOTE
Packages in Depends field not imported from:
‘MASS’ ‘scatterplot3d’
These packages need to be imported from (in the NAMESPACE file)
for when this namespace is loaded but not attached.
- checking S3 generic/method consistency ... OK
- checking replacement functions ... OK
- checking foreign function calls ... OK
- checking R code for possible problems ... [9s/13s] NOTE
plot.poLCA: no visible global function definition for ‘layout’
plot.poLCA: no visible global function definition for ‘par’
poLCA: no visible global function definition for ‘model.frame’
poLCA: no visible global function definition for ‘model.response’
poLCA: no visible global function definition for ‘model.matrix’
poLCA: no visible global function definition for ‘runif’
poLCA: no visible global function definition for ‘ginv’
poLCA: no visible global function definition for ‘flush.console’
poLCA.makeplot.dich: no visible global function definition for
‘scatterplot3d’
poLCA.makeplot.poly: no visible global function definition for
‘scatterplot3d’
poLCA.se: no visible global function definition for ‘ginv’
poLCA.simdata: no visible global function definition for ‘runif’
poLCA.simdata: no visible global function definition for ‘rnorm’
poLCA.table: no visible global function definition for ‘model.frame’
print.poLCA: no visible global function definition for ‘pt’
print.poLCA: no visible global function definition for ‘flush.console’
rmulti: no visible global function definition for ‘runif’
Undefined global functions or variables:
flush.console ginv layout model.frame model.matrix model.response par
pt rnorm runif scatterplot3d
Consider adding
importFrom("graphics", "layout", "par")
importFrom("stats", "model.frame", "model.matrix", "model.response",
"pt", "rnorm", "runif")
importFrom("utils", "flush.console")
to your NAMESPACE file.
- checking Rd files ... OK
- checking Rd metadata ... OK
- checking Rd line widths ... OK
- checking Rd cross-references ... NOTE
Undeclared package ‘flexmix’ in Rd xrefs
- checking for missing documentation entries ... OK
- checking for code/documentation mismatches ... OK
- checking Rd \usage sections ... OK
- checking Rd contents ... OK
- checking for unstated dependencies in examples ... OK
- checking contents of ‘data’ directory ... OK
- checking data for non-ASCII characters ... OK
- checking data for ASCII and uncompressed saves ... OK
- checking line endings in C/C++/Fortran sources/headers ... OK
- checking pragmas in C/C++ headers and code ... OK
- checking compilation flags used ... OK
- checking compiled code ... NOTE
File ‘poLCA/libs/poLCA.so’:
Found no calls to: ‘R_registerRoutines’, ‘R_useDynamicSymbols’
It is good practice to register native routines and to disable symbol
search.
See ‘Writing portable packages’ in the ‘Writing R Extensions’ manual.
- checking sizes of PDF files under ‘inst/doc’ ... OK
- checking installed files from ‘inst/doc’ ... OK
- checking examples ... [23s/31s] OK
- checking PDF version of manual ... OK
- checking for non-standard things in the check directory ... OK
- checking for detritus in the temp directory ... OK
- DONE
Status: 4 NOTEs